BEGIN:VCALENDAR
VERSION:2.0
PRODID:-//Good Shepherd Lutheran Church - ECPv6.15.13//NONSGML v1.0//EN
CALSCALE:GREGORIAN
METHOD:PUBLISH
X-WR-CALNAME:Good Shepherd Lutheran Church
X-ORIGINAL-URL:https://www.goodshepherdblm.org
X-WR-CALDESC:Events for Good Shepherd Lutheran Church
REFRESH-INTERVAL;VALUE=DURATION:PT1H
X-Robots-Tag:noindex
X-PUBLISHED-TTL:PT1H
BEGIN:VTIMEZONE
TZID:America/Chicago
BEGIN:DAYLIGHT
TZOFFSETFROM:-0600
TZOFFSETTO:-0500
TZNAME:CDT
DTSTART:20210314T080000
END:DAYLIGHT
BEGIN:STANDARD
TZOFFSETFROM:-0500
TZOFFSETTO:-0600
TZNAME:CST
DTSTART:20211107T070000
END:STANDARD
BEGIN:DAYLIGHT
TZOFFSETFROM:-0600
TZOFFSETTO:-0500
TZNAME:CDT
DTSTART:20220313T080000
END:DAYLIGHT
BEGIN:STANDARD
TZOFFSETFROM:-0500
TZOFFSETTO:-0600
TZNAME:CST
DTSTART:20221106T070000
END:STANDARD
BEGIN:DAYLIGHT
TZOFFSETFROM:-0600
TZOFFSETTO:-0500
TZNAME:CDT
DTSTART:20230312T080000
END:DAYLIGHT
BEGIN:STANDARD
TZOFFSETFROM:-0500
TZOFFSETTO:-0600
TZNAME:CST
DTSTART:20231105T070000
END:STANDARD
END:VTIMEZONE
BEGIN:VEVENT
DTSTART;TZID=America/Chicago:20220612T101500
DTEND;TZID=America/Chicago:20220612T101500
DTSTAMP:20260425T190339
CREATED:20220603T040557Z
LAST-MODIFIED:20220603T040557Z
UID:9011-1655028900-1655028900@www.goodshepherdblm.org
SUMMARY:Sunday School & Adult Bible Class
DESCRIPTION:
URL:https://www.goodshepherdblm.org/event/sunday-school-adult-bible-class-15/
LOCATION:Good Shepherd Lutheran Church\, 3516 White Eagle Drive\, Bloomington\, IL\, 61704\, United States
CATEGORIES:Bible Studies
END:VEVENT
BEGIN:VEVENT
DTSTART;TZID=America/Chicago:20220612T090000
DTEND;TZID=America/Chicago:20220612T090000
DTSTAMP:20260425T190339
CREATED:20220603T040407Z
LAST-MODIFIED:20220603T040407Z
UID:9009-1655024400-1655024400@www.goodshepherdblm.org
SUMMARY:Worship with Communion
DESCRIPTION:
URL:https://www.goodshepherdblm.org/event/worship-with-communion-23/
LOCATION:Good Shepherd Lutheran Church\, 3516 White Eagle Drive\, Bloomington\, IL\, 61704\, United States
CATEGORIES:Worship
END:VEVENT
BEGIN:VEVENT
DTSTART;VALUE=DATE:20220612
DTEND;VALUE=DATE:20220613
DTSTAMP:20260425T190339
CREATED:20220603T040243Z
LAST-MODIFIED:20220603T040243Z
UID:9007-1654992000-1655078399@www.goodshepherdblm.org
SUMMARY:TRINITY SUNDAY
DESCRIPTION:
URL:https://www.goodshepherdblm.org/event/trinity-sunday/
LOCATION:Good Shepherd Lutheran Church\, 3516 White Eagle Drive\, Bloomington\, IL\, 61704\, United States
END:VEVENT
BEGIN:VEVENT
DTSTART;TZID=America/Chicago:20220609T183000
DTEND;TZID=America/Chicago:20220609T183000
DTSTAMP:20260425T190339
CREATED:20220603T040057Z
LAST-MODIFIED:20220603T040057Z
UID:9005-1654799400-1654799400@www.goodshepherdblm.org
SUMMARY:Trustees Meeting
DESCRIPTION:
URL:https://www.goodshepherdblm.org/event/trustees-meeting-10/
LOCATION:Good Shepherd Lutheran Church\, 3516 White Eagle Drive\, Bloomington\, IL\, 61704\, United States
CATEGORIES:Board of Trustees
END:VEVENT
BEGIN:VEVENT
DTSTART;TZID=America/Chicago:20220605T101500
DTEND;TZID=America/Chicago:20220605T101500
DTSTAMP:20260425T190339
CREATED:20220603T035626Z
LAST-MODIFIED:20220603T035626Z
UID:9003-1654424100-1654424100@www.goodshepherdblm.org
SUMMARY:Sunday School & Adult Bible Class
DESCRIPTION:
URL:https://www.goodshepherdblm.org/event/sunday-school-adult-bible-class-14/
LOCATION:Good Shepherd Lutheran Church\, 3516 White Eagle Drive\, Bloomington\, IL\, 61704\, United States
CATEGORIES:Bible Studies
END:VEVENT
BEGIN:VEVENT
DTSTART;TZID=America/Chicago:20220605T090000
DTEND;TZID=America/Chicago:20220605T090000
DTSTAMP:20260425T190339
CREATED:20220603T035441Z
LAST-MODIFIED:20220603T035441Z
UID:9001-1654419600-1654419600@www.goodshepherdblm.org
SUMMARY:Worship with Communion
DESCRIPTION:
URL:https://www.goodshepherdblm.org/event/worship-with-communion-22/
LOCATION:Good Shepherd Lutheran Church\, 3516 White Eagle Drive\, Bloomington\, IL\, 61704\, United States
CATEGORIES:Worship
END:VEVENT
BEGIN:VEVENT
DTSTART;VALUE=DATE:20220605
DTEND;VALUE=DATE:20220606
DTSTAMP:20260425T190339
CREATED:20220603T035304Z
LAST-MODIFIED:20220603T035304Z
UID:8999-1654387200-1654473599@www.goodshepherdblm.org
SUMMARY:PENTECOST SUNDAY
DESCRIPTION:
URL:https://www.goodshepherdblm.org/event/pentecost-sunday/
LOCATION:Good Shepherd Lutheran Church\, 3516 White Eagle Drive\, Bloomington\, IL\, 61704\, United States
END:VEVENT
BEGIN:VEVENT
DTSTART;TZID=America/Chicago:20220603T190000
DTEND;TZID=America/Chicago:20220603T190000
DTSTAMP:20260425T190339
CREATED:20220603T034954Z
LAST-MODIFIED:20220603T034954Z
UID:8997-1654282800-1654282800@www.goodshepherdblm.org
SUMMARY:Prayer Time
DESCRIPTION:
URL:https://www.goodshepherdblm.org/event/prayer-time-71/
LOCATION:Good Shepherd Lutheran Church\, 3516 White Eagle Drive\, Bloomington\, IL\, 61704\, United States
CATEGORIES:Prayer Chain
END:VEVENT
BEGIN:VEVENT
DTSTART;VALUE=DATE:20220530
DTEND;VALUE=DATE:20220531
DTSTAMP:20260425T190339
CREATED:20220503T144033Z
LAST-MODIFIED:20220503T144033Z
UID:8971-1653868800-1653955199@www.goodshepherdblm.org
SUMMARY:Memorial Day\, Office Closed
DESCRIPTION:
URL:https://www.goodshepherdblm.org/event/memorial-day-office-closed/
LOCATION:Good Shepherd Lutheran Church\, 3516 White Eagle Drive\, Bloomington\, IL\, 61704\, United States
END:VEVENT
BEGIN:VEVENT
DTSTART;TZID=America/Chicago:20220529T101500
DTEND;TZID=America/Chicago:20220529T101500
DTSTAMP:20260425T190339
CREATED:20220430T034216Z
LAST-MODIFIED:20220430T034216Z
UID:8944-1653819300-1653819300@www.goodshepherdblm.org
SUMMARY:Sunday School\, Adult Bible Class
DESCRIPTION:
URL:https://www.goodshepherdblm.org/event/sunday-school-adult-bible-class-13/
LOCATION:Good Shepherd Lutheran Church\, 3516 White Eagle Drive\, Bloomington\, IL\, 61704\, United States
CATEGORIES:Bible Studies
END:VEVENT
BEGIN:VEVENT
DTSTART;TZID=America/Chicago:20220529T090000
DTEND;TZID=America/Chicago:20220529T090000
DTSTAMP:20260425T190339
CREATED:20220430T034052Z
LAST-MODIFIED:20220430T034052Z
UID:8942-1653814800-1653814800@www.goodshepherdblm.org
SUMMARY:Worship with Holy Communion
DESCRIPTION:
URL:https://www.goodshepherdblm.org/event/worship-with-holy-communion-338/
LOCATION:Good Shepherd Lutheran Church\, 3516 White Eagle Drive\, Bloomington\, IL\, 61704\, United States
CATEGORIES:Worship
END:VEVENT
BEGIN:VEVENT
DTSTART;TZID=America/Chicago:20220526T190000
DTEND;TZID=America/Chicago:20220526T190000
DTSTAMP:20260425T190339
CREATED:20220503T143933Z
LAST-MODIFIED:20220503T143933Z
UID:8969-1653591600-1653591600@www.goodshepherdblm.org
SUMMARY:Ascension Worship Service
DESCRIPTION:
URL:https://www.goodshepherdblm.org/event/ascension-worship-service-2/
LOCATION:Good Shepherd Lutheran Church\, 3516 White Eagle Drive\, Bloomington\, IL\, 61704\, United States
CATEGORIES:Worship
END:VEVENT
BEGIN:VEVENT
DTSTART;TZID=America/Chicago:20220522T101500
DTEND;TZID=America/Chicago:20220522T101500
DTSTAMP:20260425T190339
CREATED:20220430T033936Z
LAST-MODIFIED:20220430T033936Z
UID:8940-1653214500-1653214500@www.goodshepherdblm.org
SUMMARY:Sunday School\, Adult Bible Class
DESCRIPTION:
URL:https://www.goodshepherdblm.org/event/sunday-school-adult-bible-class-12/
LOCATION:Good Shepherd Lutheran Church\, 3516 White Eagle Drive\, Bloomington\, IL\, 61704\, United States
CATEGORIES:Bible Studies
END:VEVENT
BEGIN:VEVENT
DTSTART;TZID=America/Chicago:20220522T090000
DTEND;TZID=America/Chicago:20220522T090000
DTSTAMP:20260425T190339
CREATED:20220430T033755Z
LAST-MODIFIED:20220430T033755Z
UID:8938-1653210000-1653210000@www.goodshepherdblm.org
SUMMARY:Worship with Holy Communion
DESCRIPTION:
URL:https://www.goodshepherdblm.org/event/worship-with-holy-communion-337/
LOCATION:Good Shepherd Lutheran Church\, 3516 White Eagle Drive\, Bloomington\, IL\, 61704\, United States
CATEGORIES:Worship
END:VEVENT
BEGIN:VEVENT
DTSTART;TZID=America/Chicago:20220517T183000
DTEND;TZID=America/Chicago:20220517T183000
DTSTAMP:20260425T190339
CREATED:20220430T035505Z
LAST-MODIFIED:20220430T035505Z
UID:8958-1652812200-1652812200@www.goodshepherdblm.org
SUMMARY:Church Council Meeting
DESCRIPTION:
URL:https://www.goodshepherdblm.org/event/church-council-meeting-30/
LOCATION:Good Shepherd Lutheran Church\, 3516 White Eagle Drive\, Bloomington\, IL\, 61704\, United States
CATEGORIES:Church Council
END:VEVENT
BEGIN:VEVENT
DTSTART;TZID=America/Chicago:20220517T093000
DTEND;TZID=America/Chicago:20220517T093000
DTSTAMP:20260425T190339
CREATED:20220503T143820Z
LAST-MODIFIED:20220503T143820Z
UID:8967-1652779800-1652779800@www.goodshepherdblm.org
SUMMARY:Circuit Pastors' Conference
DESCRIPTION:
URL:https://www.goodshepherdblm.org/event/circuit-pastors-conference-3/
LOCATION:Good Shepherd Lutheran Church\, 3516 White Eagle Drive\, Bloomington\, IL\, 61704\, United States
CATEGORIES:Pastor's Conference
END:VEVENT
BEGIN:VEVENT
DTSTART;TZID=America/Chicago:20220517T093000
DTEND;TZID=America/Chicago:20220517T093000
DTSTAMP:20260425T190339
CREATED:20220430T035321Z
LAST-MODIFIED:20220430T035321Z
UID:8956-1652779800-1652779800@www.goodshepherdblm.org
SUMMARY:Ladies Bible Study
DESCRIPTION:
URL:https://www.goodshepherdblm.org/event/ladies-bible-study-20/
LOCATION:Good Shepherd Lutheran Church\, 3516 White Eagle Drive\, Bloomington\, IL\, 61704\, United States
CATEGORIES:Bible Studies
END:VEVENT
BEGIN:VEVENT
DTSTART;TZID=America/Chicago:20220515T101500
DTEND;TZID=America/Chicago:20220515T101500
DTSTAMP:20260425T190339
CREATED:20220430T033350Z
LAST-MODIFIED:20220430T033613Z
UID:8935-1652609700-1652609700@www.goodshepherdblm.org
SUMMARY:Sunday School\, Adult Bible Class
DESCRIPTION:
URL:https://www.goodshepherdblm.org/event/sunday-school-adult-bible-class-11/
LOCATION:Good Shepherd Lutheran Church\, 3516 White Eagle Drive\, Bloomington\, IL\, 61704\, United States
CATEGORIES:Bible Studies
END:VEVENT
BEGIN:VEVENT
DTSTART;TZID=America/Chicago:20220515T090000
DTEND;TZID=America/Chicago:20220515T090000
DTSTAMP:20260425T190339
CREATED:20220430T033010Z
LAST-MODIFIED:20220430T033010Z
UID:8933-1652605200-1652605200@www.goodshepherdblm.org
SUMMARY:Worship with Holy Communion
DESCRIPTION:
URL:https://www.goodshepherdblm.org/event/worship-with-holy-communion-336/
LOCATION:Good Shepherd Lutheran Church\, 3516 White Eagle Drive\, Bloomington\, IL\, 61704\, United States
CATEGORIES:Worship
END:VEVENT
BEGIN:VEVENT
DTSTART;TZID=America/Chicago:20220512T183000
DTEND;TZID=America/Chicago:20220512T183000
DTSTAMP:20260425T190339
CREATED:20220430T034744Z
LAST-MODIFIED:20220503T144615Z
UID:8950-1652380200-1652380200@www.goodshepherdblm.org
SUMMARY:Board of Trustees Meeting
DESCRIPTION:
URL:https://www.goodshepherdblm.org/event/board-trustees-meeting/
LOCATION:Good Shepherd Lutheran Church\, 3516 White Eagle Drive\, Bloomington\, IL\, 61704\, United States
CATEGORIES:Board of Trustees
END:VEVENT
BEGIN:VEVENT
DTSTART;VALUE=DATE:20220509
DTEND;VALUE=DATE:20220510
DTSTAMP:20260425T190339
CREATED:20220503T143605Z
LAST-MODIFIED:20220503T143605Z
UID:8964-1652054400-1652140799@www.goodshepherdblm.org
SUMMARY:District Pastors' Conference
DESCRIPTION:
URL:https://www.goodshepherdblm.org/event/district-pastors-conference/
LOCATION:Camp CILCA
CATEGORIES:Pastor's Conference
END:VEVENT
BEGIN:VEVENT
DTSTART;TZID=America/Chicago:20220508T140000
DTEND;TZID=America/Chicago:20220508T160000
DTSTAMP:20260425T190339
CREATED:20220503T144229Z
LAST-MODIFIED:20220503T144229Z
UID:8973-1652018400-1652025600@www.goodshepherdblm.org
SUMMARY:Open House Celebrating Holden's Graduation
DESCRIPTION:
URL:https://www.goodshepherdblm.org/event/open-house-celebrating-holdens-graduation/
LOCATION:Lueck Abode\, 2707 Essington\, Bloomington\, 61705
END:VEVENT
BEGIN:VEVENT
DTSTART;TZID=America/Chicago:20220508T101500
DTEND;TZID=America/Chicago:20220508T101500
DTSTAMP:20260425T190339
CREATED:20220427T040508Z
LAST-MODIFIED:20220427T040508Z
UID:8927-1652004900-1652004900@www.goodshepherdblm.org
SUMMARY:Sunday School\, Adult Bible Class
DESCRIPTION:
URL:https://www.goodshepherdblm.org/event/sunday-school-adult-bible-class-10/
LOCATION:Good Shepherd Lutheran Church\, 3516 White Eagle Drive\, Bloomington\, IL\, 61704\, United States
CATEGORIES:Bible Studies
END:VEVENT
BEGIN:VEVENT
DTSTART;TZID=America/Chicago:20220508T090000
DTEND;TZID=America/Chicago:20220508T090000
DTSTAMP:20260425T190339
CREATED:20220427T040303Z
LAST-MODIFIED:20220427T040303Z
UID:8925-1652000400-1652000400@www.goodshepherdblm.org
SUMMARY:Worship with Holy Communion
DESCRIPTION:
URL:https://www.goodshepherdblm.org/event/worship-with-holy-communion-335/
LOCATION:Good Shepherd Lutheran Church\, 3516 White Eagle Drive\, Bloomington\, IL\, 61704\, United States
CATEGORIES:Worship
END:VEVENT
BEGIN:VEVENT
DTSTART;TZID=America/Chicago:20220506T190000
DTEND;TZID=America/Chicago:20220506T190000
DTSTAMP:20260425T190339
CREATED:20220430T035133Z
LAST-MODIFIED:20220430T035133Z
UID:8954-1651863600-1651863600@www.goodshepherdblm.org
SUMMARY:Prayer Time
DESCRIPTION:
URL:https://www.goodshepherdblm.org/event/prayer-time-70/
LOCATION:Good Shepherd Lutheran Church\, 3516 White Eagle Drive\, Bloomington\, IL\, 61704\, United States
CATEGORIES:Prayer Chain
END:VEVENT
BEGIN:VEVENT
DTSTART;TZID=America/Chicago:20220505T130000
DTEND;TZID=America/Chicago:20220505T160000
DTSTAMP:20260425T190339
CREATED:20220430T034618Z
LAST-MODIFIED:20220430T034618Z
UID:8948-1651755600-1651766400@www.goodshepherdblm.org
SUMMARY:Ladies Quilting
DESCRIPTION:
URL:https://www.goodshepherdblm.org/event/ladies-quilting-22/
LOCATION:Good Shepherd Lutheran Church\, 3516 White Eagle Drive\, Bloomington\, IL\, 61704\, United States
CATEGORIES:Quilting
END:VEVENT
BEGIN:VEVENT
DTSTART;TZID=America/Chicago:20220503T093000
DTEND;TZID=America/Chicago:20220503T093000
DTSTAMP:20260425T190339
CREATED:20220430T034456Z
LAST-MODIFIED:20220430T034456Z
UID:8946-1651570200-1651570200@www.goodshepherdblm.org
SUMMARY:Ladies Bible Study
DESCRIPTION:
URL:https://www.goodshepherdblm.org/event/ladies-bible-study-19/
LOCATION:Good Shepherd Lutheran Church\, 3516 White Eagle Drive\, Bloomington\, IL\, 61704\, United States
CATEGORIES:Bible Studies
END:VEVENT
BEGIN:VEVENT
DTSTART;TZID=America/Chicago:20220501T101500
DTEND;TZID=America/Chicago:20220501T101500
DTSTAMP:20260425T190339
CREATED:20220427T035727Z
LAST-MODIFIED:20220427T035727Z
UID:8921-1651400100-1651400100@www.goodshepherdblm.org
SUMMARY:Sunday School\, Adult Bible Class
DESCRIPTION:
URL:https://www.goodshepherdblm.org/event/sunday-school-adult-bible-class-9/
LOCATION:Good Shepherd Lutheran Church\, 3516 White Eagle Drive\, Bloomington\, IL\, 61704\, United States
CATEGORIES:Bible Studies
END:VEVENT
BEGIN:VEVENT
DTSTART;TZID=America/Chicago:20220501T090000
DTEND;TZID=America/Chicago:20220501T090000
DTSTAMP:20260425T190339
CREATED:20220427T035556Z
LAST-MODIFIED:20220427T035556Z
UID:8919-1651395600-1651395600@www.goodshepherdblm.org
SUMMARY:Worship with Holy Communion
DESCRIPTION:
URL:https://www.goodshepherdblm.org/event/worship-with-holy-communion-334/
LOCATION:Good Shepherd Lutheran Church\, 3516 White Eagle Drive\, Bloomington\, IL\, 61704\, United States
CATEGORIES:Worship
END:VEVENT
BEGIN:VEVENT
DTSTART;TZID=America/Chicago:20220430T090000
DTEND;TZID=America/Chicago:20220430T090000
DTSTAMP:20260425T190339
CREATED:20220408T011851Z
LAST-MODIFIED:20220408T011851Z
UID:8894-1651309200-1651309200@www.goodshepherdblm.org
SUMMARY:Pregnancy Resource Center Walk for Life
DESCRIPTION:
URL:https://www.goodshepherdblm.org/event/pregnancy-resource-center-walk-for-life/
LOCATION:Tipton Park Pavilion\, 2201 Stone Mountain Blvd\, Bloomington\, IL\, United States
END:VEVENT
END:VCALENDAR