BEGIN:VCALENDAR
VERSION:2.0
PRODID:-//Good Shepherd Lutheran Church - ECPv6.15.13//NONSGML v1.0//EN
CALSCALE:GREGORIAN
METHOD:PUBLISH
X-WR-CALNAME:Good Shepherd Lutheran Church
X-ORIGINAL-URL:https://www.goodshepherdblm.org
X-WR-CALDESC:Events for Good Shepherd Lutheran Church
REFRESH-INTERVAL;VALUE=DURATION:PT1H
X-Robots-Tag:noindex
X-PUBLISHED-TTL:PT1H
BEGIN:VTIMEZONE
TZID:America/Chicago
BEGIN:DAYLIGHT
TZOFFSETFROM:-0600
TZOFFSETTO:-0500
TZNAME:CDT
DTSTART:20210314T080000
END:DAYLIGHT
BEGIN:STANDARD
TZOFFSETFROM:-0500
TZOFFSETTO:-0600
TZNAME:CST
DTSTART:20211107T070000
END:STANDARD
BEGIN:DAYLIGHT
TZOFFSETFROM:-0600
TZOFFSETTO:-0500
TZNAME:CDT
DTSTART:20220313T080000
END:DAYLIGHT
BEGIN:STANDARD
TZOFFSETFROM:-0500
TZOFFSETTO:-0600
TZNAME:CST
DTSTART:20221106T070000
END:STANDARD
BEGIN:DAYLIGHT
TZOFFSETFROM:-0600
TZOFFSETTO:-0500
TZNAME:CDT
DTSTART:20230312T080000
END:DAYLIGHT
BEGIN:STANDARD
TZOFFSETFROM:-0500
TZOFFSETTO:-0600
TZNAME:CST
DTSTART:20231105T070000
END:STANDARD
END:VTIMEZONE
BEGIN:VEVENT
DTSTART;TZID=America/Chicago:20221127T113000
DTEND;TZID=America/Chicago:20221127T113000
DTSTAMP:20260423T141545
CREATED:20221031T030037Z
LAST-MODIFIED:20221031T030037Z
UID:9401-1669548600-1669548600@www.goodshepherdblm.org
SUMMARY:Decorate After Bible Class
DESCRIPTION:
URL:https://www.goodshepherdblm.org/event/decorate-after-bible-class/
LOCATION:Good Shepherd Lutheran Church\, 3516 White Eagle Drive\, Bloomington\, IL\, 61704\, United States
CATEGORIES:Services
END:VEVENT
BEGIN:VEVENT
DTSTART;TZID=America/Chicago:20221127T101500
DTEND;TZID=America/Chicago:20221127T101500
DTSTAMP:20260423T141545
CREATED:20221031T162726Z
LAST-MODIFIED:20221031T162726Z
UID:9438-1669544100-1669544100@www.goodshepherdblm.org
SUMMARY:Sunday School\, Adult Bible Class
DESCRIPTION:
URL:https://www.goodshepherdblm.org/event/sunday-school-adult-bible-class-37/
LOCATION:Good Shepherd Lutheran Church\, 3516 White Eagle Drive\, Bloomington\, IL\, 61704\, United States
CATEGORIES:Bible Studies
END:VEVENT
BEGIN:VEVENT
DTSTART;TZID=America/Chicago:20221127T090000
DTEND;TZID=America/Chicago:20221127T090000
DTSTAMP:20260423T141545
CREATED:20221031T162550Z
LAST-MODIFIED:20221031T162550Z
UID:9435-1669539600-1669539600@www.goodshepherdblm.org
SUMMARY:Worship with Communion
DESCRIPTION:
URL:https://www.goodshepherdblm.org/event/worship-with-communion-41/
LOCATION:Good Shepherd Lutheran Church\, 3516 White Eagle Drive\, Bloomington\, IL\, 61704\, United States
CATEGORIES:Worship
END:VEVENT
BEGIN:VEVENT
DTSTART;TZID=America/Chicago:20221123T080000
DTEND;TZID=America/Chicago:20221123T080000
DTSTAMP:20260423T141545
CREATED:20221031T135458Z
LAST-MODIFIED:20221031T135520Z
UID:9412-1669190400-1669190400@www.goodshepherdblm.org
SUMMARY:Thanksgiving Eve Worship
DESCRIPTION:
URL:https://www.goodshepherdblm.org/event/thanksgiving-eve-worshi/
LOCATION:Good Shepherd Lutheran Church\, 3516 White Eagle Drive\, Bloomington\, IL\, 61704\, United States
CATEGORIES:Worship
END:VEVENT
BEGIN:VEVENT
DTSTART;TZID=America/Chicago:20221120T101500
DTEND;TZID=America/Chicago:20221120T101500
DTSTAMP:20260423T141545
CREATED:20221031T162340Z
LAST-MODIFIED:20221031T162409Z
UID:9433-1668939300-1668939300@www.goodshepherdblm.org
SUMMARY:Sunday School\, Adult Bible Class
DESCRIPTION:
URL:https://www.goodshepherdblm.org/event/sunday-school-adult-bible-class-36/
LOCATION:Good Shepherd Lutheran Church\, 3516 White Eagle Drive\, Bloomington\, IL\, 61704\, United States
CATEGORIES:Bible Studies
END:VEVENT
BEGIN:VEVENT
DTSTART;TZID=America/Chicago:20221120T090000
DTEND;TZID=America/Chicago:20221120T090000
DTSTAMP:20260423T141545
CREATED:20221031T162134Z
LAST-MODIFIED:20221031T162134Z
UID:9431-1668934800-1668934800@www.goodshepherdblm.org
SUMMARY:Worship with Communion
DESCRIPTION:
URL:https://www.goodshepherdblm.org/event/worship-with-communion-40/
LOCATION:Good Shepherd Lutheran Church\, 3516 White Eagle Drive\, Bloomington\, IL\, 61704\, United States
CATEGORIES:Worship
END:VEVENT
BEGIN:VEVENT
DTSTART;TZID=America/Chicago:20221119T180000
DTEND;TZID=America/Chicago:20221119T180000
DTSTAMP:20260423T141545
CREATED:20221031T024533Z
LAST-MODIFIED:20221031T024533Z
UID:9386-1668880800-1668880800@www.goodshepherdblm.org
SUMMARY:International Neighbors Night (INN)\, Dinner at Wittenberg
DESCRIPTION:
URL:https://www.goodshepherdblm.org/event/international-neighbors-night-inn-dinner-at-wittenberg/
LOCATION:Wittenberg Lutheran Center\, ISU Campus\, NOrmal\, IL\, United States
END:VEVENT
BEGIN:VEVENT
DTSTART;TZID=America/Chicago:20221115T093000
DTEND;TZID=America/Chicago:20221115T093000
DTSTAMP:20260423T141545
CREATED:20221031T135220Z
LAST-MODIFIED:20221031T135220Z
UID:9410-1668504600-1668504600@www.goodshepherdblm.org
SUMMARY:Ladies' Bible Study
DESCRIPTION:
URL:https://www.goodshepherdblm.org/event/ladies-bible-study-26/
LOCATION:Good Shepherd Lutheran Church\, 3516 White Eagle Drive\, Bloomington\, IL\, 61704\, United States
CATEGORIES:Bible Studies
END:VEVENT
BEGIN:VEVENT
DTSTART;TZID=America/Chicago:20221113T170000
DTEND;TZID=America/Chicago:20221113T170000
DTSTAMP:20260423T141545
CREATED:20221031T162006Z
LAST-MODIFIED:20221031T162006Z
UID:9429-1668358800-1668358800@www.goodshepherdblm.org
SUMMARY:Small Group Bible Study
DESCRIPTION:
URL:https://www.goodshepherdblm.org/event/small-group-bible-study-55/
LOCATION:Good Shepherd Lutheran Church\, 3516 White Eagle Drive\, Bloomington\, IL\, 61704\, United States
CATEGORIES:Bible Studies
END:VEVENT
BEGIN:VEVENT
DTSTART;TZID=America/Chicago:20221113T100000
DTEND;TZID=America/Chicago:20221113T100000
DTSTAMP:20260423T141545
CREATED:20221031T161822Z
LAST-MODIFIED:20221031T161822Z
UID:9427-1668333600-1668333600@www.goodshepherdblm.org
SUMMARY:ANNUAL VOTERS' MEETING (after Worship)
DESCRIPTION:
URL:https://www.goodshepherdblm.org/event/annual-voters-meeting-after-worship/
LOCATION:Good Shepherd Lutheran Church\, 3516 White Eagle Drive\, Bloomington\, IL\, 61704\, United States
CATEGORIES:Voter's Meetings
END:VEVENT
BEGIN:VEVENT
DTSTART;TZID=America/Chicago:20221113T090000
DTEND;TZID=America/Chicago:20221113T090000
DTSTAMP:20260423T141545
CREATED:20221031T161514Z
LAST-MODIFIED:20221031T161514Z
UID:9425-1668330000-1668330000@www.goodshepherdblm.org
SUMMARY:Worship with Communion
DESCRIPTION:
URL:https://www.goodshepherdblm.org/event/worship-with-communion-39/
LOCATION:Good Shepherd Lutheran Church\, 3516 White Eagle Drive\, Bloomington\, IL\, 61704\, United States
CATEGORIES:Worship
END:VEVENT
BEGIN:VEVENT
DTSTART;VALUE=DATE:20221113
DTEND;VALUE=DATE:20221114
DTSTAMP:20260423T141545
CREATED:20221031T025831Z
LAST-MODIFIED:20221031T025831Z
UID:9399-1668297600-1668383999@www.goodshepherdblm.org
SUMMARY:Stewardship Sunday
DESCRIPTION:
URL:https://www.goodshepherdblm.org/event/stewardship-sunday-3/
LOCATION:IL
CATEGORIES:Worship
END:VEVENT
BEGIN:VEVENT
DTSTART;TZID=America/Chicago:20221108T180000
DTEND;TZID=America/Chicago:20221108T180000
DTSTAMP:20260423T141545
CREATED:20221031T134934Z
LAST-MODIFIED:20221031T161224Z
UID:9408-1667930400-1667930400@www.goodshepherdblm.org
SUMMARY:Evangelism\, Stewardship Meeting
DESCRIPTION:
URL:https://www.goodshepherdblm.org/event/evangelism-stewardship-meeting-9/
LOCATION:IL
CATEGORIES:Board of Evangelism,Board of Stewardship
END:VEVENT
BEGIN:VEVENT
DTSTART;TZID=America/Chicago:20221108T093000
DTEND;TZID=America/Chicago:20221108T093000
DTSTAMP:20260423T141545
CREATED:20221031T134754Z
LAST-MODIFIED:20221031T134754Z
UID:9405-1667899800-1667899800@www.goodshepherdblm.org
SUMMARY:Pastors' Conference
DESCRIPTION:
URL:https://www.goodshepherdblm.org/event/pastors-conference-12/
LOCATION:Trinity Lutheran Church\, ElPaso IL\, ElPaso\, 61738
CATEGORIES:Pastor's Conference
END:VEVENT
BEGIN:VEVENT
DTSTART;VALUE=DATE:20221108
DTEND;VALUE=DATE:20221109
DTSTAMP:20260423T141545
CREATED:20221031T030157Z
LAST-MODIFIED:20221031T030157Z
UID:9403-1667865600-1667951999@www.goodshepherdblm.org
SUMMARY:Poling Place - Election Day
DESCRIPTION:
URL:https://www.goodshepherdblm.org/event/poling-place-election-day/
LOCATION:IL
END:VEVENT
BEGIN:VEVENT
DTSTART;TZID=America/Chicago:20221106T101500
DTEND;TZID=America/Chicago:20221106T101500
DTSTAMP:20260423T141545
CREATED:20221031T160756Z
LAST-MODIFIED:20221031T160756Z
UID:9421-1667729700-1667729700@www.goodshepherdblm.org
SUMMARY:Sunday School\, Adult Bible Class
DESCRIPTION:
URL:https://www.goodshepherdblm.org/event/sunday-school-adult-bible-class-35/
LOCATION:Good Shepherd Lutheran Church\, 3516 White Eagle Drive\, Bloomington\, IL\, 61704\, United States
CATEGORIES:Bible Studies
END:VEVENT
BEGIN:VEVENT
DTSTART;TZID=America/Chicago:20221106T090000
DTEND;TZID=America/Chicago:20221106T090000
DTSTAMP:20260423T141545
CREATED:20221031T160453Z
LAST-MODIFIED:20221031T160453Z
UID:9419-1667725200-1667725200@www.goodshepherdblm.org
SUMMARY:Worship with Communion (Includes Baptism & Confirmation Today)
DESCRIPTION:
URL:https://www.goodshepherdblm.org/event/worship-with-communion-includes-baptism-confirmation-today/
LOCATION:Good Shepherd Lutheran Church\, 3516 White Eagle Drive\, Bloomington\, IL\, 61704\, United States
CATEGORIES:Worship
END:VEVENT
BEGIN:VEVENT
DTSTART;TZID=America/Chicago:20221106T080000
DTEND;TZID=America/Chicago:20221106T170000
DTSTAMP:20260423T141545
CREATED:20221031T025712Z
LAST-MODIFIED:20221031T025712Z
UID:9397-1667721600-1667754000@www.goodshepherdblm.org
SUMMARY:All Saints Day Celebrated
DESCRIPTION:
URL:https://www.goodshepherdblm.org/event/all-saints-day-celebrated/
LOCATION:IL
CATEGORIES:Worship
END:VEVENT
BEGIN:VEVENT
DTSTART;TZID=America/Chicago:20221104T080000
DTEND;TZID=America/Chicago:20221104T170000
DTSTAMP:20260423T141545
CREATED:20221031T025411Z
LAST-MODIFIED:20221031T025411Z
UID:9395-1667548800-1667581200@www.goodshepherdblm.org
SUMMARY:Prayer Time
DESCRIPTION:
URL:https://www.goodshepherdblm.org/event/prayer-time-76/
LOCATION:Good Shepherd Lutheran Church\, 3516 White Eagle Drive\, Bloomington\, IL\, 61704\, United States
CATEGORIES:Prayer Chain
END:VEVENT
BEGIN:VEVENT
DTSTART;TZID=America/Chicago:20221103T130000
DTEND;TZID=America/Chicago:20221103T160000
DTSTAMP:20260423T141545
CREATED:20221031T025132Z
LAST-MODIFIED:20221031T025603Z
UID:9393-1667480400-1667491200@www.goodshepherdblm.org
SUMMARY:Ladies Quilting
DESCRIPTION:
URL:https://www.goodshepherdblm.org/event/ladies-quilting-26/
LOCATION:Good Shepherd Lutheran Church\, 3516 White Eagle Drive\, Bloomington\, IL\, 61704\, United States
CATEGORIES:Quilting
END:VEVENT
BEGIN:VEVENT
DTSTART;TZID=America/Chicago:20221101T093000
DTEND;TZID=America/Chicago:20221101T103000
DTSTAMP:20260423T141545
CREATED:20221031T024935Z
LAST-MODIFIED:20221031T024935Z
UID:9391-1667295000-1667298600@www.goodshepherdblm.org
SUMMARY:Ladies' Bible Study
DESCRIPTION:
URL:https://www.goodshepherdblm.org/event/ladies-bible-study-25/
LOCATION:Good Shepherd Lutheran Church\, 3516 White Eagle Drive\, Bloomington\, IL\, 61704\, United States
CATEGORIES:Bible Studies
END:VEVENT
BEGIN:VEVENT
DTSTART;VALUE=DATE:20221101
DTEND;VALUE=DATE:20221102
DTSTAMP:20260423T141545
CREATED:20221031T024706Z
LAST-MODIFIED:20221031T024706Z
UID:9389-1667260800-1667347199@www.goodshepherdblm.org
SUMMARY:All Saints Day
DESCRIPTION:
URL:https://www.goodshepherdblm.org/event/all-saints-day-2/
LOCATION:IL
END:VEVENT
BEGIN:VEVENT
DTSTART;TZID=America/Chicago:20221031T190000
DTEND;TZID=America/Chicago:20221031T190000
DTSTAMP:20260423T141545
CREATED:20221002T012555Z
LAST-MODIFIED:20221002T012555Z
UID:9359-1667242800-1667242800@www.goodshepherdblm.org
SUMMARY:Adult Instruction
DESCRIPTION:
URL:https://www.goodshepherdblm.org/event/adult-instruction-11/
LOCATION:Good Shepherd Lutheran Church\, 3516 White Eagle Drive\, Bloomington\, IL\, 61704\, United States
CATEGORIES:Adult Instruction
END:VEVENT
BEGIN:VEVENT
DTSTART;TZID=America/Chicago:20221030T101500
DTEND;TZID=America/Chicago:20221030T101500
DTSTAMP:20260423T141545
CREATED:20221002T012450Z
LAST-MODIFIED:20221002T012451Z
UID:9357-1667124900-1667124900@www.goodshepherdblm.org
SUMMARY:Sunday School\, Adult Bible Class
DESCRIPTION:
URL:https://www.goodshepherdblm.org/event/sunday-school-adult-bible-class-34/
LOCATION:Our Redeemer Lutheran Church\, Bloomington\, IL\, 61701\, United States
CATEGORIES:Bible Studies
END:VEVENT
BEGIN:VEVENT
DTSTART;TZID=America/Chicago:20221030T090000
DTEND;TZID=America/Chicago:20221030T090000
DTSTAMP:20260423T141545
CREATED:20221002T012318Z
LAST-MODIFIED:20221002T012318Z
UID:9355-1667120400-1667120400@www.goodshepherdblm.org
SUMMARY:Worship with Communion
DESCRIPTION:
URL:https://www.goodshepherdblm.org/event/worship-with-communion-38/
LOCATION:Good Shepherd Lutheran Church\, 3516 White Eagle Drive\, Bloomington\, IL\, 61704\, United States
CATEGORIES:Worship
END:VEVENT
BEGIN:VEVENT
DTSTART;TZID=America/Chicago:20221024T190000
DTEND;TZID=America/Chicago:20221024T190000
DTSTAMP:20260423T141545
CREATED:20221002T012217Z
LAST-MODIFIED:20221002T012217Z
UID:9353-1666638000-1666638000@www.goodshepherdblm.org
SUMMARY:Adult Instruction
DESCRIPTION:
URL:https://www.goodshepherdblm.org/event/adult-instruction-10/
LOCATION:Good Shepherd Lutheran Church\, 3516 White Eagle Drive\, Bloomington\, IL\, 61704\, United States
CATEGORIES:Adult Instruction
END:VEVENT
BEGIN:VEVENT
DTSTART;TZID=America/Chicago:20221023T170000
DTEND;TZID=America/Chicago:20221023T170000
DTSTAMP:20260423T141545
CREATED:20221002T011840Z
LAST-MODIFIED:20221002T011840Z
UID:9349-1666544400-1666544400@www.goodshepherdblm.org
SUMMARY:Small Group Bible Study
DESCRIPTION:
URL:https://www.goodshepherdblm.org/event/small-group-bible-study-54/
LOCATION:Good Shepherd Lutheran Church\, 3516 White Eagle Drive\, Bloomington\, IL\, 61704\, United States
CATEGORIES:Bible Studies
END:VEVENT
BEGIN:VEVENT
DTSTART;TZID=America/Chicago:20221023T101500
DTEND;TZID=America/Chicago:20221023T101500
DTSTAMP:20260423T141545
CREATED:20221002T011730Z
LAST-MODIFIED:20221002T011730Z
UID:9347-1666520100-1666520100@www.goodshepherdblm.org
SUMMARY:Sunday School\, Adult Bible Class
DESCRIPTION:
URL:https://www.goodshepherdblm.org/event/sunday-school-adult-bible-class-33/
LOCATION:Good Shepherd Lutheran Church\, 3516 White Eagle Drive\, Bloomington\, IL\, 61704\, United States
CATEGORIES:Bible Studies
END:VEVENT
BEGIN:VEVENT
DTSTART;TZID=America/Chicago:20221023T090000
DTEND;TZID=America/Chicago:20221023T090000
DTSTAMP:20260423T141545
CREATED:20221002T011620Z
LAST-MODIFIED:20221002T011620Z
UID:9345-1666515600-1666515600@www.goodshepherdblm.org
SUMMARY:Worship with Communion
DESCRIPTION:
URL:https://www.goodshepherdblm.org/event/worship-with-communion-37/
LOCATION:Good Shepherd Lutheran Church\, 3516 White Eagle Drive\, Bloomington\, IL\, 61704\, United States
CATEGORIES:Worship
END:VEVENT
BEGIN:VEVENT
DTSTART;TZID=America/Chicago:20221022T090000
DTEND;TZID=America/Chicago:20221022T140000
DTSTAMP:20260423T141545
CREATED:20221002T011437Z
LAST-MODIFIED:20221002T011437Z
UID:9343-1666429200-1666447200@www.goodshepherdblm.org
SUMMARY:BLOOD DRIVE\, Good Shepherd Basement
DESCRIPTION:
URL:https://www.goodshepherdblm.org/event/blood-drive-good-shepherd-basement/
LOCATION:Good Shepherd Lutheran Church\, 3516 White Eagle Drive\, Bloomington\, IL\, 61704\, United States
CATEGORIES:Outreach
END:VEVENT
END:VCALENDAR