BEGIN:VCALENDAR
VERSION:2.0
PRODID:-//Good Shepherd Lutheran Church - ECPv6.15.13//NONSGML v1.0//EN
CALSCALE:GREGORIAN
METHOD:PUBLISH
X-WR-CALNAME:Good Shepherd Lutheran Church
X-ORIGINAL-URL:https://www.goodshepherdblm.org
X-WR-CALDESC:Events for Good Shepherd Lutheran Church
REFRESH-INTERVAL;VALUE=DURATION:PT1H
X-Robots-Tag:noindex
X-PUBLISHED-TTL:PT1H
BEGIN:VTIMEZONE
TZID:America/Chicago
BEGIN:DAYLIGHT
TZOFFSETFROM:-0600
TZOFFSETTO:-0500
TZNAME:CDT
DTSTART:20200308T080000
END:DAYLIGHT
BEGIN:STANDARD
TZOFFSETFROM:-0500
TZOFFSETTO:-0600
TZNAME:CST
DTSTART:20201101T070000
END:STANDARD
BEGIN:DAYLIGHT
TZOFFSETFROM:-0600
TZOFFSETTO:-0500
TZNAME:CDT
DTSTART:20210314T080000
END:DAYLIGHT
BEGIN:STANDARD
TZOFFSETFROM:-0500
TZOFFSETTO:-0600
TZNAME:CST
DTSTART:20211107T070000
END:STANDARD
BEGIN:DAYLIGHT
TZOFFSETFROM:-0600
TZOFFSETTO:-0500
TZNAME:CDT
DTSTART:20220313T080000
END:DAYLIGHT
BEGIN:STANDARD
TZOFFSETFROM:-0500
TZOFFSETTO:-0600
TZNAME:CST
DTSTART:20221106T070000
END:STANDARD
BEGIN:DAYLIGHT
TZOFFSETFROM:-0600
TZOFFSETTO:-0500
TZNAME:CDT
DTSTART:20230312T080000
END:DAYLIGHT
BEGIN:STANDARD
TZOFFSETFROM:-0500
TZOFFSETTO:-0600
TZNAME:CST
DTSTART:20231105T070000
END:STANDARD
END:VTIMEZONE
BEGIN:VEVENT
DTSTART;TZID=America/Chicago:20220415T190000
DTEND;TZID=America/Chicago:20220415T190000
DTSTAMP:20260424T032653
CREATED:20220408T005429Z
LAST-MODIFIED:20220408T005429Z
UID:8871-1650049200-1650049200@www.goodshepherdblm.org
SUMMARY:Good Friday Tenebrae Service with Communion
DESCRIPTION:
URL:https://www.goodshepherdblm.org/event/good-friday-tenebrae-service-with-communion/
LOCATION:Good Shepherd Lutheran Church\, 3516 White Eagle Drive\, Bloomington\, IL\, 61704\, United States
CATEGORIES:Worship
END:VEVENT
BEGIN:VEVENT
DTSTART;TZID=America/Chicago:20220415T120000
DTEND;TZID=America/Chicago:20220415T120000
DTSTAMP:20260424T032653
CREATED:20220408T005223Z
LAST-MODIFIED:20220408T005223Z
UID:8869-1650024000-1650024000@www.goodshepherdblm.org
SUMMARY:Good Friday Tre Ore Service
DESCRIPTION:
URL:https://www.goodshepherdblm.org/event/good-friday-tre-ore-service-2/
LOCATION:Good Shepherd Lutheran Church\, 3516 White Eagle Drive\, Bloomington\, IL\, 61704\, United States
CATEGORIES:Worship
END:VEVENT
BEGIN:VEVENT
DTSTART;TZID=America/Chicago:20220414T190000
DTEND;TZID=America/Chicago:20220414T190000
DTSTAMP:20260424T032653
CREATED:20220408T004946Z
LAST-MODIFIED:20220408T004946Z
UID:8867-1649962800-1649962800@www.goodshepherdblm.org
SUMMARY:Maundy Thursday Service with Communion
DESCRIPTION:
URL:https://www.goodshepherdblm.org/event/maundy-thursday-service-with-communion/
LOCATION:Good Shepherd Lutheran Church\, 3516 White Eagle Drive\, Bloomington\, IL\, 61704\, United States
CATEGORIES:Worship
END:VEVENT
BEGIN:VEVENT
DTSTART;TZID=America/Chicago:20220410T090000
DTEND;TZID=America/Chicago:20220410T090000
DTSTAMP:20260424T032653
CREATED:20220404T021906Z
LAST-MODIFIED:20220404T022315Z
UID:8853-1649581200-1649581200@www.goodshepherdblm.org
SUMMARY:Palm Sunday Worship with Communion
DESCRIPTION:
URL:https://www.goodshepherdblm.org/event/palm-sunday-worship-with-communion/
LOCATION:Good Shepherd Lutheran Church\, 3516 White Eagle Drive\, Bloomington\, IL\, 61704\, United States
CATEGORIES:Worship
END:VEVENT
BEGIN:VEVENT
DTSTART;TZID=America/Chicago:20220406T190000
DTEND;TZID=America/Chicago:20220406T190000
DTSTAMP:20260424T032653
CREATED:20220404T020534Z
LAST-MODIFIED:20220404T020534Z
UID:8844-1649271600-1649271600@www.goodshepherdblm.org
SUMMARY:Lenten Worship
DESCRIPTION:
URL:https://www.goodshepherdblm.org/event/lenten-worship-6/
LOCATION:Good Shepherd Lutheran Church\, 3516 White Eagle Drive\, Bloomington\, IL\, 61704\, United States
CATEGORIES:Worship
END:VEVENT
BEGIN:VEVENT
DTSTART;TZID=America/Chicago:20220403T090000
DTEND;TZID=America/Chicago:20220403T100000
DTSTAMP:20260424T032653
CREATED:20220404T020038Z
LAST-MODIFIED:20220404T023757Z
UID:8838-1648976400-1648980000@www.goodshepherdblm.org
SUMMARY:Sunday Worship with Communion
DESCRIPTION:
URL:https://www.goodshepherdblm.org/event/sunday-worship-with-communion/
LOCATION:Good Shepherd Lutheran Church\, 3516 White Eagle Drive\, Bloomington\, IL\, 61704\, United States
CATEGORIES:Worship
END:VEVENT
BEGIN:VEVENT
DTSTART;TZID=America/Chicago:20220330T190000
DTEND;TZID=America/Chicago:20220330T190000
DTSTAMP:20260424T032653
CREATED:20220303T014047Z
LAST-MODIFIED:20220303T014047Z
UID:8802-1648666800-1648666800@www.goodshepherdblm.org
SUMMARY:Lenten Worship
DESCRIPTION:
URL:https://www.goodshepherdblm.org/event/lenten-worship-5/
LOCATION:Good Shepherd Lutheran Church\, 3516 White Eagle Drive\, Bloomington\, IL\, 61704\, United States
CATEGORIES:Worship
END:VEVENT
BEGIN:VEVENT
DTSTART;TZID=America/Chicago:20220327T090000
DTEND;TZID=America/Chicago:20220327T090000
DTSTAMP:20260424T032653
CREATED:20220303T013455Z
LAST-MODIFIED:20220303T013455Z
UID:8793-1648371600-1648371600@www.goodshepherdblm.org
SUMMARY:Worship with Communion
DESCRIPTION:
URL:https://www.goodshepherdblm.org/event/worship-with-communion-20/
LOCATION:Good Shepherd Lutheran Church\, 3516 White Eagle Drive\, Bloomington\, IL\, 61704\, United States
CATEGORIES:Worship
END:VEVENT
BEGIN:VEVENT
DTSTART;TZID=America/Chicago:20220323T190000
DTEND;TZID=America/Chicago:20220323T190000
DTSTAMP:20260424T032653
CREATED:20220303T005325Z
LAST-MODIFIED:20220303T005325Z
UID:8790-1648062000-1648062000@www.goodshepherdblm.org
SUMMARY:Lenten Worship
DESCRIPTION:
URL:https://www.goodshepherdblm.org/event/lenten-worship-4/
LOCATION:Good Shepherd Lutheran Church\, 3516 White Eagle Drive\, Bloomington\, IL\, 61704\, United States
CATEGORIES:Worship
END:VEVENT
BEGIN:VEVENT
DTSTART;TZID=America/Chicago:20220320T090000
DTEND;TZID=America/Chicago:20220320T090000
DTSTAMP:20260424T032653
CREATED:20220303T004908Z
LAST-MODIFIED:20220303T004908Z
UID:8784-1647766800-1647766800@www.goodshepherdblm.org
SUMMARY:Worship with Communion
DESCRIPTION:
URL:https://www.goodshepherdblm.org/event/worship-with-communion-19/
LOCATION:Good Shepherd Lutheran Church\, 3516 White Eagle Drive\, Bloomington\, IL\, 61704\, United States
CATEGORIES:Worship
END:VEVENT
BEGIN:VEVENT
DTSTART;TZID=America/Chicago:20220316T190000
DTEND;TZID=America/Chicago:20220316T190000
DTSTAMP:20260424T032653
CREATED:20220303T004606Z
LAST-MODIFIED:20220303T004606Z
UID:8782-1647457200-1647457200@www.goodshepherdblm.org
SUMMARY:Lenten Worship
DESCRIPTION:
URL:https://www.goodshepherdblm.org/event/lenten-worship-3/
LOCATION:Good Shepherd Lutheran Church\, 3516 White Eagle Drive\, Bloomington\, IL\, 61704\, United States
CATEGORIES:Worship
END:VEVENT
BEGIN:VEVENT
DTSTART;TZID=America/Chicago:20220313T090000
DTEND;TZID=America/Chicago:20220313T090000
DTSTAMP:20260424T032653
CREATED:20220303T003415Z
LAST-MODIFIED:20220303T003415Z
UID:8768-1647162000-1647162000@www.goodshepherdblm.org
SUMMARY:Worship with Communion
DESCRIPTION:
URL:https://www.goodshepherdblm.org/event/worship-with-communion-18/
LOCATION:Good Shepherd Lutheran Church\, 3516 White Eagle Drive\, Bloomington\, IL\, 61704\, United States
CATEGORIES:Worship
END:VEVENT
BEGIN:VEVENT
DTSTART;TZID=America/Chicago:20220309T190000
DTEND;TZID=America/Chicago:20220309T190000
DTSTAMP:20260424T032653
CREATED:20220303T003250Z
LAST-MODIFIED:20220303T003250Z
UID:8766-1646852400-1646852400@www.goodshepherdblm.org
SUMMARY:Lenten Worship
DESCRIPTION:
URL:https://www.goodshepherdblm.org/event/lenten-worship-2/
LOCATION:Good Shepherd Lutheran Church\, 3516 White Eagle Drive\, Bloomington\, IL\, 61704\, United States
CATEGORIES:Worship
END:VEVENT
BEGIN:VEVENT
DTSTART;TZID=America/Chicago:20220306T090000
DTEND;TZID=America/Chicago:20220306T090000
DTSTAMP:20260424T032653
CREATED:20220303T002337Z
LAST-MODIFIED:20220303T002337Z
UID:8756-1646557200-1646557200@www.goodshepherdblm.org
SUMMARY:Worship with Communion
DESCRIPTION:
URL:https://www.goodshepherdblm.org/event/worship-with-communion-17/
LOCATION:Good Shepherd Lutheran Church\, 3516 White Eagle Drive\, Bloomington\, IL\, 61704\, United States
CATEGORIES:Worship
END:VEVENT
BEGIN:VEVENT
DTSTART;TZID=America/Chicago:20220302T190000
DTEND;TZID=America/Chicago:20220302T190000
DTSTAMP:20260424T032653
CREATED:20220303T001741Z
LAST-MODIFIED:20220303T001741Z
UID:8750-1646247600-1646247600@www.goodshepherdblm.org
SUMMARY:Worship/Ash Wednesday
DESCRIPTION:
URL:https://www.goodshepherdblm.org/event/worship-ash-wednesday/
LOCATION:Good Shepherd Lutheran Church\, 3516 White Eagle Drive\, Bloomington\, IL\, 61704\, United States
CATEGORIES:Worship
END:VEVENT
BEGIN:VEVENT
DTSTART;TZID=America/Chicago:20220227T090000
DTEND;TZID=America/Chicago:20220227T090000
DTSTAMP:20260424T032653
CREATED:20220303T000910Z
LAST-MODIFIED:20220303T000910Z
UID:8740-1645952400-1645952400@www.goodshepherdblm.org
SUMMARY:Worship with Communion
DESCRIPTION:
URL:https://www.goodshepherdblm.org/event/worship-with-communion-16/
LOCATION:Good Shepherd Lutheran Church\, 3516 White Eagle Drive\, Bloomington\, IL\, 61704\, United States
CATEGORIES:Worship
END:VEVENT
BEGIN:VEVENT
DTSTART;TZID=America/Chicago:20220220T090000
DTEND;TZID=America/Chicago:20220220T090000
DTSTAMP:20260424T032653
CREATED:20220303T000616Z
LAST-MODIFIED:20220303T000616Z
UID:8735-1645347600-1645347600@www.goodshepherdblm.org
SUMMARY:Worship with Communion
DESCRIPTION:
URL:https://www.goodshepherdblm.org/event/worship-with-communion-15/
LOCATION:Good Shepherd Lutheran Church\, 3516 White Eagle Drive\, Bloomington\, IL\, 61704\, United States
CATEGORIES:Worship
END:VEVENT
BEGIN:VEVENT
DTSTART;TZID=America/Chicago:20220213T090000
DTEND;TZID=America/Chicago:20220213T090000
DTSTAMP:20260424T032653
CREATED:20220302T235450Z
LAST-MODIFIED:20220302T235450Z
UID:8723-1644742800-1644742800@www.goodshepherdblm.org
SUMMARY:Worship with Communion
DESCRIPTION:
URL:https://www.goodshepherdblm.org/event/worship-with-communion-14/
LOCATION:Good Shepherd Lutheran Church\, 3516 White Eagle Drive\, Bloomington\, IL\, 61704\, United States
CATEGORIES:Worship
END:VEVENT
BEGIN:VEVENT
DTSTART;TZID=America/Chicago:20220206T090000
DTEND;TZID=America/Chicago:20220206T090000
DTSTAMP:20260424T032653
CREATED:20220302T234100Z
LAST-MODIFIED:20220302T234100Z
UID:8712-1644138000-1644138000@www.goodshepherdblm.org
SUMMARY:Worship (Elders to Lead)
DESCRIPTION:
URL:https://www.goodshepherdblm.org/event/worship-elders-to-lead/
LOCATION:Good Shepherd Lutheran Church\, 3516 White Eagle Drive\, Bloomington\, IL\, 61704\, United States
CATEGORIES:Worship
END:VEVENT
BEGIN:VEVENT
DTSTART;TZID=America/Chicago:20220130T090000
DTEND;TZID=America/Chicago:20220130T090000
DTSTAMP:20260424T032653
CREATED:20220112T173640Z
LAST-MODIFIED:20220112T173640Z
UID:8671-1643533200-1643533200@www.goodshepherdblm.org
SUMMARY:Worship with Communion
DESCRIPTION:
URL:https://www.goodshepherdblm.org/event/worship-with-communion-13/
LOCATION:Good Shepherd Lutheran Church\, 3516 White Eagle Drive\, Bloomington\, IL\, 61704\, United States
CATEGORIES:Worship
END:VEVENT
BEGIN:VEVENT
DTSTART;TZID=America/Chicago:20220123T090000
DTEND;TZID=America/Chicago:20220123T090000
DTSTAMP:20260424T032653
CREATED:20220112T173433Z
LAST-MODIFIED:20220112T173433Z
UID:8667-1642928400-1642928400@www.goodshepherdblm.org
SUMMARY:Worship with Communion
DESCRIPTION:
URL:https://www.goodshepherdblm.org/event/worship-with-communion-12/
LOCATION:Good Shepherd Lutheran Church\, 3516 White Eagle Drive\, Bloomington\, IL\, 61704\, United States
CATEGORIES:Worship
END:VEVENT
BEGIN:VEVENT
DTSTART;TZID=America/Chicago:20220116T090000
DTEND;TZID=America/Chicago:20220116T090000
DTSTAMP:20260424T032653
CREATED:20220112T173021Z
LAST-MODIFIED:20220112T173021Z
UID:8659-1642323600-1642323600@www.goodshepherdblm.org
SUMMARY:Worship with Communion
DESCRIPTION:
URL:https://www.goodshepherdblm.org/event/worship-with-communion-11/
LOCATION:Good Shepherd Lutheran Church\, 3516 White Eagle Drive\, Bloomington\, IL\, 61704\, United States
CATEGORIES:Worship
END:VEVENT
BEGIN:VEVENT
DTSTART;TZID=America/Chicago:20220109T133000
DTEND;TZID=America/Chicago:20220109T133000
DTSTAMP:20260424T032653
CREATED:20220112T172328Z
LAST-MODIFIED:20220112T172328Z
UID:8651-1641735000-1641735000@www.goodshepherdblm.org
SUMMARY:Pastor @ Carriage Crossing
DESCRIPTION:
URL:https://www.goodshepherdblm.org/event/pastor-carriage-crossing-2/
LOCATION:Carriage Crossing\, 1402 Leslie Drive\, Bloomington\, IL\, 61704\, United States
CATEGORIES:Worship
END:VEVENT
BEGIN:VEVENT
DTSTART;TZID=America/Chicago:20220102T090000
DTEND;TZID=America/Chicago:20220102T090000
DTSTAMP:20260424T032653
CREATED:20220112T172026Z
LAST-MODIFIED:20220112T172026Z
UID:8647-1641114000-1641114000@www.goodshepherdblm.org
SUMMARY:Worship with Communion & Installation of Officers
DESCRIPTION:
URL:https://www.goodshepherdblm.org/event/worship-with-communion-installation-of-officers/
LOCATION:Good Shepherd Lutheran Church\, 3516 White Eagle Drive\, Bloomington\, IL\, 61704\, United States
CATEGORIES:Worship
END:VEVENT
BEGIN:VEVENT
DTSTART;TZID=America/Chicago:20211231T180000
DTEND;TZID=America/Chicago:20211231T180000
DTSTAMP:20260424T032653
CREATED:20220112T171758Z
LAST-MODIFIED:20220112T171758Z
UID:8645-1640973600-1640973600@www.goodshepherdblm.org
SUMMARY:New Year's Eve Service
DESCRIPTION:
URL:https://www.goodshepherdblm.org/event/new-years-eve-service/
LOCATION:Good Shepherd Lutheran Church\, 3516 White Eagle Drive\, Bloomington\, IL\, 61704\, United States
CATEGORIES:Worship
END:VEVENT
BEGIN:VEVENT
DTSTART;TZID=America/Chicago:20211226T090000
DTEND;TZID=America/Chicago:20211226T090000
DTSTAMP:20260424T032653
CREATED:20220112T170108Z
LAST-MODIFIED:20220112T170108Z
UID:8618-1640509200-1640509200@www.goodshepherdblm.org
SUMMARY:Worship with Communion
DESCRIPTION:
URL:https://www.goodshepherdblm.org/event/worship-with-communion-10/
LOCATION:Good Shepherd Lutheran Church\, 3516 White Eagle Drive\, Bloomington\, IL\, 61704\, United States
CATEGORIES:Worship
END:VEVENT
BEGIN:VEVENT
DTSTART;TZID=America/Chicago:20211225T090000
DTEND;TZID=America/Chicago:20211225T090000
DTSTAMP:20260424T032653
CREATED:20211225T060055Z
LAST-MODIFIED:20220112T174109Z
UID:8643-1640422800-1640422800@www.goodshepherdblm.org
SUMMARY:Christmas Day Worship Service
DESCRIPTION:
URL:https://www.goodshepherdblm.org/event/christmas-day-worship-service/
LOCATION:Good Shepherd Lutheran Church\, 3516 White Eagle Drive\, Bloomington\, IL\, 61704\, United States
CATEGORIES:Worship
END:VEVENT
BEGIN:VEVENT
DTSTART;TZID=America/Chicago:20211224T180000
DTEND;TZID=America/Chicago:20211224T180000
DTSTAMP:20260424T032653
CREATED:20220112T171610Z
LAST-MODIFIED:20220112T171610Z
UID:8641-1640368800-1640368800@www.goodshepherdblm.org
SUMMARY:Christmas Eve Candlelight Service
DESCRIPTION:
URL:https://www.goodshepherdblm.org/event/christmas-eve-candlelight-service/
LOCATION:Good Shepherd Lutheran Church\, 3516 White Eagle Drive\, Bloomington\, IL\, 61704\, United States
CATEGORIES:Worship
END:VEVENT
BEGIN:VEVENT
DTSTART;TZID=America/Chicago:20211215T190000
DTEND;TZID=America/Chicago:20211215T190000
DTSTAMP:20260424T032653
CREATED:20220112T171503Z
LAST-MODIFIED:20220112T171503Z
UID:8639-1639594800-1639594800@www.goodshepherdblm.org
SUMMARY:Advent Worship
DESCRIPTION:
URL:https://www.goodshepherdblm.org/event/advent-worship-6/
LOCATION:Good Shepherd Lutheran Church\, 3516 White Eagle Drive\, Bloomington\, IL\, 61704\, United States
CATEGORIES:Worship
END:VEVENT
BEGIN:VEVENT
DTSTART;TZID=America/Chicago:20211212T133000
DTEND;TZID=America/Chicago:20211212T133000
DTSTAMP:20260424T032653
CREATED:20220112T170355Z
LAST-MODIFIED:20220112T170355Z
UID:8622-1639315800-1639315800@www.goodshepherdblm.org
SUMMARY:Pastor @ Carriage Crossing
DESCRIPTION:
URL:https://www.goodshepherdblm.org/event/pastor-carriage-crossing/
LOCATION:Carriage Crossing\, 1402 Leslie Drive\, Bloomington\, IL\, 61704\, United States
CATEGORIES:Worship
END:VEVENT
END:VCALENDAR