BEGIN:VCALENDAR
VERSION:2.0
PRODID:-//Good Shepherd Lutheran Church - ECPv6.15.13//NONSGML v1.0//EN
CALSCALE:GREGORIAN
METHOD:PUBLISH
X-WR-CALNAME:Good Shepherd Lutheran Church
X-ORIGINAL-URL:https://www.goodshepherdblm.org
X-WR-CALDESC:Events for Good Shepherd Lutheran Church
REFRESH-INTERVAL;VALUE=DURATION:PT1H
X-Robots-Tag:noindex
X-PUBLISHED-TTL:PT1H
BEGIN:VTIMEZONE
TZID:America/New_York
BEGIN:DAYLIGHT
TZOFFSETFROM:-0500
TZOFFSETTO:-0400
TZNAME:EDT
DTSTART:20180311T070000
END:DAYLIGHT
BEGIN:STANDARD
TZOFFSETFROM:-0400
TZOFFSETTO:-0500
TZNAME:EST
DTSTART:20181104T060000
END:STANDARD
BEGIN:DAYLIGHT
TZOFFSETFROM:-0500
TZOFFSETTO:-0400
TZNAME:EDT
DTSTART:20190310T070000
END:DAYLIGHT
BEGIN:STANDARD
TZOFFSETFROM:-0400
TZOFFSETTO:-0500
TZNAME:EST
DTSTART:20191103T060000
END:STANDARD
BEGIN:DAYLIGHT
TZOFFSETFROM:-0500
TZOFFSETTO:-0400
TZNAME:EDT
DTSTART:20200308T070000
END:DAYLIGHT
BEGIN:STANDARD
TZOFFSETFROM:-0400
TZOFFSETTO:-0500
TZNAME:EST
DTSTART:20201101T060000
END:STANDARD
END:VTIMEZONE
BEGIN:VEVENT
DTSTART;TZID=America/New_York:20191006T080000
DTEND;TZID=America/New_York:20191006T090000
DTSTAMP:20260425T185538
CREATED:20190101T235244Z
LAST-MODIFIED:20190101T235244Z
UID:5330-1570348800-1570352400@www.goodshepherdblm.org
SUMMARY:Worship with Holy Communion
DESCRIPTION:
URL:https://www.goodshepherdblm.org/event/worship-with-holy-communion-290/
LOCATION:Good Shepherd Lutheran Church\, 3516 White Eagle Drive\, Bloomington\, IL\, 61704\, United States
CATEGORIES:Worship
END:VEVENT
BEGIN:VEVENT
DTSTART;TZID=America/New_York:20190922T080000
DTEND;TZID=America/New_York:20190922T090000
DTSTAMP:20260425T185538
CREATED:20190101T235220Z
LAST-MODIFIED:20190101T235220Z
UID:5323-1569139200-1569142800@www.goodshepherdblm.org
SUMMARY:Worship\, non-Communion
DESCRIPTION:
URL:https://www.goodshepherdblm.org/event/worship-non-communion-238/
LOCATION:Good Shepherd Lutheran Church\, 3516 White Eagle Drive\, Bloomington\, IL\, 61704\, United States
CATEGORIES:Worship
END:VEVENT
BEGIN:VEVENT
DTSTART;TZID=America/New_York:20190915T103000
DTEND;TZID=America/New_York:20190915T113000
DTSTAMP:20260425T185538
CREATED:20190101T235219Z
LAST-MODIFIED:20190101T235219Z
UID:5322-1568543400-1568547000@www.goodshepherdblm.org
SUMMARY:Worship\, non-Communion
DESCRIPTION:
URL:https://www.goodshepherdblm.org/event/worship-non-communion-237/
LOCATION:Good Shepherd Lutheran Church\, 3516 White Eagle Drive\, Bloomington\, IL\, 61704\, United States
CATEGORIES:Worship
END:VEVENT
BEGIN:VEVENT
DTSTART;TZID=America/New_York:20190915T080000
DTEND;TZID=America/New_York:20190915T090000
DTSTAMP:20260425T185538
CREATED:20190101T235218Z
LAST-MODIFIED:20190101T235218Z
UID:5320-1568534400-1568538000@www.goodshepherdblm.org
SUMMARY:Worship with Holy Communion
DESCRIPTION:
URL:https://www.goodshepherdblm.org/event/worship-with-holy-communion-286/
LOCATION:Good Shepherd Lutheran Church\, 3516 White Eagle Drive\, Bloomington\, IL\, 61704\, United States
CATEGORIES:Worship
END:VEVENT
BEGIN:VEVENT
DTSTART;TZID=America/New_York:20190908T103000
DTEND;TZID=America/New_York:20190908T113000
DTSTAMP:20260425T185538
CREATED:20190101T235218Z
LAST-MODIFIED:20190101T235218Z
UID:5319-1567938600-1567942200@www.goodshepherdblm.org
SUMMARY:Worship with Holy Communion
DESCRIPTION:
URL:https://www.goodshepherdblm.org/event/worship-with-holy-communion-285/
LOCATION:Good Shepherd Lutheran Church\, 3516 White Eagle Drive\, Bloomington\, IL\, 61704\, United States
CATEGORIES:Worship
END:VEVENT
BEGIN:VEVENT
DTSTART;TZID=America/New_York:20190908T080000
DTEND;TZID=America/New_York:20190908T090000
DTSTAMP:20260425T185538
CREATED:20190101T235209Z
LAST-MODIFIED:20190101T235209Z
UID:5317-1567929600-1567933200@www.goodshepherdblm.org
SUMMARY:Worship\, non-Communion
DESCRIPTION:
URL:https://www.goodshepherdblm.org/event/worship-non-communion-236/
LOCATION:Good Shepherd Lutheran Church\, 3516 White Eagle Drive\, Bloomington\, IL\, 61704\, United States
CATEGORIES:Worship
END:VEVENT
BEGIN:VEVENT
DTSTART;TZID=America/New_York:20190901T103000
DTEND;TZID=America/New_York:20190901T113000
DTSTAMP:20260425T185538
CREATED:20190101T235208Z
LAST-MODIFIED:20190101T235208Z
UID:5316-1567333800-1567337400@www.goodshepherdblm.org
SUMMARY:Worship\, non-Communion
DESCRIPTION:
URL:https://www.goodshepherdblm.org/event/worship-non-communion-235/
LOCATION:Good Shepherd Lutheran Church\, 3516 White Eagle Drive\, Bloomington\, IL\, 61704\, United States
CATEGORIES:Worship
END:VEVENT
BEGIN:VEVENT
DTSTART;TZID=America/New_York:20190901T080000
DTEND;TZID=America/New_York:20190901T090000
DTSTAMP:20260425T185538
CREATED:20190101T235207Z
LAST-MODIFIED:20190101T235207Z
UID:5314-1567324800-1567328400@www.goodshepherdblm.org
SUMMARY:Worship with Holy Communion
DESCRIPTION:
URL:https://www.goodshepherdblm.org/event/worship-with-holy-communion-284/
LOCATION:Good Shepherd Lutheran Church\, 3516 White Eagle Drive\, Bloomington\, IL\, 61704\, United States
CATEGORIES:Worship
END:VEVENT
BEGIN:VEVENT
DTSTART;TZID=America/New_York:20190825T103000
DTEND;TZID=America/New_York:20190825T113000
DTSTAMP:20260425T185538
CREATED:20190101T235150Z
LAST-MODIFIED:20190101T235150Z
UID:5312-1566729000-1566732600@www.goodshepherdblm.org
SUMMARY:Worship with Holy Communion
DESCRIPTION:
URL:https://www.goodshepherdblm.org/event/worship-with-holy-communion-283/
LOCATION:Good Shepherd Lutheran Church\, 3516 White Eagle Drive\, Bloomington\, IL\, 61704\, United States
CATEGORIES:Worship
END:VEVENT
BEGIN:VEVENT
DTSTART;TZID=America/New_York:20190825T080000
DTEND;TZID=America/New_York:20190825T090000
DTSTAMP:20260425T185538
CREATED:20190101T235144Z
LAST-MODIFIED:20190101T235144Z
UID:5310-1566720000-1566723600@www.goodshepherdblm.org
SUMMARY:Worship\, non-Communion
DESCRIPTION:
URL:https://www.goodshepherdblm.org/event/worship-non-communion-234/
LOCATION:Good Shepherd Lutheran Church\, 3516 White Eagle Drive\, Bloomington\, IL\, 61704\, United States
CATEGORIES:Worship
END:VEVENT
BEGIN:VEVENT
DTSTART;TZID=America/New_York:20190818T103000
DTEND;TZID=America/New_York:20190818T113000
DTSTAMP:20260425T185538
CREATED:20190101T235143Z
LAST-MODIFIED:20190101T235143Z
UID:5309-1566124200-1566127800@www.goodshepherdblm.org
SUMMARY:Worship\, non-Communion
DESCRIPTION:
URL:https://www.goodshepherdblm.org/event/worship-non-communion-233/
LOCATION:Good Shepherd Lutheran Church\, 3516 White Eagle Drive\, Bloomington\, IL\, 61704\, United States
CATEGORIES:Worship
END:VEVENT
BEGIN:VEVENT
DTSTART;TZID=America/New_York:20190818T080000
DTEND;TZID=America/New_York:20190818T090000
DTSTAMP:20260425T185538
CREATED:20190101T235142Z
LAST-MODIFIED:20190101T235142Z
UID:5307-1566115200-1566118800@www.goodshepherdblm.org
SUMMARY:Worship with Holy Communion
DESCRIPTION:
URL:https://www.goodshepherdblm.org/event/worship-with-holy-communion-282/
LOCATION:Good Shepherd Lutheran Church\, 3516 White Eagle Drive\, Bloomington\, IL\, 61704\, United States
CATEGORIES:Worship
END:VEVENT
BEGIN:VEVENT
DTSTART;TZID=America/New_York:20190811T103000
DTEND;TZID=America/New_York:20190811T113000
DTSTAMP:20260425T185538
CREATED:20190101T235142Z
LAST-MODIFIED:20190101T235142Z
UID:5306-1565519400-1565523000@www.goodshepherdblm.org
SUMMARY:Worship with Holy Communion
DESCRIPTION:
URL:https://www.goodshepherdblm.org/event/worship-with-holy-communion-281/
LOCATION:Good Shepherd Lutheran Church\, 3516 White Eagle Drive\, Bloomington\, IL\, 61704\, United States
CATEGORIES:Worship
END:VEVENT
BEGIN:VEVENT
DTSTART;TZID=America/New_York:20190811T080000
DTEND;TZID=America/New_York:20190811T090000
DTSTAMP:20260425T185538
CREATED:20190101T235133Z
LAST-MODIFIED:20190101T235133Z
UID:5304-1565510400-1565514000@www.goodshepherdblm.org
SUMMARY:Worship\, non-Communion
DESCRIPTION:
URL:https://www.goodshepherdblm.org/event/worship-non-communion-232/
LOCATION:Good Shepherd Lutheran Church\, 3516 White Eagle Drive\, Bloomington\, IL\, 61704\, United States
CATEGORIES:Worship
END:VEVENT
BEGIN:VEVENT
DTSTART;TZID=America/New_York:20190804T103000
DTEND;TZID=America/New_York:20190804T113000
DTSTAMP:20260425T185538
CREATED:20190101T235133Z
LAST-MODIFIED:20190101T235133Z
UID:5303-1564914600-1564918200@www.goodshepherdblm.org
SUMMARY:Worship\, non-Communion
DESCRIPTION:
URL:https://www.goodshepherdblm.org/event/worship-non-communion-231/
LOCATION:Good Shepherd Lutheran Church\, 3516 White Eagle Drive\, Bloomington\, IL\, 61704\, United States
CATEGORIES:Worship
END:VEVENT
BEGIN:VEVENT
DTSTART;TZID=America/New_York:20190804T080000
DTEND;TZID=America/New_York:20190804T090000
DTSTAMP:20260425T185538
CREATED:20190101T235132Z
LAST-MODIFIED:20190101T235132Z
UID:5301-1564905600-1564909200@www.goodshepherdblm.org
SUMMARY:Worship with Holy Communion
DESCRIPTION:
URL:https://www.goodshepherdblm.org/event/worship-with-holy-communion-280/
LOCATION:Good Shepherd Lutheran Church\, 3516 White Eagle Drive\, Bloomington\, IL\, 61704\, United States
CATEGORIES:Worship
END:VEVENT
BEGIN:VEVENT
DTSTART;TZID=America/New_York:20190728T103000
DTEND;TZID=America/New_York:20190728T113000
DTSTAMP:20260425T185538
CREATED:20190101T235030Z
LAST-MODIFIED:20190101T235030Z
UID:5299-1564309800-1564313400@www.goodshepherdblm.org
SUMMARY:Worship with Holy Communion
DESCRIPTION:
URL:https://www.goodshepherdblm.org/event/worship-with-holy-communion-279/
LOCATION:Good Shepherd Lutheran Church\, 3516 White Eagle Drive\, Bloomington\, IL\, 61704\, United States
CATEGORIES:Worship
END:VEVENT
BEGIN:VEVENT
DTSTART;TZID=America/New_York:20190728T080000
DTEND;TZID=America/New_York:20190728T090000
DTSTAMP:20260425T185538
CREATED:20190101T235024Z
LAST-MODIFIED:20190101T235024Z
UID:5297-1564300800-1564304400@www.goodshepherdblm.org
SUMMARY:Worship\, non-Communion
DESCRIPTION:
URL:https://www.goodshepherdblm.org/event/worship-non-communion-230/
LOCATION:Good Shepherd Lutheran Church\, 3516 White Eagle Drive\, Bloomington\, IL\, 61704\, United States
CATEGORIES:Worship
END:VEVENT
BEGIN:VEVENT
DTSTART;TZID=America/New_York:20190721T103000
DTEND;TZID=America/New_York:20190721T113000
DTSTAMP:20260425T185538
CREATED:20190101T235024Z
LAST-MODIFIED:20190101T235024Z
UID:5296-1563705000-1563708600@www.goodshepherdblm.org
SUMMARY:Worship\, non-Communion
DESCRIPTION:
URL:https://www.goodshepherdblm.org/event/worship-non-communion-229/
LOCATION:Good Shepherd Lutheran Church\, 3516 White Eagle Drive\, Bloomington\, IL\, 61704\, United States
CATEGORIES:Worship
END:VEVENT
BEGIN:VEVENT
DTSTART;TZID=America/New_York:20190721T080000
DTEND;TZID=America/New_York:20190721T090000
DTSTAMP:20260425T185538
CREATED:20190101T235023Z
LAST-MODIFIED:20190101T235023Z
UID:5294-1563696000-1563699600@www.goodshepherdblm.org
SUMMARY:Worship with Holy Communion
DESCRIPTION:
URL:https://www.goodshepherdblm.org/event/worship-with-holy-communion-278/
LOCATION:Good Shepherd Lutheran Church\, 3516 White Eagle Drive\, Bloomington\, IL\, 61704\, United States
CATEGORIES:Worship
END:VEVENT
BEGIN:VEVENT
DTSTART;TZID=America/New_York:20190714T103000
DTEND;TZID=America/New_York:20190714T113000
DTSTAMP:20260425T185538
CREATED:20190101T235022Z
LAST-MODIFIED:20190101T235022Z
UID:5293-1563100200-1563103800@www.goodshepherdblm.org
SUMMARY:Worship with Holy Communion
DESCRIPTION:
URL:https://www.goodshepherdblm.org/event/worship-with-holy-communion-277/
LOCATION:Good Shepherd Lutheran Church\, 3516 White Eagle Drive\, Bloomington\, IL\, 61704\, United States
CATEGORIES:Worship
END:VEVENT
BEGIN:VEVENT
DTSTART;TZID=America/New_York:20190714T080000
DTEND;TZID=America/New_York:20190714T090000
DTSTAMP:20260425T185538
CREATED:20190101T235015Z
LAST-MODIFIED:20190101T235015Z
UID:5291-1563091200-1563094800@www.goodshepherdblm.org
SUMMARY:Worship\, non-Communion
DESCRIPTION:
URL:https://www.goodshepherdblm.org/event/worship-non-communion-228/
LOCATION:Good Shepherd Lutheran Church\, 3516 White Eagle Drive\, Bloomington\, IL\, 61704\, United States
CATEGORIES:Worship
END:VEVENT
BEGIN:VEVENT
DTSTART;TZID=America/New_York:20190707T103000
DTEND;TZID=America/New_York:20190707T113000
DTSTAMP:20260425T185538
CREATED:20190101T235015Z
LAST-MODIFIED:20190101T235015Z
UID:5290-1562495400-1562499000@www.goodshepherdblm.org
SUMMARY:Worship\, non-Communion
DESCRIPTION:
URL:https://www.goodshepherdblm.org/event/worship-non-communion-227/
LOCATION:Good Shepherd Lutheran Church\, 3516 White Eagle Drive\, Bloomington\, IL\, 61704\, United States
CATEGORIES:Worship
END:VEVENT
BEGIN:VEVENT
DTSTART;TZID=America/New_York:20190707T080000
DTEND;TZID=America/New_York:20190707T090000
DTSTAMP:20260425T185538
CREATED:20190101T235014Z
LAST-MODIFIED:20190101T235014Z
UID:5288-1562486400-1562490000@www.goodshepherdblm.org
SUMMARY:Worship with Holy Communion
DESCRIPTION:
URL:https://www.goodshepherdblm.org/event/worship-with-holy-communion-276/
LOCATION:Good Shepherd Lutheran Church\, 3516 White Eagle Drive\, Bloomington\, IL\, 61704\, United States
CATEGORIES:Worship
END:VEVENT
BEGIN:VEVENT
DTSTART;TZID=America/New_York:20190630T103000
DTEND;TZID=America/New_York:20190630T113000
DTSTAMP:20260425T185538
CREATED:20190101T234955Z
LAST-MODIFIED:20190101T234955Z
UID:5286-1561890600-1561894200@www.goodshepherdblm.org
SUMMARY:Worship with Holy Communion
DESCRIPTION:
URL:https://www.goodshepherdblm.org/event/worship-with-holy-communion-275/
LOCATION:Good Shepherd Lutheran Church\, 3516 White Eagle Drive\, Bloomington\, IL\, 61704\, United States
CATEGORIES:Worship
END:VEVENT
BEGIN:VEVENT
DTSTART;TZID=America/New_York:20190630T080000
DTEND;TZID=America/New_York:20190630T090000
DTSTAMP:20260425T185538
CREATED:20190101T234954Z
LAST-MODIFIED:20190101T234954Z
UID:5284-1561881600-1561885200@www.goodshepherdblm.org
SUMMARY:Worship with Holy Communion
DESCRIPTION:
URL:https://www.goodshepherdblm.org/event/worship-with-holy-communion-274/
LOCATION:Good Shepherd Lutheran Church\, 3516 White Eagle Drive\, Bloomington\, IL\, 61704\, United States
CATEGORIES:Worship
END:VEVENT
BEGIN:VEVENT
DTSTART;TZID=America/New_York:20190623T103000
DTEND;TZID=America/New_York:20190623T113000
DTSTAMP:20260425T185538
CREATED:20190101T234954Z
LAST-MODIFIED:20190101T234954Z
UID:5283-1561285800-1561289400@www.goodshepherdblm.org
SUMMARY:Worship with Holy Communion
DESCRIPTION:
URL:https://www.goodshepherdblm.org/event/worship-with-holy-communion-273/
LOCATION:Good Shepherd Lutheran Church\, 3516 White Eagle Drive\, Bloomington\, IL\, 61704\, United States
CATEGORIES:Worship
END:VEVENT
BEGIN:VEVENT
DTSTART;TZID=America/New_York:20190623T080000
DTEND;TZID=America/New_York:20190623T090000
DTSTAMP:20260425T185538
CREATED:20190101T234948Z
LAST-MODIFIED:20190101T234948Z
UID:5281-1561276800-1561280400@www.goodshepherdblm.org
SUMMARY:Worship\, non-Communion
DESCRIPTION:
URL:https://www.goodshepherdblm.org/event/worship-non-communion-226/
LOCATION:Good Shepherd Lutheran Church\, 3516 White Eagle Drive\, Bloomington\, IL\, 61704\, United States
CATEGORIES:Worship
END:VEVENT
BEGIN:VEVENT
DTSTART;TZID=America/New_York:20190616T103000
DTEND;TZID=America/New_York:20190616T113000
DTSTAMP:20260425T185538
CREATED:20190101T234947Z
LAST-MODIFIED:20190101T234947Z
UID:5280-1560681000-1560684600@www.goodshepherdblm.org
SUMMARY:Worship\, non-Communion
DESCRIPTION:
URL:https://www.goodshepherdblm.org/event/worship-non-communion-225/
LOCATION:Good Shepherd Lutheran Church\, 3516 White Eagle Drive\, Bloomington\, IL\, 61704\, United States
CATEGORIES:Worship
END:VEVENT
BEGIN:VEVENT
DTSTART;TZID=America/New_York:20190616T080000
DTEND;TZID=America/New_York:20190616T090000
DTSTAMP:20260425T185538
CREATED:20190101T234947Z
LAST-MODIFIED:20190101T234947Z
UID:5278-1560672000-1560675600@www.goodshepherdblm.org
SUMMARY:Worship with Holy Communion
DESCRIPTION:
URL:https://www.goodshepherdblm.org/event/worship-with-holy-communion-272/
LOCATION:Good Shepherd Lutheran Church\, 3516 White Eagle Drive\, Bloomington\, IL\, 61704\, United States
CATEGORIES:Worship
END:VEVENT
END:VCALENDAR