BEGIN:VCALENDAR
VERSION:2.0
PRODID:-//Good Shepherd Lutheran Church - ECPv6.15.13//NONSGML v1.0//EN
CALSCALE:GREGORIAN
METHOD:PUBLISH
X-WR-CALNAME:Good Shepherd Lutheran Church
X-ORIGINAL-URL:https://www.goodshepherdblm.org
X-WR-CALDESC:Events for Good Shepherd Lutheran Church
REFRESH-INTERVAL;VALUE=DURATION:PT1H
X-Robots-Tag:noindex
X-PUBLISHED-TTL:PT1H
BEGIN:VTIMEZONE
TZID:America/Chicago
BEGIN:DAYLIGHT
TZOFFSETFROM:-0600
TZOFFSETTO:-0500
TZNAME:CDT
DTSTART:20190310T080000
END:DAYLIGHT
BEGIN:STANDARD
TZOFFSETFROM:-0500
TZOFFSETTO:-0600
TZNAME:CST
DTSTART:20191103T070000
END:STANDARD
BEGIN:DAYLIGHT
TZOFFSETFROM:-0600
TZOFFSETTO:-0500
TZNAME:CDT
DTSTART:20200308T080000
END:DAYLIGHT
BEGIN:STANDARD
TZOFFSETFROM:-0500
TZOFFSETTO:-0600
TZNAME:CST
DTSTART:20201101T070000
END:STANDARD
BEGIN:DAYLIGHT
TZOFFSETFROM:-0600
TZOFFSETTO:-0500
TZNAME:CDT
DTSTART:20210314T080000
END:DAYLIGHT
BEGIN:STANDARD
TZOFFSETFROM:-0500
TZOFFSETTO:-0600
TZNAME:CST
DTSTART:20211107T070000
END:STANDARD
BEGIN:DAYLIGHT
TZOFFSETFROM:-0600
TZOFFSETTO:-0500
TZNAME:CDT
DTSTART:20220313T080000
END:DAYLIGHT
BEGIN:STANDARD
TZOFFSETFROM:-0500
TZOFFSETTO:-0600
TZNAME:CST
DTSTART:20221106T070000
END:STANDARD
END:VTIMEZONE
BEGIN:VEVENT
DTSTART;TZID=America/Chicago:20211231T180000
DTEND;TZID=America/Chicago:20211231T180000
DTSTAMP:20260424T102532
CREATED:20220112T171758Z
LAST-MODIFIED:20220112T171758Z
UID:8645-1640973600-1640973600@www.goodshepherdblm.org
SUMMARY:New Year's Eve Service
DESCRIPTION:
URL:https://www.goodshepherdblm.org/event/new-years-eve-service/
LOCATION:Good Shepherd Lutheran Church\, 3516 White Eagle Drive\, Bloomington\, IL\, 61704\, United States
CATEGORIES:Worship
END:VEVENT
BEGIN:VEVENT
DTSTART;TZID=America/Chicago:20211226T090000
DTEND;TZID=America/Chicago:20211226T090000
DTSTAMP:20260424T102532
CREATED:20220112T170108Z
LAST-MODIFIED:20220112T170108Z
UID:8618-1640509200-1640509200@www.goodshepherdblm.org
SUMMARY:Worship with Communion
DESCRIPTION:
URL:https://www.goodshepherdblm.org/event/worship-with-communion-10/
LOCATION:Good Shepherd Lutheran Church\, 3516 White Eagle Drive\, Bloomington\, IL\, 61704\, United States
CATEGORIES:Worship
END:VEVENT
BEGIN:VEVENT
DTSTART;TZID=America/Chicago:20211225T090000
DTEND;TZID=America/Chicago:20211225T090000
DTSTAMP:20260424T102532
CREATED:20211225T060055Z
LAST-MODIFIED:20220112T174109Z
UID:8643-1640422800-1640422800@www.goodshepherdblm.org
SUMMARY:Christmas Day Worship Service
DESCRIPTION:
URL:https://www.goodshepherdblm.org/event/christmas-day-worship-service/
LOCATION:Good Shepherd Lutheran Church\, 3516 White Eagle Drive\, Bloomington\, IL\, 61704\, United States
CATEGORIES:Worship
END:VEVENT
BEGIN:VEVENT
DTSTART;TZID=America/Chicago:20211224T180000
DTEND;TZID=America/Chicago:20211224T180000
DTSTAMP:20260424T102532
CREATED:20220112T171610Z
LAST-MODIFIED:20220112T171610Z
UID:8641-1640368800-1640368800@www.goodshepherdblm.org
SUMMARY:Christmas Eve Candlelight Service
DESCRIPTION:
URL:https://www.goodshepherdblm.org/event/christmas-eve-candlelight-service/
LOCATION:Good Shepherd Lutheran Church\, 3516 White Eagle Drive\, Bloomington\, IL\, 61704\, United States
CATEGORIES:Worship
END:VEVENT
BEGIN:VEVENT
DTSTART;TZID=America/Chicago:20211215T190000
DTEND;TZID=America/Chicago:20211215T190000
DTSTAMP:20260424T102532
CREATED:20220112T171503Z
LAST-MODIFIED:20220112T171503Z
UID:8639-1639594800-1639594800@www.goodshepherdblm.org
SUMMARY:Advent Worship
DESCRIPTION:
URL:https://www.goodshepherdblm.org/event/advent-worship-6/
LOCATION:Good Shepherd Lutheran Church\, 3516 White Eagle Drive\, Bloomington\, IL\, 61704\, United States
CATEGORIES:Worship
END:VEVENT
BEGIN:VEVENT
DTSTART;TZID=America/Chicago:20211212T133000
DTEND;TZID=America/Chicago:20211212T133000
DTSTAMP:20260424T102532
CREATED:20220112T170355Z
LAST-MODIFIED:20220112T170355Z
UID:8622-1639315800-1639315800@www.goodshepherdblm.org
SUMMARY:Pastor @ Carriage Crossing
DESCRIPTION:
URL:https://www.goodshepherdblm.org/event/pastor-carriage-crossing/
LOCATION:Carriage Crossing\, 1402 Leslie Drive\, Bloomington\, IL\, 61704\, United States
CATEGORIES:Worship
END:VEVENT
BEGIN:VEVENT
DTSTART;TZID=America/Chicago:20211212T090000
DTEND;TZID=America/Chicago:20211212T090000
DTSTAMP:20260424T102532
CREATED:20220112T165738Z
LAST-MODIFIED:20220112T165738Z
UID:8610-1639299600-1639299600@www.goodshepherdblm.org
SUMMARY:Worship with Communion
DESCRIPTION:
URL:https://www.goodshepherdblm.org/event/worship-with-communion-8/
LOCATION:Good Shepherd Lutheran Church\, 3516 White Eagle Drive\, Bloomington\, IL\, 61704\, United States
CATEGORIES:Worship
END:VEVENT
BEGIN:VEVENT
DTSTART;TZID=America/Chicago:20211208T190000
DTEND;TZID=America/Chicago:20211208T190000
DTSTAMP:20260424T102532
CREATED:20220112T171258Z
LAST-MODIFIED:20220112T171258Z
UID:8635-1638990000-1638990000@www.goodshepherdblm.org
SUMMARY:Advent Worship
DESCRIPTION:
URL:https://www.goodshepherdblm.org/event/advent-worship-5/
LOCATION:Good Shepherd Lutheran Church\, 3516 White Eagle Drive\, Bloomington\, IL\, 61704\, United States
CATEGORIES:Worship
END:VEVENT
BEGIN:VEVENT
DTSTART;TZID=America/Chicago:20211205T090000
DTEND;TZID=America/Chicago:20211205T090000
DTSTAMP:20260424T102532
CREATED:20220112T165113Z
LAST-MODIFIED:20220112T165113Z
UID:8606-1638694800-1638694800@www.goodshepherdblm.org
SUMMARY:Worship with Communion
DESCRIPTION:
URL:https://www.goodshepherdblm.org/event/worship-with-communion-7/
LOCATION:Good Shepherd Lutheran Church\, 3516 White Eagle Drive\, Bloomington\, IL\, 61704\, United States
CATEGORIES:Worship
END:VEVENT
BEGIN:VEVENT
DTSTART;TZID=America/Chicago:20211201T190000
DTEND;TZID=America/Chicago:20211201T190000
DTSTAMP:20260424T102532
CREATED:20220112T171039Z
LAST-MODIFIED:20220112T171039Z
UID:8630-1638385200-1638385200@www.goodshepherdblm.org
SUMMARY:Advent Worship
DESCRIPTION:
URL:https://www.goodshepherdblm.org/event/advent-worship-4/
LOCATION:Good Shepherd Lutheran Church\, 3516 White Eagle Drive\, Bloomington\, IL\, 61704\, United States
CATEGORIES:Worship
END:VEVENT
BEGIN:VEVENT
DTSTART;TZID=America/Chicago:20211128T090000
DTEND;TZID=America/Chicago:20211128T090000
DTSTAMP:20260424T102532
CREATED:20211110T194552Z
LAST-MODIFIED:20211110T194552Z
UID:8486-1638090000-1638090000@www.goodshepherdblm.org
SUMMARY:Worship with Holy Communion
DESCRIPTION:
URL:https://www.goodshepherdblm.org/event/worship-with-holy-communion-333/
LOCATION:Good Shepherd Lutheran Church\, 3516 White Eagle Drive\, Bloomington\, IL\, 61704\, United States
CATEGORIES:Worship
END:VEVENT
BEGIN:VEVENT
DTSTART;TZID=America/Chicago:20211124T190000
DTEND;TZID=America/Chicago:20211124T190000
DTSTAMP:20260424T102532
CREATED:20211110T194414Z
LAST-MODIFIED:20211110T194414Z
UID:8484-1637780400-1637780400@www.goodshepherdblm.org
SUMMARY:Thanksgiving Eve Worship
DESCRIPTION:
URL:https://www.goodshepherdblm.org/event/thanksgiving-eve-worship/
LOCATION:Good Shepherd Lutheran Church\, 3516 White Eagle Drive\, Bloomington\, IL\, 61704\, United States
CATEGORIES:Worship
END:VEVENT
BEGIN:VEVENT
DTSTART;TZID=America/Chicago:20211121T090000
DTEND;TZID=America/Chicago:20211121T090000
DTSTAMP:20260424T102532
CREATED:20211110T194137Z
LAST-MODIFIED:20211110T194137Z
UID:8480-1637485200-1637485200@www.goodshepherdblm.org
SUMMARY:Worship with Holy Communion
DESCRIPTION:
URL:https://www.goodshepherdblm.org/event/worship-with-holy-communion-332/
LOCATION:Good Shepherd Lutheran Church\, 3516 White Eagle Drive\, Bloomington\, IL\, 61704\, United States
CATEGORIES:Worship
END:VEVENT
BEGIN:VEVENT
DTSTART;TZID=America/Chicago:20211114T133000
DTEND;TZID=America/Chicago:20211114T133000
DTSTAMP:20260424T102532
CREATED:20211110T193845Z
LAST-MODIFIED:20211110T193845Z
UID:8474-1636896600-1636896600@www.goodshepherdblm.org
SUMMARY:Pastor Service at Carriage Crossing
DESCRIPTION:
URL:https://www.goodshepherdblm.org/event/pastor-service-at-carriage-crossing-2/
LOCATION:Carriage Crossing\, 1402 Leslie Drive\, Bloomington\, IL\, 61704\, United States
CATEGORIES:Worship
END:VEVENT
BEGIN:VEVENT
DTSTART;TZID=America/Chicago:20211114T090000
DTEND;TZID=America/Chicago:20211114T090000
DTSTAMP:20260424T102532
CREATED:20211110T193057Z
LAST-MODIFIED:20211110T193057Z
UID:8467-1636880400-1636880400@www.goodshepherdblm.org
SUMMARY:Worship with Holy Communion
DESCRIPTION:
URL:https://www.goodshepherdblm.org/event/worship-with-holy-communion-331/
LOCATION:Good Shepherd Lutheran Church\, 3516 White Eagle Drive\, Bloomington\, IL\, 61704\, United States
CATEGORIES:Worship
END:VEVENT
BEGIN:VEVENT
DTSTART;TZID=America/Chicago:20211107T090000
DTEND;TZID=America/Chicago:20211107T090000
DTSTAMP:20260424T102532
CREATED:20211110T192540Z
LAST-MODIFIED:20211110T192540Z
UID:8457-1636275600-1636275600@www.goodshepherdblm.org
SUMMARY:Worship with Holy Communion
DESCRIPTION:
URL:https://www.goodshepherdblm.org/event/worship-with-holy-communion-330/
LOCATION:Good Shepherd Lutheran Church\, 3516 White Eagle Drive\, Bloomington\, IL\, 61704\, United States
CATEGORIES:Worship
END:VEVENT
BEGIN:VEVENT
DTSTART;TZID=America/Chicago:20211031T090000
DTEND;TZID=America/Chicago:20211031T090000
DTSTAMP:20260424T102532
CREATED:20210930T155416Z
LAST-MODIFIED:20210930T155416Z
UID:8398-1635670800-1635670800@www.goodshepherdblm.org
SUMMARY:Worship with Communion
DESCRIPTION:
URL:https://www.goodshepherdblm.org/event/worship-with-communion-6/
LOCATION:Good Shepherd Lutheran Church\, 3516 White Eagle Drive\, Bloomington\, IL\, 61704\, United States
CATEGORIES:Worship
END:VEVENT
BEGIN:VEVENT
DTSTART;TZID=America/Chicago:20211024T090000
DTEND;TZID=America/Chicago:20211024T090000
DTSTAMP:20260424T102532
CREATED:20210930T155017Z
LAST-MODIFIED:20210930T155017Z
UID:8393-1635066000-1635066000@www.goodshepherdblm.org
SUMMARY:Worship with Communion
DESCRIPTION:
URL:https://www.goodshepherdblm.org/event/worship-with-communion-4/
LOCATION:Good Shepherd Lutheran Church\, 3516 White Eagle Drive\, Bloomington\, IL\, 61704\, United States
CATEGORIES:Worship
END:VEVENT
BEGIN:VEVENT
DTSTART;TZID=America/Chicago:20211017T090000
DTEND;TZID=America/Chicago:20211017T090000
DTSTAMP:20260424T102532
CREATED:20210930T154920Z
LAST-MODIFIED:20210930T154920Z
UID:8391-1634461200-1634461200@www.goodshepherdblm.org
SUMMARY:Worship with Communion
DESCRIPTION:
URL:https://www.goodshepherdblm.org/event/worship-with-communion-3/
LOCATION:Good Shepherd Lutheran Church\, 3516 White Eagle Drive\, Bloomington\, IL\, 61704\, United States
CATEGORIES:Worship
END:VEVENT
BEGIN:VEVENT
DTSTART;TZID=America/Chicago:20211010T133000
DTEND;TZID=America/Chicago:20211010T133000
DTSTAMP:20260424T102532
CREATED:20210930T160254Z
LAST-MODIFIED:20210930T160254Z
UID:8410-1633872600-1633872600@www.goodshepherdblm.org
SUMMARY:Pastor Service at Carriage Crossing
DESCRIPTION:
URL:https://www.goodshepherdblm.org/event/pastor-service-at-carriage-crossing/
LOCATION:Carriage Crossing\, 1402 Leslie Drive\, Bloomington\, IL\, 61704\, United States
CATEGORIES:Worship
END:VEVENT
BEGIN:VEVENT
DTSTART;TZID=America/Chicago:20211010T090000
DTEND;TZID=America/Chicago:20211010T090000
DTSTAMP:20260424T102532
CREATED:20210930T154813Z
LAST-MODIFIED:20210930T154813Z
UID:8389-1633856400-1633856400@www.goodshepherdblm.org
SUMMARY:Worship with Communion
DESCRIPTION:
URL:https://www.goodshepherdblm.org/event/worship-with-communion-2/
LOCATION:Good Shepherd Lutheran Church\, 3516 White Eagle Drive\, Bloomington\, IL\, 61704\, United States
CATEGORIES:Worship
END:VEVENT
BEGIN:VEVENT
DTSTART;TZID=America/Chicago:20211003T090000
DTEND;TZID=America/Chicago:20211003T090000
DTSTAMP:20260424T102532
CREATED:20210930T154605Z
LAST-MODIFIED:20210930T154655Z
UID:8387-1633251600-1633251600@www.goodshepherdblm.org
SUMMARY:Worship with Communion
DESCRIPTION:
URL:https://www.goodshepherdblm.org/event/worship-with-communion/
LOCATION:Good Shepherd Lutheran Church\, 3516 White Eagle Drive\, Bloomington\, IL\, 61704\, United States
CATEGORIES:Worship
END:VEVENT
BEGIN:VEVENT
DTSTART;TZID=America/Chicago:20210829T090000
DTEND;TZID=America/Chicago:20210829T090000
DTSTAMP:20260424T102532
CREATED:20210728T180316Z
LAST-MODIFIED:20210728T180316Z
UID:8345-1630227600-1630227600@www.goodshepherdblm.org
SUMMARY:Worship with Holy Communion
DESCRIPTION:
URL:https://www.goodshepherdblm.org/event/worship-with-holy-communion-329/
LOCATION:Good Shepherd Lutheran Church\, 3516 White Eagle Drive\, Bloomington\, IL\, 61704\, United States
CATEGORIES:Worship
END:VEVENT
BEGIN:VEVENT
DTSTART;TZID=America/Chicago:20210822T090000
DTEND;TZID=America/Chicago:20210822T090000
DTSTAMP:20260424T102532
CREATED:20210728T180102Z
LAST-MODIFIED:20210728T180102Z
UID:8341-1629622800-1629622800@www.goodshepherdblm.org
SUMMARY:Worship with Holy Communion
DESCRIPTION:
URL:https://www.goodshepherdblm.org/event/worship-with-holy-communion-328/
LOCATION:Good Shepherd Lutheran Church\, 3516 White Eagle Drive\, Bloomington\, IL\, 61704\, United States
CATEGORIES:Worship
END:VEVENT
BEGIN:VEVENT
DTSTART;TZID=America/Chicago:20210815T090000
DTEND;TZID=America/Chicago:20210815T090000
DTSTAMP:20260424T102532
CREATED:20210728T175827Z
LAST-MODIFIED:20210728T175827Z
UID:8337-1629018000-1629018000@www.goodshepherdblm.org
SUMMARY:Worship with Holy Communion
DESCRIPTION:
URL:https://www.goodshepherdblm.org/event/worship-with-holy-communion-327/
LOCATION:Good Shepherd Lutheran Church\, 3516 White Eagle Drive\, Bloomington\, IL\, 61704\, United States
CATEGORIES:Worship
END:VEVENT
BEGIN:VEVENT
DTSTART;TZID=America/Chicago:20210808T133000
DTEND;TZID=America/Chicago:20210808T133000
DTSTAMP:20260424T102532
CREATED:20210728T181258Z
LAST-MODIFIED:20210728T181258Z
UID:8349-1628429400-1628429400@www.goodshepherdblm.org
SUMMARY:Pastor Lueck\, Worship at Carriage Crossing
DESCRIPTION:
URL:https://www.goodshepherdblm.org/event/pastor-lueck-worship-at-carriage-crossing/
LOCATION:Carriage Crossing\, 1402 Leslie Drive\, Bloomington\, IL\, 61704\, United States
CATEGORIES:Worship
END:VEVENT
BEGIN:VEVENT
DTSTART;TZID=America/Chicago:20210808T090000
DTEND;TZID=America/Chicago:20210808T090000
DTSTAMP:20260424T102532
CREATED:20210728T175600Z
LAST-MODIFIED:20210728T175600Z
UID:8333-1628413200-1628413200@www.goodshepherdblm.org
SUMMARY:Worship with Holy Communion
DESCRIPTION:
URL:https://www.goodshepherdblm.org/event/worship-with-holy-communion-326/
LOCATION:Good Shepherd Lutheran Church\, 3516 White Eagle Drive\, Bloomington\, IL\, 61704\, United States
CATEGORIES:Worship
END:VEVENT
BEGIN:VEVENT
DTSTART;TZID=America/Chicago:20210801T090000
DTEND;TZID=America/Chicago:20210801T090000
DTSTAMP:20260424T102532
CREATED:20210728T174807Z
LAST-MODIFIED:20210728T174807Z
UID:8328-1627808400-1627808400@www.goodshepherdblm.org
SUMMARY:Worship with Holy Communion
DESCRIPTION:
URL:https://www.goodshepherdblm.org/event/worship-with-holy-communion-325/
LOCATION:Good Shepherd Lutheran Church\, 3516 White Eagle Drive\, Bloomington\, IL\, 61704\, United States
CATEGORIES:Worship
END:VEVENT
BEGIN:VEVENT
DTSTART;TZID=America/Chicago:20201129T090000
DTEND;TZID=America/Chicago:20201129T090000
DTSTAMP:20260424T102532
CREATED:20201103T043928Z
LAST-MODIFIED:20201103T043928Z
UID:8001-1606640400-1606640400@www.goodshepherdblm.org
SUMMARY:Worship with Holy Communion
DESCRIPTION:
URL:https://www.goodshepherdblm.org/event/worship-with-holy-communion-320/
LOCATION:Good Shepherd Lutheran Church\, 3516 White Eagle Drive\, Bloomington\, IL\, 61704\, United States
CATEGORIES:Worship
END:VEVENT
BEGIN:VEVENT
DTSTART;TZID=America/Chicago:20201125T190000
DTEND;TZID=America/Chicago:20201125T190000
DTSTAMP:20260424T102532
CREATED:20201103T045300Z
LAST-MODIFIED:20201103T045300Z
UID:8011-1606330800-1606330800@www.goodshepherdblm.org
SUMMARY:Thanksgiving Worship
DESCRIPTION:
URL:https://www.goodshepherdblm.org/event/thanksgiving-worship/
LOCATION:Good Shepherd Lutheran Church\, 3516 White Eagle Drive\, Bloomington\, IL\, 61704\, United States
CATEGORIES:Worship
END:VEVENT
END:VCALENDAR