BEGIN:VCALENDAR
VERSION:2.0
PRODID:-//Good Shepherd Lutheran Church - ECPv6.15.13//NONSGML v1.0//EN
CALSCALE:GREGORIAN
METHOD:PUBLISH
X-ORIGINAL-URL:https://www.goodshepherdblm.org
X-WR-CALDESC:Events for Good Shepherd Lutheran Church
REFRESH-INTERVAL;VALUE=DURATION:PT1H
X-Robots-Tag:noindex
X-PUBLISHED-TTL:PT1H
BEGIN:VTIMEZONE
TZID:America/Chicago
BEGIN:DAYLIGHT
TZOFFSETFROM:-0600
TZOFFSETTO:-0500
TZNAME:CDT
DTSTART:20210314T080000
END:DAYLIGHT
BEGIN:STANDARD
TZOFFSETFROM:-0500
TZOFFSETTO:-0600
TZNAME:CST
DTSTART:20211107T070000
END:STANDARD
BEGIN:DAYLIGHT
TZOFFSETFROM:-0600
TZOFFSETTO:-0500
TZNAME:CDT
DTSTART:20220313T080000
END:DAYLIGHT
BEGIN:STANDARD
TZOFFSETFROM:-0500
TZOFFSETTO:-0600
TZNAME:CST
DTSTART:20221106T070000
END:STANDARD
BEGIN:DAYLIGHT
TZOFFSETFROM:-0600
TZOFFSETTO:-0500
TZNAME:CDT
DTSTART:20230312T080000
END:DAYLIGHT
BEGIN:STANDARD
TZOFFSETFROM:-0500
TZOFFSETTO:-0600
TZNAME:CST
DTSTART:20231105T070000
END:STANDARD
BEGIN:DAYLIGHT
TZOFFSETFROM:-0600
TZOFFSETTO:-0500
TZNAME:CDT
DTSTART:20240310T080000
END:DAYLIGHT
BEGIN:STANDARD
TZOFFSETFROM:-0500
TZOFFSETTO:-0600
TZNAME:CST
DTSTART:20241103T070000
END:STANDARD
BEGIN:DAYLIGHT
TZOFFSETFROM:-0600
TZOFFSETTO:-0500
TZNAME:CDT
DTSTART:20250309T080000
END:DAYLIGHT
BEGIN:STANDARD
TZOFFSETFROM:-0500
TZOFFSETTO:-0600
TZNAME:CST
DTSTART:20251102T070000
END:STANDARD
BEGIN:DAYLIGHT
TZOFFSETFROM:-0600
TZOFFSETTO:-0500
TZNAME:CDT
DTSTART:20260308T080000
END:DAYLIGHT
BEGIN:STANDARD
TZOFFSETFROM:-0500
TZOFFSETTO:-0600
TZNAME:CST
DTSTART:20261101T070000
END:STANDARD
END:VTIMEZONE
BEGIN:VEVENT
DTSTART;TZID=America/Chicago:20250824T090000
DTEND;TZID=America/Chicago:20250824T140000
DTSTAMP:20260423T153224
CREATED:20250610T153618Z
LAST-MODIFIED:20250611T144038Z
UID:10106-1756026000-1756044000@www.goodshepherdblm.org
SUMMARY:Good Shepherd 30th Church Anniversary Celebration - August 24\, 2025
DESCRIPTION:Come celebrate our 30th anniversary on August 24\, 2025. \n9:15 AM – Bible Study\n10:30 AM – Service\n12:00 PM – Catered Meal \nMeal tickets are $12.00 and will be available later in June. For those coming from out of town\, a special rate is available at the Holiday In Express – 309.662.4700\, ext 7016. \nAdditional information can be found on the Good Shepherd Facebook page. If you have any questions\, please contact the church office.
URL:https://www.goodshepherdblm.org/event/good-shepherd-25th-church-anniversary-celebration-august-24-2025/
CATEGORIES:Anniversary Committee,Worship
END:VEVENT
BEGIN:VEVENT
DTSTART;VALUE=DATE:20250412
DTEND;VALUE=DATE:20250423
DTSTAMP:20260423T153224
CREATED:20250405T125521Z
LAST-MODIFIED:20250412T215006Z
UID:10042-1744416000-1745366399@www.goodshepherdblm.org
SUMMARY:Celebrate Holy Week with Us!
DESCRIPTION:
URL:https://www.goodshepherdblm.org/event/celebrate-holy-week-with-us/
CATEGORIES:Worship
END:VEVENT
BEGIN:VEVENT
DTSTART;TZID=America/Chicago:20230929T080000
DTEND;TZID=America/Chicago:20231001T170000
DTSTAMP:20260423T153224
CREATED:20230917T125254Z
LAST-MODIFIED:20230920T013749Z
UID:9664-1695974400-1696179600@www.goodshepherdblm.org
SUMMARY:Outreach Weekend - Sept 29 - Oct 1
DESCRIPTION:Come join us for a weekend full of faith\, fun\, and fellowship!
URL:https://www.goodshepherdblm.org/event/outreach-weekend-sept-29-oct-1/
LOCATION:Good Shepherd Lutheran Church\, 3516 White Eagle Drive\, Bloomington\, IL\, 61704\, United States
CATEGORIES:Worship
END:VEVENT
BEGIN:VEVENT
DTSTART;TZID=America/Chicago:20221130T190000
DTEND;TZID=America/Chicago:20221130T190000
DTSTAMP:20260423T153224
CREATED:20221031T141138Z
LAST-MODIFIED:20221031T141138Z
UID:9417-1669834800-1669834800@www.goodshepherdblm.org
SUMMARY:Advent Worship
DESCRIPTION:
URL:https://www.goodshepherdblm.org/event/advent-worship-7/
LOCATION:Good Shepherd Lutheran Church\, 3516 White Eagle Drive\, Bloomington\, IL\, 61704\, United States
CATEGORIES:Worship
END:VEVENT
BEGIN:VEVENT
DTSTART;TZID=America/Chicago:20221127T090000
DTEND;TZID=America/Chicago:20221127T090000
DTSTAMP:20260423T153224
CREATED:20221031T162550Z
LAST-MODIFIED:20221031T162550Z
UID:9435-1669539600-1669539600@www.goodshepherdblm.org
SUMMARY:Worship with Communion
DESCRIPTION:
URL:https://www.goodshepherdblm.org/event/worship-with-communion-41/
LOCATION:Good Shepherd Lutheran Church\, 3516 White Eagle Drive\, Bloomington\, IL\, 61704\, United States
CATEGORIES:Worship
END:VEVENT
BEGIN:VEVENT
DTSTART;TZID=America/Chicago:20221123T080000
DTEND;TZID=America/Chicago:20221123T080000
DTSTAMP:20260423T153224
CREATED:20221031T135458Z
LAST-MODIFIED:20221031T135520Z
UID:9412-1669190400-1669190400@www.goodshepherdblm.org
SUMMARY:Thanksgiving Eve Worship
DESCRIPTION:
URL:https://www.goodshepherdblm.org/event/thanksgiving-eve-worshi/
LOCATION:Good Shepherd Lutheran Church\, 3516 White Eagle Drive\, Bloomington\, IL\, 61704\, United States
CATEGORIES:Worship
END:VEVENT
BEGIN:VEVENT
DTSTART;TZID=America/Chicago:20221120T090000
DTEND;TZID=America/Chicago:20221120T090000
DTSTAMP:20260423T153224
CREATED:20221031T162134Z
LAST-MODIFIED:20221031T162134Z
UID:9431-1668934800-1668934800@www.goodshepherdblm.org
SUMMARY:Worship with Communion
DESCRIPTION:
URL:https://www.goodshepherdblm.org/event/worship-with-communion-40/
LOCATION:Good Shepherd Lutheran Church\, 3516 White Eagle Drive\, Bloomington\, IL\, 61704\, United States
CATEGORIES:Worship
END:VEVENT
BEGIN:VEVENT
DTSTART;TZID=America/Chicago:20221113T090000
DTEND;TZID=America/Chicago:20221113T090000
DTSTAMP:20260423T153224
CREATED:20221031T161514Z
LAST-MODIFIED:20221031T161514Z
UID:9425-1668330000-1668330000@www.goodshepherdblm.org
SUMMARY:Worship with Communion
DESCRIPTION:
URL:https://www.goodshepherdblm.org/event/worship-with-communion-39/
LOCATION:Good Shepherd Lutheran Church\, 3516 White Eagle Drive\, Bloomington\, IL\, 61704\, United States
CATEGORIES:Worship
END:VEVENT
BEGIN:VEVENT
DTSTART;VALUE=DATE:20221113
DTEND;VALUE=DATE:20221114
DTSTAMP:20260423T153224
CREATED:20221031T025831Z
LAST-MODIFIED:20221031T025831Z
UID:9399-1668297600-1668383999@www.goodshepherdblm.org
SUMMARY:Stewardship Sunday
DESCRIPTION:
URL:https://www.goodshepherdblm.org/event/stewardship-sunday-3/
CATEGORIES:Worship
END:VEVENT
BEGIN:VEVENT
DTSTART;TZID=America/Chicago:20221106T090000
DTEND;TZID=America/Chicago:20221106T090000
DTSTAMP:20260423T153224
CREATED:20221031T160453Z
LAST-MODIFIED:20221031T160453Z
UID:9419-1667725200-1667725200@www.goodshepherdblm.org
SUMMARY:Worship with Communion (Includes Baptism & Confirmation Today)
DESCRIPTION:
URL:https://www.goodshepherdblm.org/event/worship-with-communion-includes-baptism-confirmation-today/
LOCATION:Good Shepherd Lutheran Church\, 3516 White Eagle Drive\, Bloomington\, IL\, 61704\, United States
CATEGORIES:Worship
END:VEVENT
BEGIN:VEVENT
DTSTART;TZID=America/Chicago:20221106T080000
DTEND;TZID=America/Chicago:20221106T170000
DTSTAMP:20260423T153224
CREATED:20221031T025712Z
LAST-MODIFIED:20221031T025712Z
UID:9397-1667721600-1667754000@www.goodshepherdblm.org
SUMMARY:All Saints Day Celebrated
DESCRIPTION:
URL:https://www.goodshepherdblm.org/event/all-saints-day-celebrated/
CATEGORIES:Worship
END:VEVENT
BEGIN:VEVENT
DTSTART;TZID=America/Chicago:20221030T090000
DTEND;TZID=America/Chicago:20221030T090000
DTSTAMP:20260423T153224
CREATED:20221002T012318Z
LAST-MODIFIED:20221002T012318Z
UID:9355-1667120400-1667120400@www.goodshepherdblm.org
SUMMARY:Worship with Communion
DESCRIPTION:
URL:https://www.goodshepherdblm.org/event/worship-with-communion-38/
LOCATION:Good Shepherd Lutheran Church\, 3516 White Eagle Drive\, Bloomington\, IL\, 61704\, United States
CATEGORIES:Worship
END:VEVENT
BEGIN:VEVENT
DTSTART;TZID=America/Chicago:20221023T090000
DTEND;TZID=America/Chicago:20221023T090000
DTSTAMP:20260423T153224
CREATED:20221002T011620Z
LAST-MODIFIED:20221002T011620Z
UID:9345-1666515600-1666515600@www.goodshepherdblm.org
SUMMARY:Worship with Communion
DESCRIPTION:
URL:https://www.goodshepherdblm.org/event/worship-with-communion-37/
LOCATION:Good Shepherd Lutheran Church\, 3516 White Eagle Drive\, Bloomington\, IL\, 61704\, United States
CATEGORIES:Worship
END:VEVENT
BEGIN:VEVENT
DTSTART;TZID=America/Chicago:20221016T090000
DTEND;TZID=America/Chicago:20221016T090000
DTSTAMP:20260423T153224
CREATED:20221002T010753Z
LAST-MODIFIED:20221002T010753Z
UID:9335-1665910800-1665910800@www.goodshepherdblm.org
SUMMARY:Worship with Communion
DESCRIPTION:
URL:https://www.goodshepherdblm.org/event/worship-with-communion-36/
LOCATION:Good Shepherd Lutheran Church\, 3516 White Eagle Drive\, Bloomington\, IL\, 61704\, United States
CATEGORIES:Worship
END:VEVENT
BEGIN:VEVENT
DTSTART;TZID=America/Chicago:20221009T090000
DTEND;TZID=America/Chicago:20221009T090000
DTSTAMP:20260423T153224
CREATED:20221001T174521Z
LAST-MODIFIED:20221001T174521Z
UID:9316-1665306000-1665306000@www.goodshepherdblm.org
SUMMARY:Worship with Communion
DESCRIPTION:
URL:https://www.goodshepherdblm.org/event/worship-with-communion-35/
LOCATION:Good Shepherd Lutheran Church\, 3516 White Eagle Drive\, Bloomington\, IL\, 61704\, United States
CATEGORIES:Worship
END:VEVENT
BEGIN:VEVENT
DTSTART;TZID=America/Chicago:20221002T090000
DTEND;TZID=America/Chicago:20221002T090000
DTSTAMP:20260423T153224
CREATED:20221001T010858Z
LAST-MODIFIED:20221001T010858Z
UID:9299-1664701200-1664701200@www.goodshepherdblm.org
SUMMARY:Worship with Communion
DESCRIPTION:
URL:https://www.goodshepherdblm.org/event/worship-with-communion-34/
LOCATION:Good Shepherd Lutheran Church\, 3516 White Eagle Drive\, Bloomington\, IL\, 61704\, United States
CATEGORIES:Worship
END:VEVENT
BEGIN:VEVENT
DTSTART;TZID=America/Chicago:20220925T090000
DTEND;TZID=America/Chicago:20220925T090000
DTSTAMP:20260423T153224
CREATED:20220901T031631Z
LAST-MODIFIED:20220901T031631Z
UID:9241-1664096400-1664096400@www.goodshepherdblm.org
SUMMARY:Worship with Communion
DESCRIPTION:
URL:https://www.goodshepherdblm.org/event/worship-with-communion-33/
LOCATION:Good Shepherd Lutheran Church\, 3516 White Eagle Drive\, Bloomington\, IL\, 61704\, United States
CATEGORIES:Worship
END:VEVENT
BEGIN:VEVENT
DTSTART;TZID=America/Chicago:20220918T090000
DTEND;TZID=America/Chicago:20220918T090000
DTSTAMP:20260423T153224
CREATED:20220901T024617Z
LAST-MODIFIED:20220901T024617Z
UID:9227-1663491600-1663491600@www.goodshepherdblm.org
SUMMARY:Worship with Communion
DESCRIPTION:
URL:https://www.goodshepherdblm.org/event/worship-with-communion-32/
LOCATION:Good Shepherd Lutheran Church\, 3516 White Eagle Drive\, Bloomington\, IL\, 61704\, United States
CATEGORIES:Worship
END:VEVENT
BEGIN:VEVENT
DTSTART;TZID=America/Chicago:20220911T090000
DTEND;TZID=America/Chicago:20220911T090000
DTSTAMP:20260423T153224
CREATED:20220901T015816Z
LAST-MODIFIED:20220901T015816Z
UID:9217-1662886800-1662886800@www.goodshepherdblm.org
SUMMARY:Worship with Communion
DESCRIPTION:
URL:https://www.goodshepherdblm.org/event/worship-with-communion-31/
LOCATION:Good Shepherd Lutheran Church\, 3516 White Eagle Drive\, Bloomington\, IL\, 61704\, United States
CATEGORIES:Worship
END:VEVENT
BEGIN:VEVENT
DTSTART;TZID=America/Chicago:20220904T090000
DTEND;TZID=America/Chicago:20220904T090000
DTSTAMP:20260423T153224
CREATED:20220901T013202Z
LAST-MODIFIED:20220901T013202Z
UID:9208-1662282000-1662282000@www.goodshepherdblm.org
SUMMARY:Worship with Communion
DESCRIPTION:
URL:https://www.goodshepherdblm.org/event/worship-with-communion-30/
LOCATION:Good Shepherd Lutheran Church\, 3516 White Eagle Drive\, Bloomington\, IL\, 61704\, United States
CATEGORIES:Worship
END:VEVENT
BEGIN:VEVENT
DTSTART;TZID=America/Chicago:20220828T090000
DTEND;TZID=America/Chicago:20220828T090000
DTSTAMP:20260423T153224
CREATED:20220807T235140Z
LAST-MODIFIED:20220807T235140Z
UID:9167-1661677200-1661677200@www.goodshepherdblm.org
SUMMARY:Worship with Holy Communion
DESCRIPTION:
URL:https://www.goodshepherdblm.org/event/worship-with-holy-communion-341/
LOCATION:Good Shepherd Lutheran Church\, 3516 White Eagle Drive\, Bloomington\, IL\, 61704\, United States
CATEGORIES:Worship
END:VEVENT
BEGIN:VEVENT
DTSTART;TZID=America/Chicago:20220821T090000
DTEND;TZID=America/Chicago:20220821T090000
DTSTAMP:20260423T153224
CREATED:20220807T235037Z
LAST-MODIFIED:20220807T235037Z
UID:9165-1661072400-1661072400@www.goodshepherdblm.org
SUMMARY:Worship with Holy Communion
DESCRIPTION:
URL:https://www.goodshepherdblm.org/event/worship-with-holy-communion-340/
LOCATION:Good Shepherd Lutheran Church\, 3516 White Eagle Drive\, Bloomington\, IL\, 61704\, United States
CATEGORIES:Worship
END:VEVENT
BEGIN:VEVENT
DTSTART;TZID=America/Chicago:20220814T090000
DTEND;TZID=America/Chicago:20220814T090000
DTSTAMP:20260423T153224
CREATED:20220807T234909Z
LAST-MODIFIED:20220807T234909Z
UID:9163-1660467600-1660467600@www.goodshepherdblm.org
SUMMARY:Worship with Holy Communion
DESCRIPTION:
URL:https://www.goodshepherdblm.org/event/worship-with-holy-communion-339/
LOCATION:Good Shepherd Lutheran Church\, 3516 White Eagle Drive\, Bloomington\, IL\, 61704\, United States
CATEGORIES:Worship
END:VEVENT
BEGIN:VEVENT
DTSTART;TZID=America/Chicago:20220807T090000
DTEND;TZID=America/Chicago:20220807T090000
DTSTAMP:20260423T153224
CREATED:20220807T234750Z
LAST-MODIFIED:20220807T234750Z
UID:9161-1659862800-1659862800@www.goodshepherdblm.org
SUMMARY:Worship with Holy Communion
DESCRIPTION:
URL:https://www.goodshepherdblm.org/event/worship-with-holy-communion-316/
LOCATION:Good Shepherd Lutheran Church\, 3516 White Eagle Drive\, Bloomington\, IL\, 61704\, United States
CATEGORIES:Worship
END:VEVENT
BEGIN:VEVENT
DTSTART;TZID=America/Chicago:20220731T090000
DTEND;TZID=America/Chicago:20220731T090000
DTSTAMP:20260423T153224
CREATED:20220712T033045Z
LAST-MODIFIED:20220712T033045Z
UID:9074-1659258000-1659258000@www.goodshepherdblm.org
SUMMARY:Worship with Communion
DESCRIPTION:
URL:https://www.goodshepherdblm.org/event/worship-with-communion-29/
LOCATION:Good Shepherd Lutheran Church\, 3516 White Eagle Drive\, Bloomington\, IL\, 61704\, United States
CATEGORIES:Worship
END:VEVENT
BEGIN:VEVENT
DTSTART;TZID=America/Chicago:20220724T090000
DTEND;TZID=America/Chicago:20220724T090000
DTSTAMP:20260423T153224
CREATED:20220712T032928Z
LAST-MODIFIED:20220712T032928Z
UID:9072-1658653200-1658653200@www.goodshepherdblm.org
SUMMARY:Worship with Communion
DESCRIPTION:
URL:https://www.goodshepherdblm.org/event/worship-with-communion-28/
LOCATION:Good Shepherd Lutheran Church\, 3516 White Eagle Drive\, Bloomington\, IL\, 61704\, United States
CATEGORIES:Worship
END:VEVENT
BEGIN:VEVENT
DTSTART;TZID=America/Chicago:20220717T090000
DTEND;TZID=America/Chicago:20220717T090000
DTSTAMP:20260423T153224
CREATED:20220712T032826Z
LAST-MODIFIED:20220712T032826Z
UID:9070-1658048400-1658048400@www.goodshepherdblm.org
SUMMARY:Worship with Communion
DESCRIPTION:
URL:https://www.goodshepherdblm.org/event/worship-with-communion-27/
LOCATION:Good Shepherd Lutheran Church\, 3516 White Eagle Drive\, Bloomington\, IL\, 61704\, United States
CATEGORIES:Worship
END:VEVENT
BEGIN:VEVENT
DTSTART;TZID=America/Chicago:20220710T090000
DTEND;TZID=America/Chicago:20220710T090000
DTSTAMP:20260423T153224
CREATED:20220712T032712Z
LAST-MODIFIED:20220712T032712Z
UID:9068-1657443600-1657443600@www.goodshepherdblm.org
SUMMARY:Worship with Communion
DESCRIPTION:
URL:https://www.goodshepherdblm.org/event/worship-with-communion-26/
LOCATION:Good Shepherd Lutheran Church\, 3516 White Eagle Drive\, Bloomington\, IL\, 61704\, United States
CATEGORIES:Worship
END:VEVENT
BEGIN:VEVENT
DTSTART;TZID=America/Chicago:20220703T090000
DTEND;TZID=America/Chicago:20220703T090000
DTSTAMP:20260423T153224
CREATED:20220712T032548Z
LAST-MODIFIED:20220712T032548Z
UID:9066-1656838800-1656838800@www.goodshepherdblm.org
SUMMARY:Worship with Communion
DESCRIPTION:
URL:https://www.goodshepherdblm.org/event/worship-with-communion-25/
LOCATION:Good Shepherd Lutheran Church\, 3516 White Eagle Drive\, Bloomington\, IL\, 61704\, United States
CATEGORIES:Worship
END:VEVENT
BEGIN:VEVENT
DTSTART;TZID=America/Chicago:20220626T090000
DTEND;TZID=America/Chicago:20220626T090000
DTSTAMP:20260423T153224
CREATED:20220603T042517Z
LAST-MODIFIED:20220603T042517Z
UID:9029-1656234000-1656234000@www.goodshepherdblm.org
SUMMARY:Worship with Communion
DESCRIPTION:
URL:https://www.goodshepherdblm.org/event/worship-with-communion-24/
LOCATION:Good Shepherd Lutheran Church\, 3516 White Eagle Drive\, Bloomington\, IL\, 61704\, United States
CATEGORIES:Worship
END:VEVENT
END:VCALENDAR