BEGIN:VCALENDAR
VERSION:2.0
PRODID:-//Good Shepherd Lutheran Church - ECPv6.15.13//NONSGML v1.0//EN
CALSCALE:GREGORIAN
METHOD:PUBLISH
X-ORIGINAL-URL:https://www.goodshepherdblm.org
X-WR-CALDESC:Events for Good Shepherd Lutheran Church
REFRESH-INTERVAL;VALUE=DURATION:PT1H
X-Robots-Tag:noindex
X-PUBLISHED-TTL:PT1H
BEGIN:VTIMEZONE
TZID:America/Chicago
BEGIN:DAYLIGHT
TZOFFSETFROM:-0600
TZOFFSETTO:-0500
TZNAME:CDT
DTSTART:20130310T080000
END:DAYLIGHT
BEGIN:STANDARD
TZOFFSETFROM:-0500
TZOFFSETTO:-0600
TZNAME:CST
DTSTART:20131103T070000
END:STANDARD
BEGIN:DAYLIGHT
TZOFFSETFROM:-0600
TZOFFSETTO:-0500
TZNAME:CDT
DTSTART:20140309T080000
END:DAYLIGHT
BEGIN:STANDARD
TZOFFSETFROM:-0500
TZOFFSETTO:-0600
TZNAME:CST
DTSTART:20141102T070000
END:STANDARD
BEGIN:DAYLIGHT
TZOFFSETFROM:-0600
TZOFFSETTO:-0500
TZNAME:CDT
DTSTART:20150308T080000
END:DAYLIGHT
BEGIN:STANDARD
TZOFFSETFROM:-0500
TZOFFSETTO:-0600
TZNAME:CST
DTSTART:20151101T070000
END:STANDARD
BEGIN:DAYLIGHT
TZOFFSETFROM:-0600
TZOFFSETTO:-0500
TZNAME:CDT
DTSTART:20160313T080000
END:DAYLIGHT
BEGIN:STANDARD
TZOFFSETFROM:-0500
TZOFFSETTO:-0600
TZNAME:CST
DTSTART:20161106T070000
END:STANDARD
END:VTIMEZONE
BEGIN:VEVENT
DTSTART;TZID=America/Chicago:20150911T051500
DTEND;TZID=America/Chicago:20150911T181500
DTSTAMP:20260424T002500
CREATED:20150901T031311Z
LAST-MODIFIED:20150901T031311Z
UID:1357-1441948500-1441995300@www.goodshepherdblm.org
SUMMARY:Doddek/Bliese Wedding Rehearsal
DESCRIPTION:
URL:https://www.goodshepherdblm.org/event/doddekbliese-wedding-rehearsal/
LOCATION:Good Shepherd Lutheran Church\, 3516 White Eagle Drive\, Bloomington\, IL\, 61704\, United States
CATEGORIES:Services
END:VEVENT
BEGIN:VEVENT
DTSTART;VALUE=DATE:20150719
DTEND;VALUE=DATE:20150720
DTSTAMP:20260424T002500
CREATED:20150802T160158Z
LAST-MODIFIED:20150802T160158Z
UID:1302-1437264000-1437350399@www.goodshepherdblm.org
SUMMARY:20th CHURCH ANNIVERSARY
DESCRIPTION:
URL:https://www.goodshepherdblm.org/event/20th-church-anniversary/
LOCATION:Good Shepherd Lutheran Church\, 3516 White Eagle Drive\, Bloomington\, IL\, 61704\, United States
CATEGORIES:Services
END:VEVENT
BEGIN:VEVENT
DTSTART;TZID=America/Chicago:20150225T190000
DTEND;TZID=America/Chicago:20150225T200000
DTSTAMP:20260424T002500
CREATED:20150127T002754Z
LAST-MODIFIED:20150127T002754Z
UID:743-1424890800-1424894400@www.goodshepherdblm.org
SUMMARY:Mid-Week Lenten Worship Service
DESCRIPTION:
URL:https://www.goodshepherdblm.org/event/mid-week-lenten-worship-service/
LOCATION:Good Shepherd Lutheran Church\, 3516 White Eagle Drive\, Bloomington\, IL\, 61704\, United States
CATEGORIES:Services
END:VEVENT
BEGIN:VEVENT
DTSTART;TZID=America/Chicago:20150218T190000
DTEND;TZID=America/Chicago:20150218T200000
DTSTAMP:20260424T002500
CREATED:20150127T001259Z
LAST-MODIFIED:20150127T053759Z
UID:737-1424286000-1424289600@www.goodshepherdblm.org
SUMMARY:Ash Wednesday Worship with Holy Communion
DESCRIPTION:
URL:https://www.goodshepherdblm.org/event/ash-wednesday-worship-whc/
LOCATION:Good Shepherd Lutheran Church\, 3516 White Eagle Drive\, Bloomington\, IL\, 61704\, United States
CATEGORIES:Services
END:VEVENT
BEGIN:VEVENT
DTSTART;TZID=America/Chicago:20150104T080000
DTEND;TZID=America/Chicago:20150104T233000
DTSTAMP:20260424T002500
CREATED:20150102T063841Z
LAST-MODIFIED:20150102T063841Z
UID:664-1420358400-1420414200@www.goodshepherdblm.org
SUMMARY:Holy Communion\, Officer Installations Both Services
DESCRIPTION:
URL:https://www.goodshepherdblm.org/event/holy-communion-officer-installations-both-services/
LOCATION:Good Shepherd Lutheran Church\, 3516 White Eagle Drive\, Bloomington\, IL\, 61704\, United States
CATEGORIES:Services
END:VEVENT
BEGIN:VEVENT
DTSTART;TZID=America/Chicago:20140824T080000
DTEND;TZID=America/Chicago:20140824T090000
DTSTAMP:20260424T002500
CREATED:20140818T030404Z
LAST-MODIFIED:20140818T030404Z
UID:109-1408867200-1408870800@www.goodshepherdblm.org
SUMMARY:Worship
DESCRIPTION:Non-Communion Service
URL:https://www.goodshepherdblm.org/event/worship/
LOCATION:Good Shepherd Lutheran Church\, 3516 White Eagle Drive\, Bloomington\, IL\, 61704\, United States
CATEGORIES:Services
END:VEVENT
END:VCALENDAR