BEGIN:VCALENDAR
VERSION:2.0
PRODID:-//Good Shepherd Lutheran Church - ECPv6.15.13//NONSGML v1.0//EN
CALSCALE:GREGORIAN
METHOD:PUBLISH
X-ORIGINAL-URL:https://www.goodshepherdblm.org
X-WR-CALDESC:Events for Good Shepherd Lutheran Church
REFRESH-INTERVAL;VALUE=DURATION:PT1H
X-Robots-Tag:noindex
X-PUBLISHED-TTL:PT1H
BEGIN:VTIMEZONE
TZID:America/Chicago
BEGIN:DAYLIGHT
TZOFFSETFROM:-0600
TZOFFSETTO:-0500
TZNAME:CDT
DTSTART:20130310T080000
END:DAYLIGHT
BEGIN:STANDARD
TZOFFSETFROM:-0500
TZOFFSETTO:-0600
TZNAME:CST
DTSTART:20131103T070000
END:STANDARD
BEGIN:DAYLIGHT
TZOFFSETFROM:-0600
TZOFFSETTO:-0500
TZNAME:CDT
DTSTART:20140309T080000
END:DAYLIGHT
BEGIN:STANDARD
TZOFFSETFROM:-0500
TZOFFSETTO:-0600
TZNAME:CST
DTSTART:20141102T070000
END:STANDARD
BEGIN:DAYLIGHT
TZOFFSETFROM:-0600
TZOFFSETTO:-0500
TZNAME:CDT
DTSTART:20150308T080000
END:DAYLIGHT
BEGIN:STANDARD
TZOFFSETFROM:-0500
TZOFFSETTO:-0600
TZNAME:CST
DTSTART:20151101T070000
END:STANDARD
BEGIN:DAYLIGHT
TZOFFSETFROM:-0600
TZOFFSETTO:-0500
TZNAME:CDT
DTSTART:20160313T080000
END:DAYLIGHT
BEGIN:STANDARD
TZOFFSETFROM:-0500
TZOFFSETTO:-0600
TZNAME:CST
DTSTART:20161106T070000
END:STANDARD
END:VTIMEZONE
BEGIN:VEVENT
DTSTART;TZID=America/Chicago:20150501T190000
DTEND;TZID=America/Chicago:20150501T200000
DTSTAMP:20260424T073656
CREATED:20150426T235312Z
LAST-MODIFIED:20150426T235312Z
UID:1016-1430506800-1430510400@www.goodshepherdblm.org
SUMMARY:Prayer Time
DESCRIPTION:
URL:https://www.goodshepherdblm.org/event/prayer-time-8/
LOCATION:Good Shepherd Lutheran Church\, 3516 White Eagle Drive\, Bloomington\, IL\, 61704\, United States
CATEGORIES:Prayer Time
END:VEVENT
BEGIN:VEVENT
DTSTART;TZID=America/Chicago:20150403T180000
DTEND;TZID=America/Chicago:20150403T190000
DTSTAMP:20260424T073656
CREATED:20150328T182550Z
LAST-MODIFIED:20150328T182550Z
UID:951-1428084000-1428087600@www.goodshepherdblm.org
SUMMARY:Prayer Time
DESCRIPTION:
URL:https://www.goodshepherdblm.org/event/prayer-time-7/
LOCATION:Good Shepherd Lutheran Church\, 3516 White Eagle Drive\, Bloomington\, IL\, 61704\, United States
CATEGORIES:Prayer Time
END:VEVENT
BEGIN:VEVENT
DTSTART;TZID=America/Chicago:20150102T190000
DTEND;TZID=America/Chicago:20150102T200000
DTSTAMP:20260424T073656
CREATED:20150108T055135Z
LAST-MODIFIED:20150108T055135Z
UID:673-1420225200-1420228800@www.goodshepherdblm.org
SUMMARY:Prayer Time
DESCRIPTION:
URL:https://www.goodshepherdblm.org/event/prayer-time-4/
LOCATION:Good Shepherd Lutheran Church\, 3516 White Eagle Drive\, Bloomington\, IL\, 61704\, United States
CATEGORIES:Prayer Time
END:VEVENT
BEGIN:VEVENT
DTSTART;TZID=America/Chicago:20141205T190000
DTEND;TZID=America/Chicago:20141205T200000
DTSTAMP:20260424T073656
CREATED:20141122T053148Z
LAST-MODIFIED:20141122T053148Z
UID:543-1417806000-1417809600@www.goodshepherdblm.org
SUMMARY:Prayer Time
DESCRIPTION:
URL:https://www.goodshepherdblm.org/event/prayer-time-3/
LOCATION:Good Shepherd Lutheran Church\, 3516 White Eagle Drive\, Bloomington\, IL\, 61704\, United States
CATEGORIES:Prayer Time
END:VEVENT
BEGIN:VEVENT
DTSTART;TZID=America/Chicago:20141107T190000
DTEND;TZID=America/Chicago:20141107T200000
DTSTAMP:20260424T073656
CREATED:20141019T154246Z
LAST-MODIFIED:20141019T154246Z
UID:444-1415386800-1415390400@www.goodshepherdblm.org
SUMMARY:Prayer Time
DESCRIPTION:
URL:https://www.goodshepherdblm.org/event/prayer-time-2/
LOCATION:Good Shepherd Lutheran Church\, 3516 White Eagle Drive\, Bloomington\, IL\, 61704\, United States
CATEGORIES:Prayer Time
END:VEVENT
END:VCALENDAR