BEGIN:VCALENDAR
VERSION:2.0
PRODID:-//Good Shepherd Lutheran Church - ECPv6.15.13//NONSGML v1.0//EN
CALSCALE:GREGORIAN
METHOD:PUBLISH
X-WR-CALNAME:Good Shepherd Lutheran Church
X-ORIGINAL-URL:https://www.goodshepherdblm.org
X-WR-CALDESC:Events for Good Shepherd Lutheran Church
REFRESH-INTERVAL;VALUE=DURATION:PT1H
X-Robots-Tag:noindex
X-PUBLISHED-TTL:PT1H
BEGIN:VTIMEZONE
TZID:America/New_York
BEGIN:DAYLIGHT
TZOFFSETFROM:-0500
TZOFFSETTO:-0400
TZNAME:EDT
DTSTART:20150308T070000
END:DAYLIGHT
BEGIN:STANDARD
TZOFFSETFROM:-0400
TZOFFSETTO:-0500
TZNAME:EST
DTSTART:20151101T060000
END:STANDARD
BEGIN:DAYLIGHT
TZOFFSETFROM:-0500
TZOFFSETTO:-0400
TZNAME:EDT
DTSTART:20160313T070000
END:DAYLIGHT
BEGIN:STANDARD
TZOFFSETFROM:-0400
TZOFFSETTO:-0500
TZNAME:EST
DTSTART:20161106T060000
END:STANDARD
BEGIN:DAYLIGHT
TZOFFSETFROM:-0500
TZOFFSETTO:-0400
TZNAME:EDT
DTSTART:20170312T070000
END:DAYLIGHT
BEGIN:STANDARD
TZOFFSETFROM:-0400
TZOFFSETTO:-0500
TZNAME:EST
DTSTART:20171105T060000
END:STANDARD
BEGIN:DAYLIGHT
TZOFFSETFROM:-0500
TZOFFSETTO:-0400
TZNAME:EDT
DTSTART:20180311T070000
END:DAYLIGHT
BEGIN:STANDARD
TZOFFSETFROM:-0400
TZOFFSETTO:-0500
TZNAME:EST
DTSTART:20181104T060000
END:STANDARD
BEGIN:DAYLIGHT
TZOFFSETFROM:-0500
TZOFFSETTO:-0400
TZNAME:EDT
DTSTART:20190310T070000
END:DAYLIGHT
BEGIN:STANDARD
TZOFFSETFROM:-0400
TZOFFSETTO:-0500
TZNAME:EST
DTSTART:20191103T060000
END:STANDARD
END:VTIMEZONE
BEGIN:VEVENT
DTSTART;TZID=America/New_York:20180508T083000
DTEND;TZID=America/New_York:20180508T113000
DTSTAMP:20260424T074535
CREATED:20180430T145229Z
LAST-MODIFIED:20180430T145229Z
UID:4526-1525768200-1525779000@www.goodshepherdblm.org
SUMMARY:Bloomington North Pastor's Conference
DESCRIPTION:
URL:https://www.goodshepherdblm.org/event/bloomington-north-pastors-conference-14/
LOCATION:Holy Trinity Lutheran Church\, Streator\, IL\, 61311\, United States
CATEGORIES:Pastor's Conference
END:VEVENT
BEGIN:VEVENT
DTSTART;TZID=America/New_York:20180501T093000
DTEND;TZID=America/New_York:20180501T120000
DTSTAMP:20260424T074535
CREATED:20180430T140854Z
LAST-MODIFIED:20180430T141229Z
UID:4507-1525167000-1525176000@www.goodshepherdblm.org
SUMMARY:Bloomington South Pastor's Conference\, Hosted by Pastor Lueck
DESCRIPTION:
URL:https://www.goodshepherdblm.org/event/bloomington-south-pastors-conference-12/
LOCATION:Good Shepherd Lutheran Church\, 3516 White Eagle Drive\, Bloomington\, IL\, 61704\, United States
CATEGORIES:Pastor's Conference
END:VEVENT
BEGIN:VEVENT
DTSTART;TZID=America/New_York:20180410T083000
DTEND;TZID=America/New_York:20180410T113000
DTSTAMP:20260424T074535
CREATED:20180326T213632Z
LAST-MODIFIED:20180326T215005Z
UID:4425-1523349000-1523359800@www.goodshepherdblm.org
SUMMARY:Bloomington North Pastors Conference
DESCRIPTION:
URL:https://www.goodshepherdblm.org/event/bloomington-north-pastors-conference-13/
LOCATION:St Johns Lutheran Church\, Secor\, Secor\, IL
CATEGORIES:Pastor's Conference
END:VEVENT
BEGIN:VEVENT
DTSTART;TZID=America/New_York:20180403T093000
DTEND;TZID=America/New_York:20180403T120000
DTSTAMP:20260424T074535
CREATED:20180326T212812Z
LAST-MODIFIED:20180326T214929Z
UID:4417-1522747800-1522756800@www.goodshepherdblm.org
SUMMARY:Bloomington South Pastors Conference
DESCRIPTION:
URL:https://www.goodshepherdblm.org/event/bloomington-south-pastors-conference-11/
LOCATION:Our Redeemer Lutheran Church\, Bloomington\, IL\, 61701\, United States
CATEGORIES:Pastor's Conference
END:VEVENT
BEGIN:VEVENT
DTSTART;TZID=America/New_York:20180313T083000
DTEND;TZID=America/New_York:20180313T233000
DTSTAMP:20260424T074535
CREATED:20180303T032906Z
LAST-MODIFIED:20180303T032906Z
UID:4347-1520929800-1520983800@www.goodshepherdblm.org
SUMMARY:Bloomington North Pastor's Conference
DESCRIPTION:
URL:https://www.goodshepherdblm.org/event/bloomington-north-pastors-conference-12/
LOCATION:Our Redeemer\, Eureka IL
CATEGORIES:Pastor's Conference
END:VEVENT
BEGIN:VEVENT
DTSTART;TZID=America/New_York:20180306T093000
DTEND;TZID=America/New_York:20180306T123000
DTSTAMP:20260424T074535
CREATED:20180303T030745Z
LAST-MODIFIED:20180303T030745Z
UID:4314-1520328600-1520339400@www.goodshepherdblm.org
SUMMARY:Bloomington South Pastor's Conference
DESCRIPTION:
URL:https://www.goodshepherdblm.org/event/bloomington-south-pastors-conference-10/
LOCATION:Trinity Lutheran Church\, Bloomington\, 801 S. Madison St\, Bloomington\, IL\, 61701\, United States
CATEGORIES:Pastor's Conference
END:VEVENT
BEGIN:VEVENT
DTSTART;TZID=America/New_York:20180213T083000
DTEND;TZID=America/New_York:20180213T120000
DTSTAMP:20260424T074535
CREATED:20180215T174202Z
LAST-MODIFIED:20180215T174202Z
UID:4232-1518510600-1518523200@www.goodshepherdblm.org
SUMMARY:Bloomington North Pastors' Conference
DESCRIPTION:
URL:https://www.goodshepherdblm.org/event/bloomington-north-pastors-conference-11/
LOCATION:Good Shepherd Lutheran Church\, 3516 White Eagle Drive\, Bloomington\, IL\, 61704\, United States
CATEGORIES:Pastor's Conference
END:VEVENT
BEGIN:VEVENT
DTSTART;TZID=America/New_York:20180206T093000
DTEND;TZID=America/New_York:20180206T123000
DTSTAMP:20260424T074535
CREATED:20180215T174002Z
LAST-MODIFIED:20180215T174002Z
UID:4228-1517909400-1517920200@www.goodshepherdblm.org
SUMMARY:Bloomington South Pastors' Conference
DESCRIPTION:
URL:https://www.goodshepherdblm.org/event/bloomington-south-pastors-conference-9/
LOCATION:Wittenberg Lutheran Center\, ISU Campus\, NOrmal\, IL\, United States
CATEGORIES:Pastor's Conference
END:VEVENT
BEGIN:VEVENT
DTSTART;TZID=America/New_York:20180109T083000
DTEND;TZID=America/New_York:20180109T083000
DTSTAMP:20260424T074535
CREATED:20171228T062103Z
LAST-MODIFIED:20171228T062103Z
UID:4098-1515486600-1515486600@www.goodshepherdblm.org
SUMMARY:Bloomington North/South Pastors' Conferencer
DESCRIPTION:
URL:https://www.goodshepherdblm.org/event/bloomington-north-south-pastors-conferencer/
LOCATION:Trinity Lutheran Church\, ElPaso IL\, ElPaso\, 61738
CATEGORIES:Pastor's Conference
END:VEVENT
BEGIN:VEVENT
DTSTART;TZID=America/New_York:20171212T083000
DTEND;TZID=America/New_York:20171212T120000
DTSTAMP:20260424T074535
CREATED:20171127T045212Z
LAST-MODIFIED:20171127T045212Z
UID:3850-1513067400-1513080000@www.goodshepherdblm.org
SUMMARY:Bloomington North Pastors' Conference
DESCRIPTION:
URL:https://www.goodshepherdblm.org/event/bloomington-north-pastors-conference-10/
LOCATION:Trinity Lutheran Church\, Roanoke\, Roanoke\, IL\, United States
CATEGORIES:Pastor's Conference
END:VEVENT
BEGIN:VEVENT
DTSTART;TZID=America/New_York:20171205T093000
DTEND;TZID=America/New_York:20171205T113000
DTSTAMP:20260424T074535
CREATED:20171127T044614Z
LAST-MODIFIED:20171127T044614Z
UID:3838-1512466200-1512473400@www.goodshepherdblm.org
SUMMARY:Bloomington South Pastors' Conference
DESCRIPTION:
URL:https://www.goodshepherdblm.org/event/bloomington-south-pastors-conference-8/
LOCATION:Trinity Lutheran Church\, Bloomington\, 801 S. Madison St\, Bloomington\, IL\, 61701\, United States
CATEGORIES:Pastor's Conference
END:VEVENT
BEGIN:VEVENT
DTSTART;TZID=America/New_York:20171114T083000
DTEND;TZID=America/New_York:20171114T113000
DTSTAMP:20260424T074535
CREATED:20171029T024757Z
LAST-MODIFIED:20171029T024757Z
UID:3738-1510648200-1510659000@www.goodshepherdblm.org
SUMMARY:Bloomington North Pastors' Conference
DESCRIPTION:
URL:https://www.goodshepherdblm.org/event/bloomington-north-pastors-conference-9/
LOCATION:St Paul Lutheran Church\, Chenoa\, Chenoa\, IL
CATEGORIES:Pastor's Conference
END:VEVENT
BEGIN:VEVENT
DTSTART;TZID=America/New_York:20171107T093000
DTEND;TZID=America/New_York:20171107T120000
DTSTAMP:20260424T074535
CREATED:20171029T024442Z
LAST-MODIFIED:20171029T024442Z
UID:3732-1510047000-1510056000@www.goodshepherdblm.org
SUMMARY:Bloomington South Pastors' Conference
DESCRIPTION:
URL:https://www.goodshepherdblm.org/event/bloomington-south-pastors-conference-7/
LOCATION:Christ Lutheran Church\, Normal\, 61761
CATEGORIES:Pastor's Conference
END:VEVENT
BEGIN:VEVENT
DTSTART;TZID=America/New_York:20170912T083000
DTEND;TZID=America/New_York:20170912T083000
DTSTAMP:20260424T074535
CREATED:20170911T021040Z
LAST-MODIFIED:20170911T021441Z
UID:3583-1505205000-1505205000@www.goodshepherdblm.org
SUMMARY:Bloomington North Pastors'  Conference
DESCRIPTION:
URL:https://www.goodshepherdblm.org/event/bloomington-north-pastors-conference-8/
LOCATION:Zion Lutheran Church\, Wenona\, Wenona\, IL
CATEGORIES:Pastor's Conference
END:VEVENT
BEGIN:VEVENT
DTSTART;TZID=America/New_York:20170905T093000
DTEND;TZID=America/New_York:20170905T093000
DTSTAMP:20260424T074535
CREATED:20170911T020439Z
LAST-MODIFIED:20170911T020439Z
UID:3577-1504603800-1504603800@www.goodshepherdblm.org
SUMMARY:Bloomington South Pastors' Conference
DESCRIPTION:
URL:https://www.goodshepherdblm.org/event/bloomington-south-pastors-conference-6/
LOCATION:IL
CATEGORIES:Pastor's Conference
END:VEVENT
BEGIN:VEVENT
DTSTART;TZID=America/New_York:20170606T093000
DTEND;TZID=America/New_York:20170606T120000
DTSTAMP:20260424T074535
CREATED:20170526T153108Z
LAST-MODIFIED:20170526T153108Z
UID:3322-1496741400-1496750400@www.goodshepherdblm.org
SUMMARY:Pastors' Conference
DESCRIPTION:
URL:https://www.goodshepherdblm.org/event/pastors-conference-7/
LOCATION:St Paul Lutheran Church\, Lexington\, Lexington\, IL\, United States
CATEGORIES:Pastor's Conference
END:VEVENT
BEGIN:VEVENT
DTSTART;VALUE=DATE:20170501
DTEND;VALUE=DATE:20170502
DTSTAMP:20260424T074535
CREATED:20170429T161851Z
LAST-MODIFIED:20170429T161851Z
UID:3242-1493596800-1493683199@www.goodshepherdblm.org
SUMMARY:Pastor attending District Pastor’s Conference in Champaign\, IL
DESCRIPTION:
URL:https://www.goodshepherdblm.org/event/pastor-attending-district-pastors-conference-in-champaign-il/
LOCATION:IL
CATEGORIES:Pastor's Conference
END:VEVENT
BEGIN:VEVENT
DTSTART;TZID=America/New_York:20170411T083000
DTEND;TZID=America/New_York:20170411T113000
DTSTAMP:20260424T074535
CREATED:20170328T005330Z
LAST-MODIFIED:20170328T005330Z
UID:3154-1491899400-1491910200@www.goodshepherdblm.org
SUMMARY:Bloomington North Pastors' Conference
DESCRIPTION:
URL:https://www.goodshepherdblm.org/event/bloomington-north-pastors-conference-7/
LOCATION:Trinity Lutheran Church\, ElPaso IL\, ElPaso\, 61738
CATEGORIES:Pastor's Conference
END:VEVENT
BEGIN:VEVENT
DTSTART;TZID=America/New_York:20170404T093000
DTEND;TZID=America/New_York:20170404T113000
DTSTAMP:20260424T074535
CREATED:20170328T004407Z
LAST-MODIFIED:20170328T004407Z
UID:3137-1491298200-1491305400@www.goodshepherdblm.org
SUMMARY:Bloomington South Pastors' Conference
DESCRIPTION:@ Wittenberg Lutheran Center on the ISU Campus
URL:https://www.goodshepherdblm.org/event/bloomington-south-pastors-conference-5/
LOCATION:Wittenberg Lutheran Center\, ISU Campus\, NOrmal\, IL\, United States
CATEGORIES:Pastor's Conference
END:VEVENT
BEGIN:VEVENT
DTSTART;TZID=America/New_York:20170314T083000
DTEND;TZID=America/New_York:20170314T113000
DTSTAMP:20260424T074535
CREATED:20170303T203943Z
LAST-MODIFIED:20170303T203943Z
UID:3049-1489480200-1489491000@www.goodshepherdblm.org
SUMMARY:Bloomington North Pastors' Conference
DESCRIPTION:
URL:https://www.goodshepherdblm.org/event/bloomington-north-pastors-conference-6/
LOCATION:Trinity Lutheran Church\, Roanoke\, Roanoke\, IL\, United States
CATEGORIES:Pastor's Conference
END:VEVENT
BEGIN:VEVENT
DTSTART;TZID=America/New_York:20170307T093000
DTEND;TZID=America/New_York:20170307T120000
DTSTAMP:20260424T074535
CREATED:20170303T203735Z
LAST-MODIFIED:20170303T203826Z
UID:3047-1488879000-1488888000@www.goodshepherdblm.org
SUMMARY:Bloomington South Pastors' Conference
DESCRIPTION:
URL:https://www.goodshepherdblm.org/event/bloomington-south-pastors-conference-4/
LOCATION:Trinity Lutheran Church\, Bloomington\, 801 S. Madison St\, Bloomington\, IL\, 61701\, United States
CATEGORIES:Pastor's Conference
END:VEVENT
BEGIN:VEVENT
DTSTART;TZID=America/New_York:20170214T083000
DTEND;TZID=America/New_York:20170214T113000
DTSTAMP:20260424T074535
CREATED:20170208T155650Z
LAST-MODIFIED:20170208T155650Z
UID:2958-1487061000-1487071800@www.goodshepherdblm.org
SUMMARY:Bloomington North Circuit Conference
DESCRIPTION:
URL:https://www.goodshepherdblm.org/event/bloomington-north-circuit-conference/
LOCATION:St Paul Lutheran Church\, Chenoa\, Chenoa\, IL
CATEGORIES:Pastor's Conference
END:VEVENT
BEGIN:VEVENT
DTSTART;TZID=America/New_York:20170207T083000
DTEND;TZID=America/New_York:20170207T123000
DTSTAMP:20260424T074535
CREATED:20170208T155319Z
LAST-MODIFIED:20170208T155319Z
UID:2953-1486456200-1486470600@www.goodshepherdblm.org
SUMMARY:Bloomington South Circuit Conference
DESCRIPTION:
URL:https://www.goodshepherdblm.org/event/bloomington-south-circuit-conference/
LOCATION:Good Shepherd\, Minier\, Minier\, IL
CATEGORIES:Pastor's Conference
END:VEVENT
BEGIN:VEVENT
DTSTART;TZID=America/New_York:20170103T083000
DTEND;TZID=America/New_York:20170103T120000
DTSTAMP:20260424T074535
CREATED:20170108T052859Z
LAST-MODIFIED:20170108T052859Z
UID:2646-1483432200-1483444800@www.goodshepherdblm.org
SUMMARY:Bloomington North/South Pastors' Conference\, Christ Lutheran\, Normal
DESCRIPTION:
URL:https://www.goodshepherdblm.org/event/bloomington-northsouth-pastors-conference-christ-lutheran-normal/
LOCATION:Christ Lutheran Church\, Normal\, 61761
CATEGORIES:Pastor's Conference
END:VEVENT
BEGIN:VEVENT
DTSTART;TZID=America/New_York:20161108T083000
DTEND;TZID=America/New_York:20161108T113000
DTSTAMP:20260424T074535
CREATED:20161030T194446Z
LAST-MODIFIED:20161030T194719Z
UID:2533-1478593800-1478604600@www.goodshepherdblm.org
SUMMARY:Bloomington North Pastors' Conference\, Secor
DESCRIPTION:
URL:https://www.goodshepherdblm.org/event/bloomington-north-pastors-conference-secor/
LOCATION:St Johns Lutheran Church\, Secor\, Secor\, IL
CATEGORIES:Pastor's Conference
END:VEVENT
BEGIN:VEVENT
DTSTART;TZID=America/New_York:20161101T093000
DTEND;TZID=America/New_York:20161101T120000
DTSTAMP:20260424T074535
CREATED:20161030T191449Z
LAST-MODIFIED:20161030T191516Z
UID:2511-1477992600-1478001600@www.goodshepherdblm.org
SUMMARY:Host for Bloomington South Pastors' Conference
DESCRIPTION:
URL:https://www.goodshepherdblm.org/event/host-for-bloomington-south-pastors-conference/
LOCATION:Good Shepherd Lutheran Church\, 3516 White Eagle Drive\, Bloomington\, IL\, 61704\, United States
CATEGORIES:Pastor's Conference
END:VEVENT
BEGIN:VEVENT
DTSTART;VALUE=DATE:20161003
DTEND;VALUE=DATE:20161005
DTSTAMP:20260424T074535
CREATED:20161006T145731Z
LAST-MODIFIED:20161006T145731Z
UID:2457-1475452800-1475625599@www.goodshepherdblm.org
SUMMARY:District Pastors' Conference\, East Peoria
DESCRIPTION:
URL:https://www.goodshepherdblm.org/event/district-pastors-conference-east-peoria/
LOCATION:IL
CATEGORIES:Pastor's Conference
END:VEVENT
BEGIN:VEVENT
DTSTART;TZID=America/New_York:20160913T083000
DTEND;TZID=America/New_York:20160913T123000
DTSTAMP:20260424T074535
CREATED:20160831T160758Z
LAST-MODIFIED:20160831T160819Z
UID:2386-1473755400-1473769800@www.goodshepherdblm.org
SUMMARY:Pastors' Conference
DESCRIPTION:
URL:https://www.goodshepherdblm.org/event/pastors-conference-6/
LOCATION:St Paul Lutheran Church\, Varna\, Varna\, 61375
CATEGORIES:Pastor's Conference
END:VEVENT
BEGIN:VEVENT
DTSTART;TZID=America/New_York:20160906T093000
DTEND;TZID=America/New_York:20160906T123500
DTSTAMP:20260424T074535
CREATED:20160831T160119Z
LAST-MODIFIED:20160831T160119Z
UID:2385-1473154200-1473165300@www.goodshepherdblm.org
SUMMARY:Pastors' Conference
DESCRIPTION:
URL:https://www.goodshepherdblm.org/event/pastors-conference-5/
LOCATION:Our Redeemer Lutheran Church\, Bloomington\, IL\, 61701\, United States
CATEGORIES:Pastor's Conference
END:VEVENT
BEGIN:VEVENT
DTSTART;TZID=America/New_York:20160607T093000
DTEND;TZID=America/New_York:20160607T120000
DTSTAMP:20260424T074535
CREATED:20160605T001026Z
LAST-MODIFIED:20160605T001026Z
UID:2223-1465291800-1465300800@www.goodshepherdblm.org
SUMMARY:Pastors' Conference
DESCRIPTION:
URL:https://www.goodshepherdblm.org/event/pastors-conference-4/
LOCATION:St Paul Lutheran Church\, Lexington\, Lexington\, IL\, United States
CATEGORIES:Pastor's Conference
END:VEVENT
END:VCALENDAR