BEGIN:VCALENDAR
VERSION:2.0
PRODID:-//Good Shepherd Lutheran Church - ECPv6.15.13//NONSGML v1.0//EN
CALSCALE:GREGORIAN
METHOD:PUBLISH
X-ORIGINAL-URL:https://www.goodshepherdblm.org
X-WR-CALDESC:Events for Good Shepherd Lutheran Church
REFRESH-INTERVAL;VALUE=DURATION:PT1H
X-Robots-Tag:noindex
X-PUBLISHED-TTL:PT1H
BEGIN:VTIMEZONE
TZID:America/Chicago
BEGIN:DAYLIGHT
TZOFFSETFROM:-0600
TZOFFSETTO:-0500
TZNAME:CDT
DTSTART:20180311T080000
END:DAYLIGHT
BEGIN:STANDARD
TZOFFSETFROM:-0500
TZOFFSETTO:-0600
TZNAME:CST
DTSTART:20181104T070000
END:STANDARD
BEGIN:DAYLIGHT
TZOFFSETFROM:-0600
TZOFFSETTO:-0500
TZNAME:CDT
DTSTART:20190310T080000
END:DAYLIGHT
BEGIN:STANDARD
TZOFFSETFROM:-0500
TZOFFSETTO:-0600
TZNAME:CST
DTSTART:20191103T070000
END:STANDARD
BEGIN:DAYLIGHT
TZOFFSETFROM:-0600
TZOFFSETTO:-0500
TZNAME:CDT
DTSTART:20200308T080000
END:DAYLIGHT
BEGIN:STANDARD
TZOFFSETFROM:-0500
TZOFFSETTO:-0600
TZNAME:CST
DTSTART:20201101T070000
END:STANDARD
BEGIN:DAYLIGHT
TZOFFSETFROM:-0600
TZOFFSETTO:-0500
TZNAME:CDT
DTSTART:20210314T080000
END:DAYLIGHT
BEGIN:STANDARD
TZOFFSETFROM:-0500
TZOFFSETTO:-0600
TZNAME:CST
DTSTART:20211107T070000
END:STANDARD
BEGIN:DAYLIGHT
TZOFFSETFROM:-0600
TZOFFSETTO:-0500
TZNAME:CDT
DTSTART:20220313T080000
END:DAYLIGHT
BEGIN:STANDARD
TZOFFSETFROM:-0500
TZOFFSETTO:-0600
TZNAME:CST
DTSTART:20221106T070000
END:STANDARD
BEGIN:DAYLIGHT
TZOFFSETFROM:-0600
TZOFFSETTO:-0500
TZNAME:CDT
DTSTART:20230312T080000
END:DAYLIGHT
BEGIN:STANDARD
TZOFFSETFROM:-0500
TZOFFSETTO:-0600
TZNAME:CST
DTSTART:20231105T070000
END:STANDARD
END:VTIMEZONE
BEGIN:VTIMEZONE
TZID:America/New_York
BEGIN:DAYLIGHT
TZOFFSETFROM:-0500
TZOFFSETTO:-0400
TZNAME:EDT
DTSTART:20170312T070000
END:DAYLIGHT
BEGIN:STANDARD
TZOFFSETFROM:-0400
TZOFFSETTO:-0500
TZNAME:EST
DTSTART:20171105T060000
END:STANDARD
BEGIN:DAYLIGHT
TZOFFSETFROM:-0500
TZOFFSETTO:-0400
TZNAME:EDT
DTSTART:20180311T070000
END:DAYLIGHT
BEGIN:STANDARD
TZOFFSETFROM:-0400
TZOFFSETTO:-0500
TZNAME:EST
DTSTART:20181104T060000
END:STANDARD
BEGIN:DAYLIGHT
TZOFFSETFROM:-0500
TZOFFSETTO:-0400
TZNAME:EDT
DTSTART:20190310T070000
END:DAYLIGHT
BEGIN:STANDARD
TZOFFSETFROM:-0400
TZOFFSETTO:-0500
TZNAME:EST
DTSTART:20191103T060000
END:STANDARD
BEGIN:DAYLIGHT
TZOFFSETFROM:-0500
TZOFFSETTO:-0400
TZNAME:EDT
DTSTART:20200308T070000
END:DAYLIGHT
BEGIN:STANDARD
TZOFFSETFROM:-0400
TZOFFSETTO:-0500
TZNAME:EST
DTSTART:20201101T060000
END:STANDARD
END:VTIMEZONE
BEGIN:VEVENT
DTSTART;TZID=America/Chicago:20221108T093000
DTEND;TZID=America/Chicago:20221108T093000
DTSTAMP:20260423T211354
CREATED:20221031T134754Z
LAST-MODIFIED:20221031T134754Z
UID:9405-1667899800-1667899800@www.goodshepherdblm.org
SUMMARY:Pastors' Conference
DESCRIPTION:
URL:https://www.goodshepherdblm.org/event/pastors-conference-12/
LOCATION:Trinity Lutheran Church\, ElPaso IL\, ElPaso\, 61738
CATEGORIES:Pastor's Conference
END:VEVENT
BEGIN:VEVENT
DTSTART;TZID=America/Chicago:20220913T093000
DTEND;TZID=America/Chicago:20220913T093000
DTSTAMP:20260423T211354
CREATED:20220901T024415Z
LAST-MODIFIED:20220901T024415Z
UID:9225-1663061400-1663061400@www.goodshepherdblm.org
SUMMARY:Circuit Pastors'Conference
DESCRIPTION:
URL:https://www.goodshepherdblm.org/event/circuit-pastorsconference/
LOCATION:St Paul Lutheran Church\, Lexington\, Lexington\, IL\, United States
CATEGORIES:Pastor's Conference
END:VEVENT
BEGIN:VEVENT
DTSTART;TZID=America/Chicago:20220517T093000
DTEND;TZID=America/Chicago:20220517T093000
DTSTAMP:20260423T211354
CREATED:20220503T143820Z
LAST-MODIFIED:20220503T143820Z
UID:8967-1652779800-1652779800@www.goodshepherdblm.org
SUMMARY:Circuit Pastors' Conference
DESCRIPTION:
URL:https://www.goodshepherdblm.org/event/circuit-pastors-conference-3/
LOCATION:Good Shepherd Lutheran Church\, 3516 White Eagle Drive\, Bloomington\, IL\, 61704\, United States
CATEGORIES:Pastor's Conference
END:VEVENT
BEGIN:VEVENT
DTSTART;VALUE=DATE:20220509
DTEND;VALUE=DATE:20220510
DTSTAMP:20260423T211354
CREATED:20220503T143605Z
LAST-MODIFIED:20220503T143605Z
UID:8964-1652054400-1652140799@www.goodshepherdblm.org
SUMMARY:District Pastors' Conference
DESCRIPTION:
URL:https://www.goodshepherdblm.org/event/district-pastors-conference/
LOCATION:Camp CILCA
CATEGORIES:Pastor's Conference
END:VEVENT
BEGIN:VEVENT
DTSTART;TZID=America/Chicago:20220405T093000
DTEND;TZID=America/Chicago:20220405T093000
DTSTAMP:20260423T211354
CREATED:20220404T021148Z
LAST-MODIFIED:20220404T021148Z
UID:8849-1649151000-1649151000@www.goodshepherdblm.org
SUMMARY:Pastors Conference
DESCRIPTION:
URL:https://www.goodshepherdblm.org/event/pastors-conference-11/
LOCATION:Trinity Lutheran Church\, ElPaso IL\, ElPaso\, 61738
CATEGORIES:Pastor's Conference
END:VEVENT
BEGIN:VEVENT
DTSTART;TZID=America/Chicago:20220308T093000
DTEND;TZID=America/Chicago:20220308T093000
DTSTAMP:20260423T211354
CREATED:20220303T002813Z
LAST-MODIFIED:20220303T002813Z
UID:8760-1646731800-1646731800@www.goodshepherdblm.org
SUMMARY:Pastors’ Conference
DESCRIPTION:
URL:https://www.goodshepherdblm.org/event/pastors-conference-10/
LOCATION:Trinity Lutheran Church\, Bloomington\, 801 S. Madison St\, Bloomington\, IL\, 61701\, United States
CATEGORIES:Pastor's Conference
END:VEVENT
BEGIN:VEVENT
DTSTART;TZID=America/Chicago:20220208T093000
DTEND;TZID=America/Chicago:20220208T093000
DTSTAMP:20260423T211354
CREATED:20220302T235107Z
LAST-MODIFIED:20220302T235107Z
UID:8718-1644312600-1644312600@www.goodshepherdblm.org
SUMMARY:Pastors’ Conference
DESCRIPTION:
URL:https://www.goodshepherdblm.org/event/pastors-conference-9/
LOCATION:Zion Lutheran Church\, Danvers
CATEGORIES:Pastor's Conference
END:VEVENT
BEGIN:VEVENT
DTSTART;TZID=America/Chicago:20220111T093000
DTEND;TZID=America/Chicago:20220111T093000
DTSTAMP:20260423T211354
CREATED:20220112T172517Z
LAST-MODIFIED:20220112T172517Z
UID:8655-1641893400-1641893400@www.goodshepherdblm.org
SUMMARY:Pastors' Conference\, Christ Lutheran\, Normal
DESCRIPTION:
URL:https://www.goodshepherdblm.org/event/pastors-conference-christ-lutheran-normal/
LOCATION:Christ Lutheran Church\, Normal\, 61761
CATEGORIES:Pastor's Conference
END:VEVENT
BEGIN:VEVENT
DTSTART;TZID=America/Chicago:20211214T093000
DTEND;TZID=America/Chicago:20211214T093000
DTSTAMP:20260423T211354
CREATED:20220112T170833Z
LAST-MODIFIED:20220112T170833Z
UID:8626-1639474200-1639474200@www.goodshepherdblm.org
SUMMARY:Circuit Pastors' Conference/St Johns\, Secor
DESCRIPTION:
URL:https://www.goodshepherdblm.org/event/circuit-pastors-conference-st-johns-secor/
LOCATION:St Johns Lutheran Church\, Secor\, Secor\, IL
CATEGORIES:Pastor's Conference
END:VEVENT
BEGIN:VEVENT
DTSTART;TZID=America/Chicago:20211109T093000
DTEND;TZID=America/Chicago:20211109T093000
DTSTAMP:20260423T211354
CREATED:20211110T192919Z
LAST-MODIFIED:20211110T192919Z
UID:8463-1636450200-1636450200@www.goodshepherdblm.org
SUMMARY:Pastors' Conference
DESCRIPTION:
URL:https://www.goodshepherdblm.org/event/pastors-conference-8/
LOCATION:St Paul Lutheran Church\, Chenoa\, Chenoa\, IL
CATEGORIES:Pastor's Conference
END:VEVENT
BEGIN:VEVENT
DTSTART;TZID=America/Chicago:20211012T093000
DTEND;TZID=America/Chicago:20211012T093000
DTSTAMP:20260423T211354
CREATED:20210930T162056Z
LAST-MODIFIED:20210930T162056Z
UID:8420-1634031000-1634031000@www.goodshepherdblm.org
SUMMARY:Pastors' Circuit Conference
DESCRIPTION:
URL:https://www.goodshepherdblm.org/event/pastors-circuit-conference/
LOCATION:Zion Lutheran Church\, Wenona\, Wenona\, IL
CATEGORIES:Pastor's Conference
END:VEVENT
BEGIN:VEVENT
DTSTART;TZID=America/Chicago:20200310T083000
DTEND;TZID=America/Chicago:20200310T083000
DTSTAMP:20260423T211354
CREATED:20200303T173044Z
LAST-MODIFIED:20200303T173044Z
UID:7034-1583829000-1583829000@www.goodshepherdblm.org
SUMMARY:Bloomington North Pastors' Conference
DESCRIPTION:
URL:https://www.goodshepherdblm.org/event/bloomington-north-pastors-conference-20/
LOCATION:St Johns Lutheran Church\, Secor\, Secor\, IL
CATEGORIES:Pastor's Conference
END:VEVENT
BEGIN:VEVENT
DTSTART;TZID=America/Chicago:20200303T093000
DTEND;TZID=America/Chicago:20200303T093000
DTSTAMP:20260423T211354
CREATED:20200303T172026Z
LAST-MODIFIED:20200303T172026Z
UID:7022-1583227800-1583227800@www.goodshepherdblm.org
SUMMARY:Bloomington South Pastors' Conference
DESCRIPTION:
URL:https://www.goodshepherdblm.org/event/bloomington-south-pastors-conference-18/
LOCATION:Wittenberg Lutheran Center\, ISU Campus\, NOrmal\, IL\, United States
CATEGORIES:Pastor's Conference
END:VEVENT
BEGIN:VEVENT
DTSTART;TZID=America/Chicago:20200211T083000
DTEND;TZID=America/Chicago:20200211T083000
DTSTAMP:20260423T211354
CREATED:20200127T170630Z
LAST-MODIFIED:20200127T170630Z
UID:6577-1581409800-1581409800@www.goodshepherdblm.org
SUMMARY:Bloomington North Pastors' Conference
DESCRIPTION:
URL:https://www.goodshepherdblm.org/event/bloomington-north-pastors-conference-19/
LOCATION:Zion Lutheran Church\, Wenona\, Wenona\, IL
CATEGORIES:Pastor's Conference
END:VEVENT
BEGIN:VEVENT
DTSTART;TZID=America/Chicago:20200204T093000
DTEND;TZID=America/Chicago:20200204T093000
DTSTAMP:20260423T211354
CREATED:20200127T170236Z
LAST-MODIFIED:20200127T170236Z
UID:6569-1580808600-1580808600@www.goodshepherdblm.org
SUMMARY:Bloomington South Pastors' Conference
DESCRIPTION:
URL:https://www.goodshepherdblm.org/event/bloomington-south-pastors-conference-17/
LOCATION:Our Redeemer Lutheran Church\, Bloomington\, IL\, 61701\, United States
CATEGORIES:Pastor's Conference
END:VEVENT
BEGIN:VEVENT
DTSTART;TZID=America/Chicago:20200114T083000
DTEND;TZID=America/Chicago:20200114T083000
DTSTAMP:20260423T211354
CREATED:20191226T160221Z
LAST-MODIFIED:20191226T160221Z
UID:6480-1578990600-1578990600@www.goodshepherdblm.org
SUMMARY:Bloomington North/South Pastor's Conference
DESCRIPTION:
URL:https://www.goodshepherdblm.org/event/bloomington-north-south-pastors-conference/
LOCATION:Trinity Lutheran Church\, Roanoke\, Roanoke\, IL\, United States
CATEGORIES:Pastor's Conference
END:VEVENT
BEGIN:VEVENT
DTSTART;TZID=America/Chicago:20191210T083000
DTEND;TZID=America/Chicago:20191210T083000
DTSTAMP:20260423T211354
CREATED:20191125T160116Z
LAST-MODIFIED:20191125T160116Z
UID:6368-1575966600-1575966600@www.goodshepherdblm.org
SUMMARY:Bloomington North Circuit Pastors' Conference
DESCRIPTION:
URL:https://www.goodshepherdblm.org/event/bloomington-north-circuit-pastors-conference-2/
LOCATION:Trinity Lutheran Church\, ElPaso IL\, ElPaso\, 61738
CATEGORIES:Pastor's Conference
END:VEVENT
BEGIN:VEVENT
DTSTART;TZID=America/Chicago:20191203T093000
DTEND;TZID=America/Chicago:20191203T093000
DTSTAMP:20260423T211354
CREATED:20191125T155543Z
LAST-MODIFIED:20191125T155543Z
UID:6358-1575365400-1575365400@www.goodshepherdblm.org
SUMMARY:Bloomington South Circuit Pastors' Conference
DESCRIPTION:
URL:https://www.goodshepherdblm.org/event/bloomington-south-circuit-pastors-conference-4/
LOCATION:Trinity Lutheran Church\, Bloomington\, 801 S. Madison St\, Bloomington\, IL\, 61701\, United States
CATEGORIES:Pastor's Conference
END:VEVENT
BEGIN:VEVENT
DTSTART;TZID=America/Chicago:20190910T083000
DTEND;TZID=America/Chicago:20190910T083000
DTSTAMP:20260423T211354
CREATED:20190819T155339Z
LAST-MODIFIED:20190819T155339Z
UID:6049-1568104200-1568104200@www.goodshepherdblm.org
SUMMARY:Bloomington North Pastors' Conference @ Good Shepherd
DESCRIPTION:
URL:https://www.goodshepherdblm.org/event/bloomington-north-pastors-conference-good-shepherd/
LOCATION:Good Shepherd Lutheran Church\, 3516 White Eagle Drive\, Bloomington\, IL\, 61704\, United States
CATEGORIES:Pastor's Conference
END:VEVENT
BEGIN:VEVENT
DTSTART;TZID=America/Chicago:20190903T093000
DTEND;TZID=America/Chicago:20190903T093000
DTSTAMP:20260423T211354
CREATED:20190819T154430Z
LAST-MODIFIED:20190819T154430Z
UID:6037-1567503000-1567503000@www.goodshepherdblm.org
SUMMARY:Bloomington South Pastors' Conference @ Good Shepherd
DESCRIPTION:
URL:https://www.goodshepherdblm.org/event/bloomington-south-pastors-conference-good-shepherd/
LOCATION:Good Shepherd Lutheran Church\, 3516 White Eagle Drive\, Bloomington\, IL\, 61704\, United States
CATEGORIES:Pastor's Conference
END:VEVENT
BEGIN:VEVENT
DTSTART;TZID=America/New_York:20190506T000000
DTEND;TZID=America/New_York:20190508T000000
DTSTAMP:20260423T211354
CREATED:20190501T155946Z
LAST-MODIFIED:20190501T155946Z
UID:5780-1557100800-1557273600@www.goodshepherdblm.org
SUMMARY:Central Illinois District Pastors' Conference\, Decatur IL
DESCRIPTION:
URL:https://www.goodshepherdblm.org/event/central-illinois-district-pastors-conference-decatur-il/
CATEGORIES:Pastor's Conference
END:VEVENT
BEGIN:VEVENT
DTSTART;TZID=America/New_York:20190409T083000
DTEND;TZID=America/New_York:20190409T083000
DTSTAMP:20260423T211354
CREATED:20190329T162129Z
LAST-MODIFIED:20190329T162129Z
UID:5658-1554798600-1554798600@www.goodshepherdblm.org
SUMMARY:Bloomington North Pastors Conference
DESCRIPTION:
URL:https://www.goodshepherdblm.org/event/bloomington-north-pastors-conference-18/
LOCATION:Wittenberg Lutheran Center\, ISU Campus\, NOrmal\, IL\, United States
CATEGORIES:Pastor's Conference
END:VEVENT
BEGIN:VEVENT
DTSTART;TZID=America/New_York:20190402T093000
DTEND;TZID=America/New_York:20190402T093000
DTSTAMP:20260423T211354
CREATED:20190329T161654Z
LAST-MODIFIED:20190329T161654Z
UID:5648-1554197400-1554197400@www.goodshepherdblm.org
SUMMARY:Bloomington South Pastors Conference
DESCRIPTION:
URL:https://www.goodshepherdblm.org/event/bloomington-south-pastors-conference-16/
LOCATION:Good Shepherd Lutheran Church\, 3516 White Eagle Drive\, Bloomington\, IL\, 61704\, United States
CATEGORIES:Pastor's Conference
END:VEVENT
BEGIN:VEVENT
DTSTART;TZID=America/New_York:20190312T083000
DTEND;TZID=America/New_York:20190312T083000
DTSTAMP:20260423T211354
CREATED:20190225T184738Z
LAST-MODIFIED:20190225T190129Z
UID:5527-1552379400-1552379400@www.goodshepherdblm.org
SUMMARY:Bloomington North Pastors' Conference
DESCRIPTION:
URL:https://www.goodshepherdblm.org/event/bloomington-north-pastors-conference-17/
LOCATION:St Johns Lutheran Church\, Secor\, Secor\, IL
CATEGORIES:Pastor's Conference
END:VEVENT
BEGIN:VEVENT
DTSTART;TZID=America/New_York:20190305T093000
DTEND;TZID=America/New_York:20190305T093000
DTSTAMP:20260423T211354
CREATED:20190225T184231Z
LAST-MODIFIED:20190225T184231Z
UID:5521-1551778200-1551778200@www.goodshepherdblm.org
SUMMARY:Bloomington South Pastors' Conference
DESCRIPTION:
URL:https://www.goodshepherdblm.org/event/bloomington-south-pastors-conference-15/
LOCATION:Christ Lutheran Church\, Normal\, 61761
CATEGORIES:Pastor's Conference
END:VEVENT
BEGIN:VEVENT
DTSTART;TZID=America/New_York:20190214T093000
DTEND;TZID=America/New_York:20190214T093000
DTSTAMP:20260423T211354
CREATED:20190131T025757Z
LAST-MODIFIED:20190131T025757Z
UID:5425-1550136600-1550136600@www.goodshepherdblm.org
SUMMARY:Circuit Visitors Meeting\, Springfield (Pastor)
DESCRIPTION:
URL:https://www.goodshepherdblm.org/event/circuit-visitors-meeting-springfield-pastor/
LOCATION:Springfield
CATEGORIES:Pastor's Conference
END:VEVENT
BEGIN:VEVENT
DTSTART;TZID=America/New_York:20190212T083000
DTEND;TZID=America/New_York:20190212T083000
DTSTAMP:20260423T211354
CREATED:20190131T015211Z
LAST-MODIFIED:20190131T015211Z
UID:5418-1549960200-1549960200@www.goodshepherdblm.org
SUMMARY:Bloomington North Pastors' Conference
DESCRIPTION:
URL:https://www.goodshepherdblm.org/event/bloomington-north-pastors-conference-16/
LOCATION:Trinity Lutheran Church\, Roanoke\, Roanoke\, IL\, United States
CATEGORIES:Pastor's Conference
END:VEVENT
BEGIN:VEVENT
DTSTART;TZID=America/New_York:20190205T093000
DTEND;TZID=America/New_York:20190205T093000
DTSTAMP:20260423T211354
CREATED:20190131T014809Z
LAST-MODIFIED:20190131T014809Z
UID:5410-1549359000-1549359000@www.goodshepherdblm.org
SUMMARY:Bloomington South Pastors' Conference
DESCRIPTION:
URL:https://www.goodshepherdblm.org/event/bloomington-south-pastors-conference-14/
LOCATION:Trinity Lutheran Church\, Bloomington\, 801 S. Madison St\, Bloomington\, IL\, 61701\, United States
CATEGORIES:Pastor's Conference
END:VEVENT
BEGIN:VEVENT
DTSTART;TZID=America/New_York:20190108T093000
DTEND;TZID=America/New_York:20190108T093000
DTSTAMP:20260423T211354
CREATED:20190101T224324Z
LAST-MODIFIED:20190101T224324Z
UID:5180-1546939800-1546939800@www.goodshepherdblm.org
SUMMARY:Bloomington North/South Circuit Pastors' Conference
DESCRIPTION:
URL:https://www.goodshepherdblm.org/event/bloomington-north-south-circuit-pastors-conference/
LOCATION:Our Redeemer Lutheran Church\, Bloomington\, IL\, 61701\, United States
CATEGORIES:Pastor's Conference
END:VEVENT
BEGIN:VEVENT
DTSTART;TZID=America/New_York:20181113T083000
DTEND;TZID=America/New_York:20181113T083000
DTSTAMP:20260423T211354
CREATED:20181031T160452Z
LAST-MODIFIED:20181031T160452Z
UID:5029-1542097800-1542097800@www.goodshepherdblm.org
SUMMARY:Bloomington North Pastors' Conference\, St Paul in Chenoa
DESCRIPTION:
URL:https://www.goodshepherdblm.org/event/bloomington-north-pastors-conference-st-paul-in-chenoa/
LOCATION:St Paul Lutheran Church\, Chenoa\, Chenoa\, IL
CATEGORIES:Pastor's Conference
END:VEVENT
END:VCALENDAR