BEGIN:VCALENDAR
VERSION:2.0
PRODID:-//Good Shepherd Lutheran Church - ECPv6.15.13//NONSGML v1.0//EN
CALSCALE:GREGORIAN
METHOD:PUBLISH
X-ORIGINAL-URL:https://www.goodshepherdblm.org
X-WR-CALDESC:Events for Good Shepherd Lutheran Church
REFRESH-INTERVAL;VALUE=DURATION:PT1H
X-Robots-Tag:noindex
X-PUBLISHED-TTL:PT1H
BEGIN:VTIMEZONE
TZID:America/New_York
BEGIN:DAYLIGHT
TZOFFSETFROM:-0500
TZOFFSETTO:-0400
TZNAME:EDT
DTSTART:20140309T070000
END:DAYLIGHT
BEGIN:STANDARD
TZOFFSETFROM:-0400
TZOFFSETTO:-0500
TZNAME:EST
DTSTART:20141102T060000
END:STANDARD
BEGIN:DAYLIGHT
TZOFFSETFROM:-0500
TZOFFSETTO:-0400
TZNAME:EDT
DTSTART:20150308T070000
END:DAYLIGHT
BEGIN:STANDARD
TZOFFSETFROM:-0400
TZOFFSETTO:-0500
TZNAME:EST
DTSTART:20151101T060000
END:STANDARD
BEGIN:DAYLIGHT
TZOFFSETFROM:-0500
TZOFFSETTO:-0400
TZNAME:EDT
DTSTART:20160313T070000
END:DAYLIGHT
BEGIN:STANDARD
TZOFFSETFROM:-0400
TZOFFSETTO:-0500
TZNAME:EST
DTSTART:20161106T060000
END:STANDARD
BEGIN:DAYLIGHT
TZOFFSETFROM:-0500
TZOFFSETTO:-0400
TZNAME:EDT
DTSTART:20170312T070000
END:DAYLIGHT
BEGIN:STANDARD
TZOFFSETFROM:-0400
TZOFFSETTO:-0500
TZNAME:EST
DTSTART:20171105T060000
END:STANDARD
BEGIN:DAYLIGHT
TZOFFSETFROM:-0500
TZOFFSETTO:-0400
TZNAME:EDT
DTSTART:20180311T070000
END:DAYLIGHT
BEGIN:STANDARD
TZOFFSETFROM:-0400
TZOFFSETTO:-0500
TZNAME:EST
DTSTART:20181104T060000
END:STANDARD
END:VTIMEZONE
BEGIN:VTIMEZONE
TZID:America/Chicago
BEGIN:DAYLIGHT
TZOFFSETFROM:-0600
TZOFFSETTO:-0500
TZNAME:CDT
DTSTART:20130310T080000
END:DAYLIGHT
BEGIN:STANDARD
TZOFFSETFROM:-0500
TZOFFSETTO:-0600
TZNAME:CST
DTSTART:20131103T070000
END:STANDARD
BEGIN:DAYLIGHT
TZOFFSETFROM:-0600
TZOFFSETTO:-0500
TZNAME:CDT
DTSTART:20140309T080000
END:DAYLIGHT
BEGIN:STANDARD
TZOFFSETFROM:-0500
TZOFFSETTO:-0600
TZNAME:CST
DTSTART:20141102T070000
END:STANDARD
BEGIN:DAYLIGHT
TZOFFSETFROM:-0600
TZOFFSETTO:-0500
TZNAME:CDT
DTSTART:20150308T080000
END:DAYLIGHT
BEGIN:STANDARD
TZOFFSETFROM:-0500
TZOFFSETTO:-0600
TZNAME:CST
DTSTART:20151101T070000
END:STANDARD
BEGIN:DAYLIGHT
TZOFFSETFROM:-0600
TZOFFSETTO:-0500
TZNAME:CDT
DTSTART:20160313T080000
END:DAYLIGHT
BEGIN:STANDARD
TZOFFSETFROM:-0500
TZOFFSETTO:-0600
TZNAME:CST
DTSTART:20161106T070000
END:STANDARD
END:VTIMEZONE
BEGIN:VEVENT
DTSTART;TZID=America/New_York:20171118T140000
DTEND;TZID=America/New_York:20171118T180000
DTSTAMP:20260424T022515
CREATED:20171029T030337Z
LAST-MODIFIED:20171029T030337Z
UID:3746-1511013600-1511028000@www.goodshepherdblm.org
SUMMARY:Home Sweet Home Mission
DESCRIPTION:Preparing & Serving Meal
URL:https://www.goodshepherdblm.org/event/home-sweet-home-mission/
LOCATION:Home Sweet Home Mission\, Bloomington\, IL\, 61701\, United States
CATEGORIES:Outreach
END:VEVENT
BEGIN:VEVENT
DTSTART;VALUE=DATE:20171022
DTEND;VALUE=DATE:20171023
DTSTAMP:20260424T022515
CREATED:20171009T172838Z
LAST-MODIFIED:20171009T172838Z
UID:3676-1508630400-1508716799@www.goodshepherdblm.org
SUMMARY:MISSION FESTIVAL SUNDAY
DESCRIPTION:
URL:https://www.goodshepherdblm.org/event/mission-festival-sunday/
LOCATION:Good Shepherd Lutheran Church\, 3516 White Eagle Drive\, Bloomington\, IL\, 61704\, United States
CATEGORIES:Outreach
END:VEVENT
BEGIN:VEVENT
DTSTART;TZID=America/New_York:20170915T130000
DTEND;TZID=America/New_York:20170915T170000
DTSTAMP:20260424T022515
CREATED:20170911T022121Z
LAST-MODIFIED:20170911T022121Z
UID:3594-1505480400-1505494800@www.goodshepherdblm.org
SUMMARY:Good Shepherd Blood Drive
DESCRIPTION:
URL:https://www.goodshepherdblm.org/event/good-shepherd-blood-drive-3/
LOCATION:Good Shepherd Lutheran Church\, 3516 White Eagle Drive\, Bloomington\, IL\, 61704\, United States
CATEGORIES:Outreach
END:VEVENT
BEGIN:VEVENT
DTSTART;TZID=America/New_York:20170428T180000
DTEND;TZID=America/New_York:20170428T200000
DTSTAMP:20260424T022515
CREATED:20170328T011356Z
LAST-MODIFIED:20170328T011356Z
UID:3184-1493402400-1493409600@www.goodshepherdblm.org
SUMMARY:International House Talk Time Dinner
DESCRIPTION:
URL:https://www.goodshepherdblm.org/event/international-house-talk-time-dinner/
LOCATION:Wittenberg Lutheran Center\, ISU Campus\, NOrmal\, IL\, United States
CATEGORIES:Outreach
END:VEVENT
BEGIN:VEVENT
DTSTART;TZID=America/New_York:20170422T093000
DTEND;TZID=America/New_York:20170422T093000
DTSTAMP:20260424T022515
CREATED:20170328T011153Z
LAST-MODIFIED:20170328T011153Z
UID:3180-1492853400-1492853400@www.goodshepherdblm.org
SUMMARY:Pregnancy Center Walk for Life
DESCRIPTION:
URL:https://www.goodshepherdblm.org/event/pregnancy-center-walk-for-life-2/
LOCATION:Good Shepherd Lutheran Church\, 3516 White Eagle Drive\, Bloomington\, IL\, 61704\, United States
CATEGORIES:Outreach
END:VEVENT
BEGIN:VEVENT
DTSTART;VALUE=DATE:20170122
DTEND;VALUE=DATE:20170123
DTSTAMP:20260424T022515
CREATED:20170108T053943Z
LAST-MODIFIED:20170108T053943Z
UID:2669-1485043200-1485129599@www.goodshepherdblm.org
SUMMARY:Lutherans for Life Sunday
DESCRIPTION:
URL:https://www.goodshepherdblm.org/event/lutherans-for-life-sunday/
LOCATION:Good Shepherd Lutheran Church\, 3516 White Eagle Drive\, Bloomington\, IL\, 61704\, United States
CATEGORIES:Outreach
END:VEVENT
BEGIN:VEVENT
DTSTART;TZID=America/New_York:20161105T140000
DTEND;TZID=America/New_York:20161105T180000
DTSTAMP:20260424T022515
CREATED:20161030T193336Z
LAST-MODIFIED:20161030T193336Z
UID:2523-1478354400-1478368800@www.goodshepherdblm.org
SUMMARY:Serve Meal/Home Sweet Home Mission
DESCRIPTION:
URL:https://www.goodshepherdblm.org/event/serve-mealhome-sweet-home-mission/
LOCATION:Home Sweet Home Mission\, Bloomington\, IL\, 61701\, United States
CATEGORIES:Outreach
END:VEVENT
BEGIN:VEVENT
DTSTART;TZID=America/New_York:20160920T140000
DTEND;TZID=America/New_York:20160920T180000
DTSTAMP:20260424T022515
CREATED:20160825T040008Z
LAST-MODIFIED:20160825T040008Z
UID:2377-1474380000-1474394400@www.goodshepherdblm.org
SUMMARY:Red Cross Blood Drive
DESCRIPTION:
URL:https://www.goodshepherdblm.org/event/red-cross-blood-drive-2/
LOCATION:Good Shepherd Lutheran Church\, 3516 White Eagle Drive\, Bloomington\, IL\, 61704\, United States
CATEGORIES:Outreach
END:VEVENT
BEGIN:VEVENT
DTSTART;TZID=America/New_York:20160502T140000
DTEND;TZID=America/New_York:20160502T180000
DTSTAMP:20260424T022515
CREATED:20160422T030823Z
LAST-MODIFIED:20160422T030823Z
UID:2160-1462197600-1462212000@www.goodshepherdblm.org
SUMMARY:Good Shepherd Blood Drive
DESCRIPTION:
URL:https://www.goodshepherdblm.org/event/good-shepherd-blood-drive-2/
LOCATION:Good Shepherd Lutheran Church\, 3516 White Eagle Drive\, Bloomington\, IL\, 61704\, United States
CATEGORIES:Outreach
END:VEVENT
BEGIN:VEVENT
DTSTART;TZID=America/New_York:20160423T090000
DTEND;TZID=America/New_York:20160423T110000
DTSTAMP:20260424T022515
CREATED:20160330T154543Z
LAST-MODIFIED:20160330T154543Z
UID:2127-1461402000-1461409200@www.goodshepherdblm.org
SUMMARY:Walk for Life @ Christ Church\, Normal
DESCRIPTION:
URL:https://www.goodshepherdblm.org/event/walk-for-life-christ-church-normal/
LOCATION:Christ Church\, N Linden Street\, Normal\, IL\, 61761\, United States
CATEGORIES:Outreach
END:VEVENT
BEGIN:VEVENT
DTSTART;TZID=America/New_York:20160415T181500
DTEND;TZID=America/New_York:20160415T201500
DTSTAMP:20260424T022515
CREATED:20160330T153826Z
LAST-MODIFIED:20160330T153826Z
UID:2123-1460744100-1460751300@www.goodshepherdblm.org
SUMMARY:Serve Meal to International Students at Illinois State University
DESCRIPTION:
URL:https://www.goodshepherdblm.org/event/serve-meal-to-international-students-at-illinois-state-university/
LOCATION:ISU International House\, Normal\, IL
CATEGORIES:Outreach
END:VEVENT
BEGIN:VEVENT
DTSTART;TZID=America/New_York:20160129T080000
DTEND;TZID=America/New_York:20160129T080000
DTSTAMP:20260424T022515
CREATED:20160112T195437Z
LAST-MODIFIED:20160112T195437Z
UID:1729-1454054400-1454054400@www.goodshepherdblm.org
SUMMARY:Hardy's Depart for Ft Wayne IN Seminary with Donations
DESCRIPTION:
URL:https://www.goodshepherdblm.org/event/hardys-depart-for-ft-wayne-in-seminary-with-donations/
LOCATION:Good Shepherd Lutheran Church\, 3516 White Eagle Drive\, Bloomington\, IL\, 61704\, United States
CATEGORIES:Outreach
END:VEVENT
BEGIN:VEVENT
DTSTART;TZID=America/New_York:20160128T190000
DTEND;TZID=America/New_York:20160128T190000
DTSTAMP:20260424T022515
CREATED:20160112T195314Z
LAST-MODIFIED:20160112T195314Z
UID:1728-1454007600-1454007600@www.goodshepherdblm.org
SUMMARY:Deadline for Donations for Ft Wayne IN Seminary
DESCRIPTION:
URL:https://www.goodshepherdblm.org/event/deadline-for-donations-for-ft-wayne-in-seminary/
LOCATION:Good Shepherd Lutheran Church\, 3516 White Eagle Drive\, Bloomington\, IL\, 61704\, United States
CATEGORIES:Outreach
END:VEVENT
BEGIN:VEVENT
DTSTART;TZID=America/New_York:20151114T130000
DTEND;TZID=America/New_York:20151114T170000
DTSTAMP:20260424T022515
CREATED:20151029T030155Z
LAST-MODIFIED:20151029T030155Z
UID:1528-1447506000-1447520400@www.goodshepherdblm.org
SUMMARY:Home Sweet Home Supper Club
DESCRIPTION:
URL:https://www.goodshepherdblm.org/event/home-sweet-home-supper-club/
LOCATION:Good Shepherd Lutheran Church\, 3516 White Eagle Drive\, Bloomington\, IL\, 61704\, United States
CATEGORIES:Outreach
END:VEVENT
BEGIN:VEVENT
DTSTART;TZID=America/New_York:20151021T180000
DTEND;TZID=America/New_York:20151021T210000
DTSTAMP:20260424T022515
CREATED:20151006T113917Z
LAST-MODIFIED:20151006T113917Z
UID:1462-1445450400-1445461200@www.goodshepherdblm.org
SUMMARY:PrairieView North Subdivision Annual Meeting - Using Basement
DESCRIPTION:
URL:https://www.goodshepherdblm.org/event/prairieview-north-subdivision-annual-meeting-using-basement/
LOCATION:Good Shepherd Lutheran Church\, 3516 White Eagle Drive\, Bloomington\, IL\, 61704\, United States
CATEGORIES:Outreach
END:VEVENT
BEGIN:VEVENT
DTSTART;TZID=America/Chicago:20150425T090000
DTEND;TZID=America/Chicago:20150425T110000
DTSTAMP:20260424T022515
CREATED:20150328T190737Z
LAST-MODIFIED:20150328T190737Z
UID:972-1429952400-1429959600@www.goodshepherdblm.org
SUMMARY:Pregnancy Center "Walk for Life"
DESCRIPTION:
URL:https://www.goodshepherdblm.org/event/pregnancy-center-walk-for-life/
LOCATION:Good Shepherd Lutheran Church\, 3516 White Eagle Drive\, Bloomington\, IL\, 61704\, United States
CATEGORIES:Outreach
END:VEVENT
BEGIN:VEVENT
DTSTART;TZID=America/Chicago:20150417T180000
DTEND;TZID=America/Chicago:20150417T200000
DTSTAMP:20260424T022515
CREATED:20150328T185933Z
LAST-MODIFIED:20150328T185933Z
UID:965-1429293600-1429300800@www.goodshepherdblm.org
SUMMARY:ISU International House - Serve Meal
DESCRIPTION:
URL:https://www.goodshepherdblm.org/event/isu-international-house-serve-meal/
LOCATION:ISU International House\, Normal\, IL
CATEGORIES:Outreach
END:VEVENT
BEGIN:VEVENT
DTSTART;TZID=America/Chicago:20141115T140000
DTEND;TZID=America/Chicago:20141115T180000
DTSTAMP:20260424T022515
CREATED:20141026T151905Z
LAST-MODIFIED:20141026T151905Z
UID:474-1416060000-1416074400@www.goodshepherdblm.org
SUMMARY:Serve Meal @ Home Sweet Home Mission
DESCRIPTION:
URL:https://www.goodshepherdblm.org/event/serve-meal-home-sweet-home-mission/
LOCATION:IL
CATEGORIES:Outreach
END:VEVENT
END:VCALENDAR