BEGIN:VCALENDAR
VERSION:2.0
PRODID:-//Good Shepherd Lutheran Church - ECPv6.15.13//NONSGML v1.0//EN
CALSCALE:GREGORIAN
METHOD:PUBLISH
X-WR-CALNAME:Good Shepherd Lutheran Church
X-ORIGINAL-URL:https://www.goodshepherdblm.org
X-WR-CALDESC:Events for Good Shepherd Lutheran Church
REFRESH-INTERVAL;VALUE=DURATION:PT1H
X-Robots-Tag:noindex
X-PUBLISHED-TTL:PT1H
BEGIN:VTIMEZONE
TZID:America/Chicago
BEGIN:DAYLIGHT
TZOFFSETFROM:-0600
TZOFFSETTO:-0500
TZNAME:CDT
DTSTART:20180311T080000
END:DAYLIGHT
BEGIN:STANDARD
TZOFFSETFROM:-0500
TZOFFSETTO:-0600
TZNAME:CST
DTSTART:20181104T070000
END:STANDARD
BEGIN:DAYLIGHT
TZOFFSETFROM:-0600
TZOFFSETTO:-0500
TZNAME:CDT
DTSTART:20190310T080000
END:DAYLIGHT
BEGIN:STANDARD
TZOFFSETFROM:-0500
TZOFFSETTO:-0600
TZNAME:CST
DTSTART:20191103T070000
END:STANDARD
BEGIN:DAYLIGHT
TZOFFSETFROM:-0600
TZOFFSETTO:-0500
TZNAME:CDT
DTSTART:20200308T080000
END:DAYLIGHT
BEGIN:STANDARD
TZOFFSETFROM:-0500
TZOFFSETTO:-0600
TZNAME:CST
DTSTART:20201101T070000
END:STANDARD
BEGIN:DAYLIGHT
TZOFFSETFROM:-0600
TZOFFSETTO:-0500
TZNAME:CDT
DTSTART:20210314T080000
END:DAYLIGHT
BEGIN:STANDARD
TZOFFSETFROM:-0500
TZOFFSETTO:-0600
TZNAME:CST
DTSTART:20211107T070000
END:STANDARD
END:VTIMEZONE
BEGIN:VTIMEZONE
TZID:America/New_York
BEGIN:DAYLIGHT
TZOFFSETFROM:-0500
TZOFFSETTO:-0400
TZNAME:EDT
DTSTART:20160313T070000
END:DAYLIGHT
BEGIN:STANDARD
TZOFFSETFROM:-0400
TZOFFSETTO:-0500
TZNAME:EST
DTSTART:20161106T060000
END:STANDARD
BEGIN:DAYLIGHT
TZOFFSETFROM:-0500
TZOFFSETTO:-0400
TZNAME:EDT
DTSTART:20170312T070000
END:DAYLIGHT
BEGIN:STANDARD
TZOFFSETFROM:-0400
TZOFFSETTO:-0500
TZNAME:EST
DTSTART:20171105T060000
END:STANDARD
BEGIN:DAYLIGHT
TZOFFSETFROM:-0500
TZOFFSETTO:-0400
TZNAME:EDT
DTSTART:20180311T070000
END:DAYLIGHT
BEGIN:STANDARD
TZOFFSETFROM:-0400
TZOFFSETTO:-0500
TZNAME:EST
DTSTART:20181104T060000
END:STANDARD
BEGIN:DAYLIGHT
TZOFFSETFROM:-0500
TZOFFSETTO:-0400
TZNAME:EDT
DTSTART:20190310T070000
END:DAYLIGHT
BEGIN:STANDARD
TZOFFSETFROM:-0400
TZOFFSETTO:-0500
TZNAME:EST
DTSTART:20191103T060000
END:STANDARD
BEGIN:DAYLIGHT
TZOFFSETFROM:-0500
TZOFFSETTO:-0400
TZNAME:EDT
DTSTART:20200308T070000
END:DAYLIGHT
BEGIN:STANDARD
TZOFFSETFROM:-0400
TZOFFSETTO:-0500
TZNAME:EST
DTSTART:20201101T060000
END:STANDARD
END:VTIMEZONE
BEGIN:VEVENT
DTSTART;TZID=America/Chicago:20200102T130000
DTEND;TZID=America/Chicago:20200102T160000
DTSTAMP:20260424T022516
CREATED:20191226T155529Z
LAST-MODIFIED:20191226T155529Z
UID:6468-1577970000-1577980800@www.goodshepherdblm.org
SUMMARY:Quilting
DESCRIPTION:
URL:https://www.goodshepherdblm.org/event/quilting-39/
LOCATION:Good Shepherd Lutheran Church\, 3516 White Eagle Drive\, Bloomington\, IL\, 61704\, United States
CATEGORIES:Quilting
END:VEVENT
BEGIN:VEVENT
DTSTART;TZID=America/Chicago:20191107T130000
DTEND;TZID=America/Chicago:20191107T160000
DTSTAMP:20260424T022516
CREATED:20191024T143039Z
LAST-MODIFIED:20191024T143039Z
UID:6259-1573131600-1573142400@www.goodshepherdblm.org
SUMMARY:Quilting
DESCRIPTION:
URL:https://www.goodshepherdblm.org/event/quilting-38/
LOCATION:Good Shepherd Lutheran Church\, 3516 White Eagle Drive\, Bloomington\, IL\, 61704\, United States
CATEGORIES:Quilting
END:VEVENT
BEGIN:VEVENT
DTSTART;TZID=America/Chicago:20191003T130000
DTEND;TZID=America/Chicago:20191003T160000
DTSTAMP:20260424T022516
CREATED:20190924T173158Z
LAST-MODIFIED:20190924T173608Z
UID:6168-1570107600-1570118400@www.goodshepherdblm.org
SUMMARY:Quilting
DESCRIPTION:
URL:https://www.goodshepherdblm.org/event/quilting-37/
LOCATION:Good Shepherd Lutheran Church\, 3516 White Eagle Drive\, Bloomington\, IL\, 61704\, United States
CATEGORIES:Quilting
END:VEVENT
BEGIN:VEVENT
DTSTART;TZID=America/Chicago:20190905T130000
DTEND;TZID=America/Chicago:20190905T160000
DTSTAMP:20260424T022516
CREATED:20190819T154729Z
LAST-MODIFIED:20190819T154729Z
UID:6041-1567688400-1567699200@www.goodshepherdblm.org
SUMMARY:Quilting
DESCRIPTION:
URL:https://www.goodshepherdblm.org/event/quilting-36/
LOCATION:Good Shepherd Lutheran Church\, 3516 White Eagle Drive\, Bloomington\, IL\, 61704\, United States
CATEGORIES:Quilting
END:VEVENT
BEGIN:VEVENT
DTSTART;TZID=America/Chicago:20190808T130000
DTEND;TZID=America/Chicago:20190808T160000
DTSTAMP:20260424T022516
CREATED:20190812T173202Z
LAST-MODIFIED:20190812T173514Z
UID:6011-1565269200-1565280000@www.goodshepherdblm.org
SUMMARY:Quilting
DESCRIPTION:
URL:https://www.goodshepherdblm.org/event/quilting-35/
LOCATION:Good Shepherd Lutheran Church\, 3516 White Eagle Drive\, Bloomington\, IL\, 61704\, United States
CATEGORIES:Quilting
END:VEVENT
BEGIN:VEVENT
DTSTART;TZID=America/New_York:20190606T130000
DTEND;TZID=America/New_York:20190606T160000
DTSTAMP:20260424T022516
CREATED:20190528T153849Z
LAST-MODIFIED:20190528T153849Z
UID:5853-1559826000-1559836800@www.goodshepherdblm.org
SUMMARY:Quilting
DESCRIPTION:
URL:https://www.goodshepherdblm.org/event/quilting-34/
LOCATION:Good Shepherd Lutheran Church\, 3516 White Eagle Drive\, Bloomington\, IL\, 61704\, United States
CATEGORIES:Quilting
END:VEVENT
BEGIN:VEVENT
DTSTART;TZID=America/New_York:20190502T130000
DTEND;TZID=America/New_York:20190502T160000
DTSTAMP:20260424T022516
CREATED:20190501T155536Z
LAST-MODIFIED:20190501T155536Z
UID:5774-1556802000-1556812800@www.goodshepherdblm.org
SUMMARY:Quilting
DESCRIPTION:
URL:https://www.goodshepherdblm.org/event/quilting-33/
LOCATION:Good Shepherd Lutheran Church\, 3516 White Eagle Drive\, Bloomington\, IL\, 61704\, United States
CATEGORIES:Quilting
END:VEVENT
BEGIN:VEVENT
DTSTART;TZID=America/New_York:20190404T130000
DTEND;TZID=America/New_York:20190404T160000
DTSTAMP:20260424T022516
CREATED:20190329T161944Z
LAST-MODIFIED:20190329T161944Z
UID:5654-1554382800-1554393600@www.goodshepherdblm.org
SUMMARY:Quilting
DESCRIPTION:
URL:https://www.goodshepherdblm.org/event/quilting-32/
LOCATION:Good Shepherd Lutheran Church\, 3516 White Eagle Drive\, Bloomington\, IL\, 61704\, United States
CATEGORIES:Quilting
END:VEVENT
BEGIN:VEVENT
DTSTART;TZID=America/New_York:20190307T130000
DTEND;TZID=America/New_York:20190307T160000
DTSTAMP:20260424T022516
CREATED:20190225T184504Z
LAST-MODIFIED:20190225T184504Z
UID:5525-1551963600-1551974400@www.goodshepherdblm.org
SUMMARY:Ladies Quilting
DESCRIPTION:La
URL:https://www.goodshepherdblm.org/event/ladies-quilting-12/
LOCATION:Good Shepherd Lutheran Church\, 3516 White Eagle Drive\, Bloomington\, IL\, 61704\, United States
CATEGORIES:Quilting
END:VEVENT
BEGIN:VEVENT
DTSTART;TZID=America/New_York:20190207T130000
DTEND;TZID=America/New_York:20190207T160000
DTSTAMP:20260424T022516
CREATED:20190131T014917Z
LAST-MODIFIED:20190131T014917Z
UID:5412-1549544400-1549555200@www.goodshepherdblm.org
SUMMARY:Quilting
DESCRIPTION:
URL:https://www.goodshepherdblm.org/event/quilting-31/
LOCATION:Good Shepherd Lutheran Church\, 3516 White Eagle Drive\, Bloomington\, IL\, 61704\, United States
CATEGORIES:Quilting
END:VEVENT
BEGIN:VEVENT
DTSTART;TZID=America/New_York:20190103T130000
DTEND;TZID=America/New_York:20190103T160000
DTSTAMP:20260424T022516
CREATED:20190101T224046Z
LAST-MODIFIED:20190101T224046Z
UID:5176-1546520400-1546531200@www.goodshepherdblm.org
SUMMARY:Quilting
DESCRIPTION:
URL:https://www.goodshepherdblm.org/event/quilting-30/
LOCATION:Good Shepherd Lutheran Church\, 3516 White Eagle Drive\, Bloomington\, IL\, 61704\, United States
CATEGORIES:Quilting
END:VEVENT
BEGIN:VEVENT
DTSTART;TZID=America/New_York:20181101T130000
DTEND;TZID=America/New_York:20181101T160000
DTSTAMP:20260424T022516
CREATED:20181030T173842Z
LAST-MODIFIED:20181030T173842Z
UID:5004-1541077200-1541088000@www.goodshepherdblm.org
SUMMARY:Ladies Quilting
DESCRIPTION:
URL:https://www.goodshepherdblm.org/event/ladies-quilting-11/
LOCATION:Good Shepherd Lutheran Church\, 3516 White Eagle Drive\, Bloomington\, IL\, 61704\, United States
CATEGORIES:Quilting
END:VEVENT
BEGIN:VEVENT
DTSTART;TZID=America/New_York:20181004T130000
DTEND;TZID=America/New_York:20181004T160000
DTSTAMP:20260424T022516
CREATED:20181003T043252Z
LAST-MODIFIED:20181003T043252Z
UID:4949-1538658000-1538668800@www.goodshepherdblm.org
SUMMARY:Ladies Quilting
DESCRIPTION:
URL:https://www.goodshepherdblm.org/event/ladies-quilting-10/
LOCATION:Good Shepherd Lutheran Church\, 3516 White Eagle Drive\, Bloomington\, IL\, 61704\, United States
CATEGORIES:Quilting
END:VEVENT
BEGIN:VEVENT
DTSTART;TZID=America/New_York:20180906T130000
DTEND;TZID=America/New_York:20180906T160000
DTSTAMP:20260424T022516
CREATED:20180909T064642Z
LAST-MODIFIED:20180909T064833Z
UID:4863-1536238800-1536249600@www.goodshepherdblm.org
SUMMARY:Ladies Quilting
DESCRIPTION:
URL:https://www.goodshepherdblm.org/event/ladies-quilting-9/
LOCATION:Good Shepherd Lutheran Church\, 3516 White Eagle Drive\, Bloomington\, IL\, 61704\, United States
CATEGORIES:Quilting
END:VEVENT
BEGIN:VEVENT
DTSTART;TZID=America/New_York:20180802T130000
DTEND;TZID=America/New_York:20180802T160000
DTSTAMP:20260424T022516
CREATED:20180814T162533Z
LAST-MODIFIED:20180814T162533Z
UID:4816-1533214800-1533225600@www.goodshepherdblm.org
SUMMARY:Quilting
DESCRIPTION:
URL:https://www.goodshepherdblm.org/event/quilting-29/
LOCATION:Good Shepherd Lutheran Church\, 3516 White Eagle Drive\, Bloomington\, IL\, 61704\, United States
CATEGORIES:Quilting
END:VEVENT
BEGIN:VEVENT
DTSTART;TZID=America/New_York:20180705T130000
DTEND;TZID=America/New_York:20180705T160000
DTSTAMP:20260424T022516
CREATED:20180703T162020Z
LAST-MODIFIED:20180703T162020Z
UID:4709-1530795600-1530806400@www.goodshepherdblm.org
SUMMARY:Quilting
DESCRIPTION:
URL:https://www.goodshepherdblm.org/event/quilting-28/
LOCATION:Good Shepherd Lutheran Church\, 3516 White Eagle Drive\, Bloomington\, IL\, 61704\, United States
CATEGORIES:Quilting
END:VEVENT
BEGIN:VEVENT
DTSTART;TZID=America/New_York:20180607T130000
DTEND;TZID=America/New_York:20180607T160000
DTSTAMP:20260424T022516
CREATED:20180530T214307Z
LAST-MODIFIED:20180530T214307Z
UID:4602-1528376400-1528387200@www.goodshepherdblm.org
SUMMARY:Ladies Quilting
DESCRIPTION:
URL:https://www.goodshepherdblm.org/event/ladies-quilting-8/
LOCATION:Good Shepherd Lutheran Church\, 3516 White Eagle Drive\, Bloomington\, IL\, 61704\, United States
CATEGORIES:Quilting
END:VEVENT
BEGIN:VEVENT
DTSTART;TZID=America/New_York:20180503T130000
DTEND;TZID=America/New_York:20180503T160000
DTSTAMP:20260424T022516
CREATED:20180430T141406Z
LAST-MODIFIED:20180430T141406Z
UID:4512-1525352400-1525363200@www.goodshepherdblm.org
SUMMARY:Ladies Quilting
DESCRIPTION:
URL:https://www.goodshepherdblm.org/event/ladies-quilting-7/
LOCATION:Good Shepherd Lutheran Church\, 3516 White Eagle Drive\, Bloomington\, IL\, 61704\, United States
CATEGORIES:Quilting
END:VEVENT
BEGIN:VEVENT
DTSTART;TZID=America/New_York:20180405T130000
DTEND;TZID=America/New_York:20180405T160000
DTSTAMP:20260424T022516
CREATED:20180326T213236Z
LAST-MODIFIED:20180326T214910Z
UID:4421-1522933200-1522944000@www.goodshepherdblm.org
SUMMARY:Ladies Quilting
DESCRIPTION:
URL:https://www.goodshepherdblm.org/event/ladies-quilting-6/
LOCATION:Good Shepherd Lutheran Church\, 3516 White Eagle Drive\, Bloomington\, IL\, 61704\, United States
CATEGORIES:Quilting
END:VEVENT
BEGIN:VEVENT
DTSTART;TZID=America/New_York:20180301T130000
DTEND;TZID=America/New_York:20180301T160000
DTSTAMP:20260424T022516
CREATED:20180303T030513Z
LAST-MODIFIED:20180303T030513Z
UID:4310-1519909200-1519920000@www.goodshepherdblm.org
SUMMARY:Quilting
DESCRIPTION:
URL:https://www.goodshepherdblm.org/event/quilting-27/
LOCATION:Good Shepherd Lutheran Church\, 3516 White Eagle Drive\, Bloomington\, IL\, 61704\, United States
CATEGORIES:Quilting
END:VEVENT
BEGIN:VEVENT
DTSTART;TZID=America/New_York:20180201T130000
DTEND;TZID=America/New_York:20180201T160000
DTSTAMP:20260424T022516
CREATED:20180215T173701Z
LAST-MODIFIED:20180215T173701Z
UID:4222-1517490000-1517500800@www.goodshepherdblm.org
SUMMARY:Ladies Quilting
DESCRIPTION:
URL:https://www.goodshepherdblm.org/event/ladies-quilting-5/
LOCATION:Good Shepherd Lutheran Church\, 3516 White Eagle Drive\, Bloomington\, IL\, 61704\, United States
CATEGORIES:Quilting
END:VEVENT
BEGIN:VEVENT
DTSTART;TZID=America/New_York:20180104T130000
DTEND;TZID=America/New_York:20180104T160000
DTSTAMP:20260424T022516
CREATED:20171228T061759Z
LAST-MODIFIED:20171228T061759Z
UID:4094-1515070800-1515081600@www.goodshepherdblm.org
SUMMARY:Ladies Quilting
DESCRIPTION:
URL:https://www.goodshepherdblm.org/event/ladies-quilting-4/
LOCATION:Good Shepherd Lutheran Church\, 3516 White Eagle Drive\, Bloomington\, IL\, 61704\, United States
CATEGORIES:Quilting
END:VEVENT
BEGIN:VEVENT
DTSTART;TZID=America/New_York:20171102T130000
DTEND;TZID=America/New_York:20171102T160000
DTSTAMP:20260424T022516
CREATED:20171029T022243Z
LAST-MODIFIED:20171029T022243Z
UID:3716-1509627600-1509638400@www.goodshepherdblm.org
SUMMARY:Quilting
DESCRIPTION:
URL:https://www.goodshepherdblm.org/event/quilting-26/
LOCATION:Good Shepherd Lutheran Church\, 3516 White Eagle Drive\, Bloomington\, IL\, 61704\, United States
CATEGORIES:Quilting
END:VEVENT
BEGIN:VEVENT
DTSTART;TZID=America/New_York:20171005T130000
DTEND;TZID=America/New_York:20171005T160000
DTSTAMP:20260424T022516
CREATED:20171009T171249Z
LAST-MODIFIED:20171009T171249Z
UID:3656-1507208400-1507219200@www.goodshepherdblm.org
SUMMARY:Quilting
DESCRIPTION:
URL:https://www.goodshepherdblm.org/event/quilting-25/
LOCATION:Good Shepherd Lutheran Church\, 3516 White Eagle Drive\, Bloomington\, IL\, 61704\, United States
CATEGORIES:Quilting
END:VEVENT
BEGIN:VEVENT
DTSTART;TZID=America/New_York:20170907T130000
DTEND;TZID=America/New_York:20170907T160000
DTSTAMP:20260424T022516
CREATED:20170911T020751Z
LAST-MODIFIED:20170911T020751Z
UID:3581-1504789200-1504800000@www.goodshepherdblm.org
SUMMARY:Quilting
DESCRIPTION:
URL:https://www.goodshepherdblm.org/event/quilting-24/
LOCATION:Good Shepherd Lutheran Church\, 3516 White Eagle Drive\, Bloomington\, IL\, 61704\, United States
CATEGORIES:Quilting
END:VEVENT
BEGIN:VEVENT
DTSTART;TZID=America/New_York:20170810T130000
DTEND;TZID=America/New_York:20170810T160000
DTSTAMP:20260424T022516
CREATED:20170802T205449Z
LAST-MODIFIED:20170802T205449Z
UID:3477-1502370000-1502380800@www.goodshepherdblm.org
SUMMARY:Quilting
DESCRIPTION:
URL:https://www.goodshepherdblm.org/event/quilting-23/
LOCATION:Good Shepherd Lutheran Church\, 3516 White Eagle Drive\, Bloomington\, IL\, 61704\, United States
CATEGORIES:Quilting
END:VEVENT
BEGIN:VEVENT
DTSTART;TZID=America/New_York:20170504T130000
DTEND;TZID=America/New_York:20170504T160000
DTSTAMP:20260424T022516
CREATED:20170429T162006Z
LAST-MODIFIED:20170429T162006Z
UID:3244-1493902800-1493913600@www.goodshepherdblm.org
SUMMARY:Quilting
DESCRIPTION:
URL:https://www.goodshepherdblm.org/event/quilting-22/
LOCATION:Good Shepherd Lutheran Church\, 3516 White Eagle Drive\, Bloomington\, IL\, 61704\, United States
CATEGORIES:Quilting
END:VEVENT
BEGIN:VEVENT
DTSTART;TZID=America/New_York:20170406T130000
DTEND;TZID=America/New_York:20170406T170000
DTSTAMP:20260424T022516
CREATED:20170328T004847Z
LAST-MODIFIED:20170328T004847Z
UID:3146-1491483600-1491498000@www.goodshepherdblm.org
SUMMARY:Ladies Quilting
DESCRIPTION:
URL:https://www.goodshepherdblm.org/event/ladies-quilting-3/
LOCATION:Good Shepherd Lutheran Church\, 3516 White Eagle Drive\, Bloomington\, IL\, 61704\, United States
CATEGORIES:Quilting
END:VEVENT
BEGIN:VEVENT
DTSTART;TZID=America/New_York:20170302T130000
DTEND;TZID=America/New_York:20170302T160000
DTSTAMP:20260424T022516
CREATED:20170303T203317Z
LAST-MODIFIED:20170303T203317Z
UID:3037-1488459600-1488470400@www.goodshepherdblm.org
SUMMARY:Ladies' Quilting
DESCRIPTION:
URL:https://www.goodshepherdblm.org/event/ladies-quilting-2/
LOCATION:Good Shepherd Lutheran Church\, 3516 White Eagle Drive\, Bloomington\, IL\, 61704\, United States
CATEGORIES:Quilting
END:VEVENT
BEGIN:VEVENT
DTSTART;TZID=America/New_York:20170105T130000
DTEND;TZID=America/New_York:20170105T160000
DTSTAMP:20260424T022516
CREATED:20170108T052950Z
LAST-MODIFIED:20170108T052950Z
UID:2648-1483621200-1483632000@www.goodshepherdblm.org
SUMMARY:Quilting
DESCRIPTION:
URL:https://www.goodshepherdblm.org/event/quilting-21/
LOCATION:Good Shepherd Lutheran Church\, 3516 White Eagle Drive\, Bloomington\, IL\, 61704\, United States
CATEGORIES:Quilting
END:VEVENT
END:VCALENDAR