BEGIN:VCALENDAR
VERSION:2.0
PRODID:-//Good Shepherd Lutheran Church - ECPv6.15.13//NONSGML v1.0//EN
CALSCALE:GREGORIAN
METHOD:PUBLISH
X-ORIGINAL-URL:https://www.goodshepherdblm.org
X-WR-CALDESC:Events for Good Shepherd Lutheran Church
REFRESH-INTERVAL;VALUE=DURATION:PT1H
X-Robots-Tag:noindex
X-PUBLISHED-TTL:PT1H
BEGIN:VTIMEZONE
TZID:America/Chicago
BEGIN:DAYLIGHT
TZOFFSETFROM:-0600
TZOFFSETTO:-0500
TZNAME:CDT
DTSTART:20130310T080000
END:DAYLIGHT
BEGIN:STANDARD
TZOFFSETFROM:-0500
TZOFFSETTO:-0600
TZNAME:CST
DTSTART:20131103T070000
END:STANDARD
BEGIN:DAYLIGHT
TZOFFSETFROM:-0600
TZOFFSETTO:-0500
TZNAME:CDT
DTSTART:20140309T080000
END:DAYLIGHT
BEGIN:STANDARD
TZOFFSETFROM:-0500
TZOFFSETTO:-0600
TZNAME:CST
DTSTART:20141102T070000
END:STANDARD
BEGIN:DAYLIGHT
TZOFFSETFROM:-0600
TZOFFSETTO:-0500
TZNAME:CDT
DTSTART:20150308T080000
END:DAYLIGHT
BEGIN:STANDARD
TZOFFSETFROM:-0500
TZOFFSETTO:-0600
TZNAME:CST
DTSTART:20151101T070000
END:STANDARD
BEGIN:DAYLIGHT
TZOFFSETFROM:-0600
TZOFFSETTO:-0500
TZNAME:CDT
DTSTART:20160313T080000
END:DAYLIGHT
BEGIN:STANDARD
TZOFFSETFROM:-0500
TZOFFSETTO:-0600
TZNAME:CST
DTSTART:20161106T070000
END:STANDARD
END:VTIMEZONE
BEGIN:VEVENT
DTSTART;TZID=America/Chicago:20150328T010000
DTEND;TZID=America/Chicago:20150328T160000
DTSTAMP:20260424T170349
CREATED:20150328T183638Z
LAST-MODIFIED:20150328T183638Z
UID:954-1427504400-1427558400@www.goodshepherdblm.org
SUMMARY:Quilting Group
DESCRIPTION:
URL:https://www.goodshepherdblm.org/event/quilting-group/
LOCATION:Good Shepherd Lutheran Church\, 3516 White Eagle Drive\, Bloomington\, IL\, 61704\, United States
CATEGORIES:Quilting
END:VEVENT
BEGIN:VEVENT
DTSTART;TZID=America/Chicago:20150305T130000
DTEND;TZID=America/Chicago:20150305T160000
DTSTAMP:20260424T170349
CREATED:20150211T210423Z
LAST-MODIFIED:20150211T210423Z
UID:853-1425560400-1425571200@www.goodshepherdblm.org
SUMMARY:Quilting
DESCRIPTION:
URL:https://www.goodshepherdblm.org/event/quilting-2/
LOCATION:Good Shepherd Lutheran Church\, 3516 White Eagle Drive\, Bloomington\, IL\, 61704\, United States
CATEGORIES:Quilting
END:VEVENT
BEGIN:VEVENT
DTSTART;TZID=America/Chicago:20150205T130000
DTEND;TZID=America/Chicago:20150205T160000
DTSTAMP:20260424T170349
CREATED:20150126T234539Z
LAST-MODIFIED:20150126T234539Z
UID:724-1423141200-1423152000@www.goodshepherdblm.org
SUMMARY:Quilting
DESCRIPTION:
URL:https://www.goodshepherdblm.org/event/quilting/
LOCATION:Good Shepherd Lutheran Church\, 3516 White Eagle Drive\, Bloomington\, IL\, 61704\, United States
CATEGORIES:Quilting
END:VEVENT
BEGIN:VEVENT
DTSTART;TZID=America/Chicago:20150115T130000
DTEND;TZID=America/Chicago:20150115T160000
DTSTAMP:20260424T170349
CREATED:20150108T055527Z
LAST-MODIFIED:20150111T044005Z
UID:675-1421326800-1421337600@www.goodshepherdblm.org
SUMMARY:Ladies' Quilting
DESCRIPTION:
URL:https://www.goodshepherdblm.org/event/ladies-quilting/
LOCATION:Good Shepherd Lutheran Church\, 3516 White Eagle Drive\, Bloomington\, IL\, 61704\, United States
CATEGORIES:Quilting
END:VEVENT
BEGIN:VEVENT
DTSTART;TZID=America/Chicago:20141106T130000
DTEND;TZID=America/Chicago:20141106T160000
DTSTAMP:20260424T170349
CREATED:20141019T154140Z
LAST-MODIFIED:20141030T224658Z
UID:443-1415278800-1415289600@www.goodshepherdblm.org
SUMMARY:Quilt Sewing
DESCRIPTION:
URL:https://www.goodshepherdblm.org/event/quit-sewing/
LOCATION:Good Shepherd Lutheran Church\, 3516 White Eagle Drive\, Bloomington\, IL\, 61704\, United States
CATEGORIES:Organizations,Quilting
END:VEVENT
BEGIN:VEVENT
DTSTART;TZID=America/Chicago:20141002T130000
DTEND;TZID=America/Chicago:20141002T160000
DTSTAMP:20260424T170349
CREATED:20140929T022657Z
LAST-MODIFIED:20140929T022657Z
UID:282-1412254800-1412265600@www.goodshepherdblm.org
SUMMARY:Quilt Sewing
DESCRIPTION:
URL:https://www.goodshepherdblm.org/event/quilt-sewing-2/
LOCATION:Good Shepherd Lutheran Church\, 3516 White Eagle Drive\, Bloomington\, IL\, 61704\, United States
CATEGORIES:Quilting
END:VEVENT
BEGIN:VEVENT
DTSTART;TZID=America/Chicago:20140920T090000
DTEND;TZID=America/Chicago:20140920T120000
DTSTAMP:20260424T170349
CREATED:20140913T210306Z
LAST-MODIFIED:20140913T210306Z
UID:271-1411203600-1411214400@www.goodshepherdblm.org
SUMMARY:Quilt Sewing
DESCRIPTION:
URL:https://www.goodshepherdblm.org/event/quilt-sewing/
LOCATION:Good Shepherd Lutheran Church\, 3516 White Eagle Drive\, Bloomington\, IL\, 61704\, United States
CATEGORIES:Quilting
END:VEVENT
END:VCALENDAR