BEGIN:VCALENDAR
VERSION:2.0
PRODID:-//Good Shepherd Lutheran Church - ECPv6.15.13//NONSGML v1.0//EN
CALSCALE:GREGORIAN
METHOD:PUBLISH
X-WR-CALNAME:Good Shepherd Lutheran Church
X-ORIGINAL-URL:https://www.goodshepherdblm.org
X-WR-CALDESC:Events for Good Shepherd Lutheran Church
REFRESH-INTERVAL;VALUE=DURATION:PT1H
X-Robots-Tag:noindex
X-PUBLISHED-TTL:PT1H
BEGIN:VTIMEZONE
TZID:America/New_York
BEGIN:DAYLIGHT
TZOFFSETFROM:-0500
TZOFFSETTO:-0400
TZNAME:EDT
DTSTART:20140309T070000
END:DAYLIGHT
BEGIN:STANDARD
TZOFFSETFROM:-0400
TZOFFSETTO:-0500
TZNAME:EST
DTSTART:20141102T060000
END:STANDARD
BEGIN:DAYLIGHT
TZOFFSETFROM:-0500
TZOFFSETTO:-0400
TZNAME:EDT
DTSTART:20150308T070000
END:DAYLIGHT
BEGIN:STANDARD
TZOFFSETFROM:-0400
TZOFFSETTO:-0500
TZNAME:EST
DTSTART:20151101T060000
END:STANDARD
BEGIN:DAYLIGHT
TZOFFSETFROM:-0500
TZOFFSETTO:-0400
TZNAME:EDT
DTSTART:20160313T070000
END:DAYLIGHT
BEGIN:STANDARD
TZOFFSETFROM:-0400
TZOFFSETTO:-0500
TZNAME:EST
DTSTART:20161106T060000
END:STANDARD
END:VTIMEZONE
BEGIN:VTIMEZONE
TZID:America/Chicago
BEGIN:DAYLIGHT
TZOFFSETFROM:-0600
TZOFFSETTO:-0500
TZNAME:CDT
DTSTART:20140309T080000
END:DAYLIGHT
BEGIN:STANDARD
TZOFFSETFROM:-0500
TZOFFSETTO:-0600
TZNAME:CST
DTSTART:20141102T070000
END:STANDARD
BEGIN:DAYLIGHT
TZOFFSETFROM:-0600
TZOFFSETTO:-0500
TZNAME:CDT
DTSTART:20150308T080000
END:DAYLIGHT
BEGIN:STANDARD
TZOFFSETFROM:-0500
TZOFFSETTO:-0600
TZNAME:CST
DTSTART:20151101T070000
END:STANDARD
BEGIN:DAYLIGHT
TZOFFSETFROM:-0600
TZOFFSETTO:-0500
TZNAME:CDT
DTSTART:20160313T080000
END:DAYLIGHT
BEGIN:STANDARD
TZOFFSETFROM:-0500
TZOFFSETTO:-0600
TZNAME:CST
DTSTART:20161106T070000
END:STANDARD
END:VTIMEZONE
BEGIN:VEVENT
DTSTART;TZID=America/New_York:20151203T130000
DTEND;TZID=America/New_York:20151203T160000
DTSTAMP:20260425T145340
CREATED:20151203T164938Z
LAST-MODIFIED:20151203T164938Z
UID:1598-1449147600-1449158400@www.goodshepherdblm.org
SUMMARY:Quilting
DESCRIPTION:
URL:https://www.goodshepherdblm.org/event/quilting-10/
LOCATION:Good Shepherd Lutheran Church\, 3516 White Eagle Drive\, Bloomington\, IL\, 61704\, United States
CATEGORIES:Quilting
END:VEVENT
BEGIN:VEVENT
DTSTART;TZID=America/New_York:20151202T181500
DTEND;TZID=America/New_York:20151202T190000
DTSTAMP:20260425T145340
CREATED:20151203T163851Z
LAST-MODIFIED:20151203T163851Z
UID:1592-1449080100-1449082800@www.goodshepherdblm.org
SUMMARY:Choir Practice
DESCRIPTION:
URL:https://www.goodshepherdblm.org/event/choir-practice-22/
LOCATION:Good Shepherd Lutheran Church\, 3516 White Eagle Drive\, Bloomington\, IL\, 61704\, United States
CATEGORIES:Choir
END:VEVENT
BEGIN:VEVENT
DTSTART;TZID=America/New_York:20151118T190000
DTEND;TZID=America/New_York:20151118T200000
DTSTAMP:20260425T145340
CREATED:20151029T025135Z
LAST-MODIFIED:20151029T025135Z
UID:1519-1447873200-1447876800@www.goodshepherdblm.org
SUMMARY:Choir Practice
DESCRIPTION:
URL:https://www.goodshepherdblm.org/event/choir-practice-21/
LOCATION:Good Shepherd Lutheran Church\, 3516 White Eagle Drive\, Bloomington\, IL\, 61704\, United States
CATEGORIES:Choir
END:VEVENT
BEGIN:VEVENT
DTSTART;TZID=America/New_York:20151111T190000
DTEND;TZID=America/New_York:20151111T200000
DTSTAMP:20260425T145340
CREATED:20151029T025044Z
LAST-MODIFIED:20151029T025044Z
UID:1518-1447268400-1447272000@www.goodshepherdblm.org
SUMMARY:Choir Practice
DESCRIPTION:
URL:https://www.goodshepherdblm.org/event/choir-practice-20/
LOCATION:Good Shepherd Lutheran Church\, 3516 White Eagle Drive\, Bloomington\, IL\, 61704\, United States
CATEGORIES:Choir
END:VEVENT
BEGIN:VEVENT
DTSTART;TZID=America/New_York:20151106T190000
DTEND;TZID=America/New_York:20151106T200000
DTSTAMP:20260425T145340
CREATED:20151029T025318Z
LAST-MODIFIED:20151029T025318Z
UID:1521-1446836400-1446840000@www.goodshepherdblm.org
SUMMARY:Prayer Time
DESCRIPTION:
URL:https://www.goodshepherdblm.org/event/prayer-time-14/
LOCATION:Good Shepherd Lutheran Church\, 3516 White Eagle Drive\, Bloomington\, IL\, 61704\, United States
CATEGORIES:Prayer Chain
END:VEVENT
BEGIN:VEVENT
DTSTART;TZID=America/New_York:20151105T130000
DTEND;TZID=America/New_York:20151105T160000
DTSTAMP:20260425T145340
CREATED:20151029T025222Z
LAST-MODIFIED:20151029T025222Z
UID:1520-1446728400-1446739200@www.goodshepherdblm.org
SUMMARY:Quilting
DESCRIPTION:
URL:https://www.goodshepherdblm.org/event/quilting-9/
LOCATION:Good Shepherd Lutheran Church\, 3516 White Eagle Drive\, Bloomington\, IL\, 61704\, United States
CATEGORIES:Quilting
END:VEVENT
BEGIN:VEVENT
DTSTART;TZID=America/New_York:20151104T190000
DTEND;TZID=America/New_York:20151104T200000
DTSTAMP:20260425T145340
CREATED:20151029T024951Z
LAST-MODIFIED:20151029T024951Z
UID:1517-1446663600-1446667200@www.goodshepherdblm.org
SUMMARY:Choir Practice
DESCRIPTION:
URL:https://www.goodshepherdblm.org/event/choir-practice-19/
LOCATION:Good Shepherd Lutheran Church\, 3516 White Eagle Drive\, Bloomington\, IL\, 61704\, United States
CATEGORIES:Choir
END:VEVENT
BEGIN:VEVENT
DTSTART;TZID=America/New_York:20151027T183000
DTEND;TZID=America/New_York:20151027T193000
DTSTAMP:20260425T145340
CREATED:20151006T114027Z
LAST-MODIFIED:20151006T114027Z
UID:1463-1445970600-1445974200@www.goodshepherdblm.org
SUMMARY:LWML Meeting
DESCRIPTION:
URL:https://www.goodshepherdblm.org/event/lwml-meeting-8/
LOCATION:Good Shepherd Lutheran Church\, 3516 White Eagle Drive\, Bloomington\, IL\, 61704\, United States
CATEGORIES:Lutheran Women's Missionary League
END:VEVENT
BEGIN:VEVENT
DTSTART;TZID=America/New_York:20151002T190000
DTEND;TZID=America/New_York:20151002T200000
DTSTAMP:20260425T145340
CREATED:20151006T112412Z
LAST-MODIFIED:20151006T112636Z
UID:1451-1443812400-1443816000@www.goodshepherdblm.org
SUMMARY:Prayer Time
DESCRIPTION:
URL:https://www.goodshepherdblm.org/event/prayer-time-13/
LOCATION:Good Shepherd Lutheran Church\, 3516 White Eagle Drive\, Bloomington\, IL\, 61704\, United States
CATEGORIES:Prayer Chain
END:VEVENT
BEGIN:VEVENT
DTSTART;TZID=America/New_York:20151001T130000
DTEND;TZID=America/New_York:20151001T160000
DTSTAMP:20260425T145340
CREATED:20151006T112325Z
LAST-MODIFIED:20151006T112325Z
UID:1450-1443704400-1443715200@www.goodshepherdblm.org
SUMMARY:Quilting
DESCRIPTION:
URL:https://www.goodshepherdblm.org/event/quilting-8/
LOCATION:Good Shepherd Lutheran Church\, 3516 White Eagle Drive\, Bloomington\, IL\, 61704\, United States
CATEGORIES:Quilting
END:VEVENT
BEGIN:VEVENT
DTSTART;TZID=America/Chicago:20150922T183000
DTEND;TZID=America/Chicago:20150922T193000
DTSTAMP:20260425T145340
CREATED:20150901T034227Z
LAST-MODIFIED:20150901T034227Z
UID:1370-1442946600-1442950200@www.goodshepherdblm.org
SUMMARY:LWML Meeting
DESCRIPTION:
URL:https://www.goodshepherdblm.org/event/lwml-meeting-7/
LOCATION:Good Shepherd Lutheran Church\, 3516 White Eagle Drive\, Bloomington\, IL\, 61704\, United States
CATEGORIES:Lutheran Women's Missionary League
END:VEVENT
BEGIN:VEVENT
DTSTART;TZID=America/Chicago:20150904T190000
DTEND;TZID=America/Chicago:20150904T200000
DTSTAMP:20260425T145340
CREATED:20150901T030259Z
LAST-MODIFIED:20150901T034751Z
UID:1350-1441393200-1441396800@www.goodshepherdblm.org
SUMMARY:Prayer Time
DESCRIPTION:
URL:https://www.goodshepherdblm.org/event/prayer-time-12/
LOCATION:Good Shepherd Lutheran Church\, 3516 White Eagle Drive\, Bloomington\, IL\, 61704\, United States
CATEGORIES:Prayer Chain
END:VEVENT
BEGIN:VEVENT
DTSTART;TZID=America/Chicago:20150903T130000
DTEND;TZID=America/Chicago:20150903T160000
DTSTAMP:20260425T145340
CREATED:20150901T030200Z
LAST-MODIFIED:20150901T030200Z
UID:1349-1441285200-1441296000@www.goodshepherdblm.org
SUMMARY:Quilting
DESCRIPTION:
URL:https://www.goodshepherdblm.org/event/quilting-7/
LOCATION:Good Shepherd Lutheran Church\, 3516 White Eagle Drive\, Bloomington\, IL\, 61704\, United States
CATEGORIES:Quilting
END:VEVENT
BEGIN:VEVENT
DTSTART;TZID=America/Chicago:20150825T183000
DTEND;TZID=America/Chicago:20150825T193000
DTSTAMP:20260425T145340
CREATED:20150802T161845Z
LAST-MODIFIED:20150802T161845Z
UID:1315-1440527400-1440531000@www.goodshepherdblm.org
SUMMARY:LWML Meeting
DESCRIPTION:
URL:https://www.goodshepherdblm.org/event/lwml-meeting-6/
LOCATION:Good Shepherd Lutheran Church\, 3516 White Eagle Drive\, Bloomington\, IL\, 61704\, United States
CATEGORIES:Lutheran Women's Missionary League
END:VEVENT
BEGIN:VEVENT
DTSTART;TZID=America/Chicago:20150807T190000
DTEND;TZID=America/Chicago:20150807T200000
DTSTAMP:20260425T145340
CREATED:20150802T161128Z
LAST-MODIFIED:20150802T161128Z
UID:1308-1438974000-1438977600@www.goodshepherdblm.org
SUMMARY:Prayer Time
DESCRIPTION:
URL:https://www.goodshepherdblm.org/event/prayer-time-11/
LOCATION:Good Shepherd Lutheran Church\, 3516 White Eagle Drive\, Bloomington\, IL\, 61704\, United States
CATEGORIES:Prayer Chain
END:VEVENT
BEGIN:VEVENT
DTSTART;TZID=America/Chicago:20150806T130000
DTEND;TZID=America/Chicago:20150806T160000
DTSTAMP:20260425T145340
CREATED:20150802T161036Z
LAST-MODIFIED:20150802T161036Z
UID:1307-1438866000-1438876800@www.goodshepherdblm.org
SUMMARY:Quilting
DESCRIPTION:
URL:https://www.goodshepherdblm.org/event/quilting-6/
LOCATION:Good Shepherd Lutheran Church\, 3516 White Eagle Drive\, Bloomington\, IL\, 61704\, United States
CATEGORIES:Quilting
END:VEVENT
BEGIN:VEVENT
DTSTART;TZID=America/Chicago:20150703T190000
DTEND;TZID=America/Chicago:20150703T200000
DTSTAMP:20260425T145340
CREATED:20150802T155327Z
LAST-MODIFIED:20150802T155327Z
UID:1298-1435950000-1435953600@www.goodshepherdblm.org
SUMMARY:Prayer Time
DESCRIPTION:
URL:https://www.goodshepherdblm.org/event/prayer-time-10/
LOCATION:Good Shepherd Lutheran Church\, 3516 White Eagle Drive\, Bloomington\, IL\, 61704\, United States
CATEGORIES:Prayer Chain
END:VEVENT
BEGIN:VEVENT
DTSTART;TZID=America/Chicago:20150702T130000
DTEND;TZID=America/Chicago:20150702T160000
DTSTAMP:20260425T145340
CREATED:20150802T155228Z
LAST-MODIFIED:20150802T155228Z
UID:1297-1435842000-1435852800@www.goodshepherdblm.org
SUMMARY:Quilting
DESCRIPTION:
URL:https://www.goodshepherdblm.org/event/quilting-5/
LOCATION:Good Shepherd Lutheran Church\, 3516 White Eagle Drive\, Bloomington\, IL\, 61704\, United States
CATEGORIES:Quilting
END:VEVENT
BEGIN:VEVENT
DTSTART;TZID=America/Chicago:20150605T190000
DTEND;TZID=America/Chicago:20150605T200000
DTSTAMP:20260425T145340
CREATED:20150531T064258Z
LAST-MODIFIED:20150531T064258Z
UID:1201-1433530800-1433534400@www.goodshepherdblm.org
SUMMARY:Prayer Time
DESCRIPTION:
URL:https://www.goodshepherdblm.org/event/prayer-time-9/
LOCATION:Good Shepherd Lutheran Church\, 3516 White Eagle Drive\, Bloomington\, IL\, 61704\, United States
CATEGORIES:Prayer Chain
END:VEVENT
BEGIN:VEVENT
DTSTART;TZID=America/Chicago:20150604T130000
DTEND;TZID=America/Chicago:20150604T160000
DTSTAMP:20260425T145340
CREATED:20150531T064159Z
LAST-MODIFIED:20150531T064159Z
UID:1200-1433422800-1433433600@www.goodshepherdblm.org
SUMMARY:Quilting
DESCRIPTION:
URL:https://www.goodshepherdblm.org/event/quilting-4/
LOCATION:Good Shepherd Lutheran Church\, 3516 White Eagle Drive\, Bloomington\, IL\, 61704\, United States
CATEGORIES:Quilting
END:VEVENT
BEGIN:VEVENT
DTSTART;TZID=America/Chicago:20150507T130000
DTEND;TZID=America/Chicago:20150507T160000
DTSTAMP:20260425T145340
CREATED:20150427T000828Z
LAST-MODIFIED:20150427T000828Z
UID:1034-1431003600-1431014400@www.goodshepherdblm.org
SUMMARY:Quilting
DESCRIPTION:
URL:https://www.goodshepherdblm.org/event/quilting-3/
LOCATION:Good Shepherd Lutheran Church\, 3516 White Eagle Drive\, Bloomington\, IL\, 61704\, United States
CATEGORIES:Quilting
END:VEVENT
BEGIN:VEVENT
DTSTART;TZID=America/Chicago:20150428T183000
DTEND;TZID=America/Chicago:20150428T193000
DTSTAMP:20260425T145340
CREATED:20150328T190836Z
LAST-MODIFIED:20150328T190836Z
UID:973-1430245800-1430249400@www.goodshepherdblm.org
SUMMARY:LWML Meeting
DESCRIPTION:
URL:https://www.goodshepherdblm.org/event/lwml-meeting-5/
LOCATION:Good Shepherd Lutheran Church\, 3516 White Eagle Drive\, Bloomington\, IL\, 61704\, United States
CATEGORIES:Lutheran Women's Missionary League
END:VEVENT
BEGIN:VEVENT
DTSTART;TZID=America/Chicago:20150328T010000
DTEND;TZID=America/Chicago:20150328T160000
DTSTAMP:20260425T145340
CREATED:20150328T183638Z
LAST-MODIFIED:20150328T183638Z
UID:954-1427504400-1427558400@www.goodshepherdblm.org
SUMMARY:Quilting Group
DESCRIPTION:
URL:https://www.goodshepherdblm.org/event/quilting-group/
LOCATION:Good Shepherd Lutheran Church\, 3516 White Eagle Drive\, Bloomington\, IL\, 61704\, United States
CATEGORIES:Quilting
END:VEVENT
BEGIN:VEVENT
DTSTART;TZID=America/Chicago:20150325T181500
DTEND;TZID=America/Chicago:20150325T190000
DTSTAMP:20260425T145340
CREATED:20150117T004545Z
LAST-MODIFIED:20150117T004545Z
UID:701-1427307300-1427310000@www.goodshepherdblm.org
SUMMARY:Choir Practice
DESCRIPTION:
URL:https://www.goodshepherdblm.org/event/choir-practice-18/
LOCATION:Good Shepherd Lutheran Church\, 3516 White Eagle Drive\, Bloomington\, IL\, 61704\, United States
CATEGORIES:Choir
END:VEVENT
BEGIN:VEVENT
DTSTART;TZID=America/Chicago:20150324T183000
DTEND;TZID=America/Chicago:20150324T193000
DTSTAMP:20260425T145340
CREATED:20150211T205339Z
LAST-MODIFIED:20150211T205339Z
UID:850-1427221800-1427225400@www.goodshepherdblm.org
SUMMARY:LWML Meeting
DESCRIPTION:
URL:https://www.goodshepherdblm.org/event/lwml-meeting-4/
LOCATION:Good Shepherd Lutheran Church\, 3516 White Eagle Drive\, Bloomington\, IL\, 61704\, United States
CATEGORIES:Lutheran Women's Missionary League
END:VEVENT
BEGIN:VEVENT
DTSTART;TZID=America/Chicago:20150318T181500
DTEND;TZID=America/Chicago:20150318T190000
DTSTAMP:20260425T145340
CREATED:20150117T004400Z
LAST-MODIFIED:20150117T004400Z
UID:700-1426702500-1426705200@www.goodshepherdblm.org
SUMMARY:Choir Practice
DESCRIPTION:
URL:https://www.goodshepherdblm.org/event/choir-practice-17/
LOCATION:Good Shepherd Lutheran Church\, 3516 White Eagle Drive\, Bloomington\, IL\, 61704\, United States
CATEGORIES:Choir
END:VEVENT
BEGIN:VEVENT
DTSTART;TZID=America/Chicago:20150311T181500
DTEND;TZID=America/Chicago:20150311T190000
DTSTAMP:20260425T145340
CREATED:20150117T004228Z
LAST-MODIFIED:20150117T004228Z
UID:699-1426097700-1426100400@www.goodshepherdblm.org
SUMMARY:Choir Practice
DESCRIPTION:
URL:https://www.goodshepherdblm.org/event/choir-practice-16/
LOCATION:Good Shepherd Lutheran Church\, 3516 White Eagle Drive\, Bloomington\, IL\, 61704\, United States
CATEGORIES:Choir
END:VEVENT
BEGIN:VEVENT
DTSTART;TZID=America/Chicago:20150306T190000
DTEND;TZID=America/Chicago:20150306T200000
DTSTAMP:20260425T145340
CREATED:20150211T210539Z
LAST-MODIFIED:20150211T210539Z
UID:854-1425668400-1425672000@www.goodshepherdblm.org
SUMMARY:Prayer Time
DESCRIPTION:
URL:https://www.goodshepherdblm.org/event/prayer-time-6/
LOCATION:Good Shepherd Lutheran Church\, 3516 White Eagle Drive\, Bloomington\, IL\, 61704\, United States
CATEGORIES:Prayer Chain
END:VEVENT
BEGIN:VEVENT
DTSTART;TZID=America/Chicago:20150305T130000
DTEND;TZID=America/Chicago:20150305T160000
DTSTAMP:20260425T145340
CREATED:20150211T210423Z
LAST-MODIFIED:20150211T210423Z
UID:853-1425560400-1425571200@www.goodshepherdblm.org
SUMMARY:Quilting
DESCRIPTION:
URL:https://www.goodshepherdblm.org/event/quilting-2/
LOCATION:Good Shepherd Lutheran Church\, 3516 White Eagle Drive\, Bloomington\, IL\, 61704\, United States
CATEGORIES:Quilting
END:VEVENT
BEGIN:VEVENT
DTSTART;TZID=America/Chicago:20150304T181500
DTEND;TZID=America/Chicago:20150304T190000
DTSTAMP:20260425T145340
CREATED:20150117T004103Z
LAST-MODIFIED:20150117T004103Z
UID:698-1425492900-1425495600@www.goodshepherdblm.org
SUMMARY:Choir Practice
DESCRIPTION:
URL:https://www.goodshepherdblm.org/event/choir-practice-15/
LOCATION:Good Shepherd Lutheran Church\, 3516 White Eagle Drive\, Bloomington\, IL\, 61704\, United States
CATEGORIES:Choir
END:VEVENT
END:VCALENDAR