BEGIN:VCALENDAR
VERSION:2.0
PRODID:-//Good Shepherd Lutheran Church - ECPv6.15.13//NONSGML v1.0//EN
CALSCALE:GREGORIAN
METHOD:PUBLISH
X-ORIGINAL-URL:https://www.goodshepherdblm.org
X-WR-CALDESC:Events for Good Shepherd Lutheran Church
REFRESH-INTERVAL;VALUE=DURATION:PT1H
X-Robots-Tag:noindex
X-PUBLISHED-TTL:PT1H
BEGIN:VTIMEZONE
TZID:America/Chicago
BEGIN:DAYLIGHT
TZOFFSETFROM:-0600
TZOFFSETTO:-0500
TZNAME:CDT
DTSTART:20180311T080000
END:DAYLIGHT
BEGIN:STANDARD
TZOFFSETFROM:-0500
TZOFFSETTO:-0600
TZNAME:CST
DTSTART:20181104T070000
END:STANDARD
BEGIN:DAYLIGHT
TZOFFSETFROM:-0600
TZOFFSETTO:-0500
TZNAME:CDT
DTSTART:20190310T080000
END:DAYLIGHT
BEGIN:STANDARD
TZOFFSETFROM:-0500
TZOFFSETTO:-0600
TZNAME:CST
DTSTART:20191103T070000
END:STANDARD
BEGIN:DAYLIGHT
TZOFFSETFROM:-0600
TZOFFSETTO:-0500
TZNAME:CDT
DTSTART:20200308T080000
END:DAYLIGHT
BEGIN:STANDARD
TZOFFSETFROM:-0500
TZOFFSETTO:-0600
TZNAME:CST
DTSTART:20201101T070000
END:STANDARD
BEGIN:DAYLIGHT
TZOFFSETFROM:-0600
TZOFFSETTO:-0500
TZNAME:CDT
DTSTART:20210314T080000
END:DAYLIGHT
BEGIN:STANDARD
TZOFFSETFROM:-0500
TZOFFSETTO:-0600
TZNAME:CST
DTSTART:20211107T070000
END:STANDARD
BEGIN:DAYLIGHT
TZOFFSETFROM:-0600
TZOFFSETTO:-0500
TZNAME:CDT
DTSTART:20220313T080000
END:DAYLIGHT
BEGIN:STANDARD
TZOFFSETFROM:-0500
TZOFFSETTO:-0600
TZNAME:CST
DTSTART:20221106T070000
END:STANDARD
BEGIN:DAYLIGHT
TZOFFSETFROM:-0600
TZOFFSETTO:-0500
TZNAME:CDT
DTSTART:20230312T080000
END:DAYLIGHT
BEGIN:STANDARD
TZOFFSETFROM:-0500
TZOFFSETTO:-0600
TZNAME:CST
DTSTART:20231105T070000
END:STANDARD
END:VTIMEZONE
BEGIN:VEVENT
DTSTART;TZID=America/Chicago:20220804T130000
DTEND;TZID=America/Chicago:20220804T160000
DTSTAMP:20260424T002459
CREATED:20220807T233224Z
LAST-MODIFIED:20220807T233224Z
UID:9157-1659618000-1659628800@www.goodshepherdblm.org
SUMMARY:Ladies Quilting
DESCRIPTION:
URL:https://www.goodshepherdblm.org/event/ladies-quilting-24/
LOCATION:Good Shepherd Lutheran Church\, 3516 White Eagle Drive\, Bloomington\, IL\, 61704\, United States
CATEGORIES:Quilting
END:VEVENT
BEGIN:VEVENT
DTSTART;TZID=America/Chicago:20220603T190000
DTEND;TZID=America/Chicago:20220603T190000
DTSTAMP:20260424T002459
CREATED:20220603T034954Z
LAST-MODIFIED:20220603T034954Z
UID:8997-1654282800-1654282800@www.goodshepherdblm.org
SUMMARY:Prayer Time
DESCRIPTION:
URL:https://www.goodshepherdblm.org/event/prayer-time-71/
LOCATION:Good Shepherd Lutheran Church\, 3516 White Eagle Drive\, Bloomington\, IL\, 61704\, United States
CATEGORIES:Prayer Chain
END:VEVENT
BEGIN:VEVENT
DTSTART;TZID=America/Chicago:20220506T190000
DTEND;TZID=America/Chicago:20220506T190000
DTSTAMP:20260424T002459
CREATED:20220430T035133Z
LAST-MODIFIED:20220430T035133Z
UID:8954-1651863600-1651863600@www.goodshepherdblm.org
SUMMARY:Prayer Time
DESCRIPTION:
URL:https://www.goodshepherdblm.org/event/prayer-time-70/
LOCATION:Good Shepherd Lutheran Church\, 3516 White Eagle Drive\, Bloomington\, IL\, 61704\, United States
CATEGORIES:Prayer Chain
END:VEVENT
BEGIN:VEVENT
DTSTART;TZID=America/Chicago:20220505T130000
DTEND;TZID=America/Chicago:20220505T160000
DTSTAMP:20260424T002459
CREATED:20220430T034618Z
LAST-MODIFIED:20220430T034618Z
UID:8948-1651755600-1651766400@www.goodshepherdblm.org
SUMMARY:Ladies Quilting
DESCRIPTION:
URL:https://www.goodshepherdblm.org/event/ladies-quilting-22/
LOCATION:Good Shepherd Lutheran Church\, 3516 White Eagle Drive\, Bloomington\, IL\, 61704\, United States
CATEGORIES:Quilting
END:VEVENT
BEGIN:VEVENT
DTSTART;TZID=America/Chicago:20220407T130000
DTEND;TZID=America/Chicago:20220407T130000
DTSTAMP:20260424T002459
CREATED:20220404T021442Z
LAST-MODIFIED:20220404T021442Z
UID:8851-1649336400-1649336400@www.goodshepherdblm.org
SUMMARY:Ladies Quilting
DESCRIPTION:
URL:https://www.goodshepherdblm.org/event/ladies-quilting-21/
LOCATION:Good Shepherd Lutheran Church\, 3516 White Eagle Drive\, Bloomington\, IL\, 61704\, United States
CATEGORIES:Quilting
END:VEVENT
BEGIN:VEVENT
DTSTART;TZID=America/Chicago:20220303T130000
DTEND;TZID=America/Chicago:20220303T160000
DTSTAMP:20260424T002459
CREATED:20220303T001950Z
LAST-MODIFIED:20220303T001950Z
UID:8752-1646312400-1646323200@www.goodshepherdblm.org
SUMMARY:Ladies Quilting
DESCRIPTION:
URL:https://www.goodshepherdblm.org/event/ladies-quilting-20/
LOCATION:Good Shepherd Lutheran Church\, 3516 White Eagle Drive\, Bloomington\, IL\, 61704\, United States
CATEGORIES:Quilting
END:VEVENT
BEGIN:VEVENT
DTSTART;TZID=America/Chicago:20220204T190000
DTEND;TZID=America/Chicago:20220204T190000
DTSTAMP:20260424T002459
CREATED:20220302T233833Z
LAST-MODIFIED:20220302T233833Z
UID:8710-1644001200-1644001200@www.goodshepherdblm.org
SUMMARY:Prayer Time
DESCRIPTION:
URL:https://www.goodshepherdblm.org/event/prayer-time-67/
LOCATION:Good Shepherd Lutheran Church\, 3516 White Eagle Drive\, Bloomington\, IL\, 61704\, United States
CATEGORIES:Prayer Chain
END:VEVENT
BEGIN:VEVENT
DTSTART;TZID=America/Chicago:20220203T130000
DTEND;TZID=America/Chicago:20220203T160000
DTSTAMP:20260424T002459
CREATED:20220302T233646Z
LAST-MODIFIED:20220302T233646Z
UID:8708-1643893200-1643904000@www.goodshepherdblm.org
SUMMARY:Ladies Quilting
DESCRIPTION:
URL:https://www.goodshepherdblm.org/event/ladies-quilting-19/
LOCATION:Good Shepherd Lutheran Church\, 3516 White Eagle Drive\, Bloomington\, IL\, 61704\, United States
CATEGORIES:Quilting
END:VEVENT
BEGIN:VEVENT
DTSTART;TZID=America/Chicago:20211104T130000
DTEND;TZID=America/Chicago:20211104T160000
DTSTAMP:20260424T002459
CREATED:20211110T192255Z
LAST-MODIFIED:20211110T192255Z
UID:8453-1636030800-1636041600@www.goodshepherdblm.org
SUMMARY:Ladies Quilting
DESCRIPTION:
URL:https://www.goodshepherdblm.org/event/ladies-quilting-18/
LOCATION:Good Shepherd Lutheran Church\, 3516 White Eagle Drive\, Bloomington\, IL\, 61704\, United States
CATEGORIES:Quilting
END:VEVENT
BEGIN:VEVENT
DTSTART;TZID=America/Chicago:20211007T130000
DTEND;TZID=America/Chicago:20211007T160000
DTSTAMP:20260424T002459
CREATED:20210930T162526Z
LAST-MODIFIED:20210930T162526Z
UID:8428-1633611600-1633622400@www.goodshepherdblm.org
SUMMARY:Ladies Quilting
DESCRIPTION:
URL:https://www.goodshepherdblm.org/event/ladies-quilting-17/
LOCATION:Good Shepherd Lutheran Church\, 3516 White Eagle Drive\, Bloomington\, IL\, 61704\, United States
CATEGORIES:Quilting
END:VEVENT
BEGIN:VEVENT
DTSTART;TZID=America/Chicago:20211001T190000
DTEND;TZID=America/Chicago:20211001T200000
DTSTAMP:20260424T002459
CREATED:20210930T162801Z
LAST-MODIFIED:20210930T162801Z
UID:8432-1633114800-1633118400@www.goodshepherdblm.org
SUMMARY:Prayer Time
DESCRIPTION:
URL:https://www.goodshepherdblm.org/event/prayer-time-65/
LOCATION:Good Shepherd Lutheran Church\, 3516 White Eagle Drive\, Bloomington\, IL\, 61704\, United States
CATEGORIES:Prayer Chain
END:VEVENT
BEGIN:VEVENT
DTSTART;TZID=America/Chicago:20210805T130000
DTEND;TZID=America/Chicago:20210805T160000
DTSTAMP:20260424T002459
CREATED:20210728T173852Z
LAST-MODIFIED:20210728T174151Z
UID:8318-1628168400-1628179200@www.goodshepherdblm.org
SUMMARY:Ladies Quilting
DESCRIPTION:
URL:https://www.goodshepherdblm.org/event/ladies-quilting-16/
LOCATION:Good Shepherd Lutheran Church\, 3516 White Eagle Drive\, Bloomington\, IL\, 61704\, United States
CATEGORIES:Quilting
END:VEVENT
BEGIN:VEVENT
DTSTART;TZID=America/Chicago:20200310T093000
DTEND;TZID=America/Chicago:20200310T103000
DTSTAMP:20260424T002459
CREATED:20200303T173137Z
LAST-MODIFIED:20200303T173137Z
UID:7036-1583832600-1583836200@www.goodshepherdblm.org
SUMMARY:LWML Meeting
DESCRIPTION:
URL:https://www.goodshepherdblm.org/event/lwml-meeting-38/
LOCATION:Good Shepherd Lutheran Church\, 3516 White Eagle Drive\, Bloomington\, IL\, 61704\, United States
CATEGORIES:Lutheran Women's Missionary League
END:VEVENT
BEGIN:VEVENT
DTSTART;TZID=America/Chicago:20200305T130000
DTEND;TZID=America/Chicago:20200305T160000
DTSTAMP:20260424T002459
CREATED:20200303T172852Z
LAST-MODIFIED:20200303T172852Z
UID:7030-1583413200-1583424000@www.goodshepherdblm.org
SUMMARY:Ladies Quilting
DESCRIPTION:
URL:https://www.goodshepherdblm.org/event/ladies-quilting-14/
LOCATION:Good Shepherd Lutheran Church\, 3516 White Eagle Drive\, Bloomington\, IL\, 61704\, United States
CATEGORIES:Quilting
END:VEVENT
BEGIN:VEVENT
DTSTART;TZID=America/Chicago:20200207T190000
DTEND;TZID=America/Chicago:20200207T200000
DTSTAMP:20260424T002459
CREATED:20200127T170535Z
LAST-MODIFIED:20200127T170535Z
UID:6575-1581102000-1581105600@www.goodshepherdblm.org
SUMMARY:Prayer Time
DESCRIPTION:
URL:https://www.goodshepherdblm.org/event/prayer-time-61/
LOCATION:Good Shepherd Lutheran Church\, 3516 White Eagle Drive\, Bloomington\, IL\, 61704\, United States
CATEGORIES:Prayer Chain
END:VEVENT
BEGIN:VEVENT
DTSTART;TZID=America/Chicago:20200206T130000
DTEND;TZID=America/Chicago:20200206T160000
DTSTAMP:20260424T002459
CREATED:20200127T170444Z
LAST-MODIFIED:20200127T170444Z
UID:6573-1580994000-1581004800@www.goodshepherdblm.org
SUMMARY:Ladies Quilting
DESCRIPTION:
URL:https://www.goodshepherdblm.org/event/ladies-quilting-13/
LOCATION:Good Shepherd Lutheran Church\, 3516 White Eagle Drive\, Bloomington\, IL\, 61704\, United States
CATEGORIES:Quilting
END:VEVENT
BEGIN:VEVENT
DTSTART;TZID=America/Chicago:20200114T093000
DTEND;TZID=America/Chicago:20200114T103000
DTSTAMP:20260424T002459
CREATED:20191226T160317Z
LAST-MODIFIED:20191226T160317Z
UID:6482-1578994200-1578997800@www.goodshepherdblm.org
SUMMARY:LWML Meeting
DESCRIPTION:
URL:https://www.goodshepherdblm.org/event/lwml-meeting-37/
LOCATION:Good Shepherd Lutheran Church\, 3516 White Eagle Drive\, Bloomington\, IL\, 61704\, United States
CATEGORIES:Lutheran Women's Missionary League
END:VEVENT
BEGIN:VEVENT
DTSTART;TZID=America/Chicago:20200103T190000
DTEND;TZID=America/Chicago:20200103T200000
DTSTAMP:20260424T002459
CREATED:20191226T155616Z
LAST-MODIFIED:20191226T155616Z
UID:6470-1578078000-1578081600@www.goodshepherdblm.org
SUMMARY:Prayer Time
DESCRIPTION:
URL:https://www.goodshepherdblm.org/event/prayer-time-60/
LOCATION:Good Shepherd Lutheran Church\, 3516 White Eagle Drive\, Bloomington\, IL\, 61704\, United States
CATEGORIES:Prayer Chain
END:VEVENT
BEGIN:VEVENT
DTSTART;TZID=America/Chicago:20200102T130000
DTEND;TZID=America/Chicago:20200102T160000
DTSTAMP:20260424T002459
CREATED:20191226T155529Z
LAST-MODIFIED:20191226T155529Z
UID:6468-1577970000-1577980800@www.goodshepherdblm.org
SUMMARY:Quilting
DESCRIPTION:
URL:https://www.goodshepherdblm.org/event/quilting-39/
LOCATION:Good Shepherd Lutheran Church\, 3516 White Eagle Drive\, Bloomington\, IL\, 61704\, United States
CATEGORIES:Quilting
END:VEVENT
BEGIN:VEVENT
DTSTART;TZID=America/Chicago:20191218T180000
DTEND;TZID=America/Chicago:20191218T190000
DTSTAMP:20260424T002459
CREATED:20191125T160559Z
LAST-MODIFIED:20191125T160559Z
UID:6380-1576692000-1576695600@www.goodshepherdblm.org
SUMMARY:Choir Practice
DESCRIPTION:
URL:https://www.goodshepherdblm.org/event/choir-practice-43/
LOCATION:Good Shepherd Lutheran Church\, 3516 White Eagle Drive\, Bloomington\, IL\, 61704\, United States
CATEGORIES:Choir
END:VEVENT
BEGIN:VEVENT
DTSTART;TZID=America/Chicago:20191211T180000
DTEND;TZID=America/Chicago:20191211T190000
DTSTAMP:20260424T002459
CREATED:20191125T160337Z
LAST-MODIFIED:20191125T160337Z
UID:6374-1576087200-1576090800@www.goodshepherdblm.org
SUMMARY:Choir Practice
DESCRIPTION:
URL:https://www.goodshepherdblm.org/event/choir-practice-42/
LOCATION:Good Shepherd Lutheran Church\, 3516 White Eagle Drive\, Bloomington\, IL\, 61704\, United States
CATEGORIES:Choir
END:VEVENT
BEGIN:VEVENT
DTSTART;TZID=America/Chicago:20191204T180000
DTEND;TZID=America/Chicago:20191204T190000
DTSTAMP:20260424T002459
CREATED:20191125T155730Z
LAST-MODIFIED:20191125T155730Z
UID:6362-1575482400-1575486000@www.goodshepherdblm.org
SUMMARY:Choir Practice
DESCRIPTION:
URL:https://www.goodshepherdblm.org/event/choir-practice-41/
LOCATION:Good Shepherd Lutheran Church\, 3516 White Eagle Drive\, Bloomington\, IL\, 61704\, United States
CATEGORIES:Choir
END:VEVENT
BEGIN:VEVENT
DTSTART;TZID=America/Chicago:20191112T093000
DTEND;TZID=America/Chicago:20191112T103000
DTSTAMP:20260424T002459
CREATED:20191024T143716Z
LAST-MODIFIED:20191024T143716Z
UID:6263-1573551000-1573554600@www.goodshepherdblm.org
SUMMARY:LWML Meeting
DESCRIPTION:
URL:https://www.goodshepherdblm.org/event/lwml-meeting-36/
LOCATION:Good Shepherd Lutheran Church\, 3516 White Eagle Drive\, Bloomington\, IL\, 61704\, United States
CATEGORIES:Lutheran Women's Missionary League
END:VEVENT
BEGIN:VEVENT
DTSTART;TZID=America/Chicago:20191107T130000
DTEND;TZID=America/Chicago:20191107T160000
DTSTAMP:20260424T002459
CREATED:20191024T143039Z
LAST-MODIFIED:20191024T143039Z
UID:6259-1573131600-1573142400@www.goodshepherdblm.org
SUMMARY:Quilting
DESCRIPTION:
URL:https://www.goodshepherdblm.org/event/quilting-38/
LOCATION:Good Shepherd Lutheran Church\, 3516 White Eagle Drive\, Bloomington\, IL\, 61704\, United States
CATEGORIES:Quilting
END:VEVENT
BEGIN:VEVENT
DTSTART;TZID=America/Chicago:20191008T093000
DTEND;TZID=America/Chicago:20191008T103000
DTSTAMP:20260424T002459
CREATED:20190924T173819Z
LAST-MODIFIED:20190924T173819Z
UID:6172-1570527000-1570530600@www.goodshepherdblm.org
SUMMARY:LWML Meeting
DESCRIPTION:
URL:https://www.goodshepherdblm.org/event/lwml-meeting-35/
LOCATION:Good Shepherd Lutheran Church\, 3516 White Eagle Drive\, Bloomington\, IL\, 61704\, United States
CATEGORIES:Lutheran Women's Missionary League
END:VEVENT
BEGIN:VEVENT
DTSTART;TZID=America/Chicago:20191004T190000
DTEND;TZID=America/Chicago:20191004T200000
DTSTAMP:20260424T002459
CREATED:20190924T173704Z
LAST-MODIFIED:20190924T173704Z
UID:6170-1570215600-1570219200@www.goodshepherdblm.org
SUMMARY:Prayer Time
DESCRIPTION:
URL:https://www.goodshepherdblm.org/event/prayer-time-57/
LOCATION:Good Shepherd Lutheran Church\, 3516 White Eagle Drive\, Bloomington\, IL\, 61704\, United States
CATEGORIES:Prayer Chain
END:VEVENT
BEGIN:VEVENT
DTSTART;TZID=America/Chicago:20191003T130000
DTEND;TZID=America/Chicago:20191003T160000
DTSTAMP:20260424T002459
CREATED:20190924T173158Z
LAST-MODIFIED:20190924T173608Z
UID:6168-1570107600-1570118400@www.goodshepherdblm.org
SUMMARY:Quilting
DESCRIPTION:
URL:https://www.goodshepherdblm.org/event/quilting-37/
LOCATION:Good Shepherd Lutheran Church\, 3516 White Eagle Drive\, Bloomington\, IL\, 61704\, United States
CATEGORIES:Quilting
END:VEVENT
BEGIN:VEVENT
DTSTART;TZID=America/Chicago:20190910T093000
DTEND;TZID=America/Chicago:20190910T103000
DTSTAMP:20260424T002459
CREATED:20190819T160543Z
LAST-MODIFIED:20190907T160658Z
UID:6066-1568107800-1568111400@www.goodshepherdblm.org
SUMMARY:LWML Meeting
DESCRIPTION:
URL:https://www.goodshepherdblm.org/event/lwml-meeting-34/
LOCATION:Good Shepherd Lutheran Church\, 3516 White Eagle Drive\, Bloomington\, IL\, 61704\, United States
CATEGORIES:Lutheran Women's Missionary League
END:VEVENT
BEGIN:VEVENT
DTSTART;TZID=America/Chicago:20190905T130000
DTEND;TZID=America/Chicago:20190905T160000
DTSTAMP:20260424T002459
CREATED:20190819T154729Z
LAST-MODIFIED:20190819T154729Z
UID:6041-1567688400-1567699200@www.goodshepherdblm.org
SUMMARY:Quilting
DESCRIPTION:
URL:https://www.goodshepherdblm.org/event/quilting-36/
LOCATION:Good Shepherd Lutheran Church\, 3516 White Eagle Drive\, Bloomington\, IL\, 61704\, United States
CATEGORIES:Quilting
END:VEVENT
BEGIN:VEVENT
DTSTART;TZID=America/Chicago:20190827T090000
DTEND;TZID=America/Chicago:20190827T100000
DTSTAMP:20260424T002459
CREATED:20190812T174408Z
LAST-MODIFIED:20190812T174408Z
UID:6025-1566896400-1566900000@www.goodshepherdblm.org
SUMMARY:LWML
DESCRIPTION:
URL:https://www.goodshepherdblm.org/event/lwml-2/
LOCATION:Good Shepherd Lutheran Church\, 3516 White Eagle Drive\, Bloomington\, IL\, 61704\, United States
CATEGORIES:Lutheran Women's Missionary League
END:VEVENT
END:VCALENDAR