BEGIN:VCALENDAR
VERSION:2.0
PRODID:-//Good Shepherd Lutheran Church - ECPv6.15.13//NONSGML v1.0//EN
CALSCALE:GREGORIAN
METHOD:PUBLISH
X-WR-CALNAME:Good Shepherd Lutheran Church
X-ORIGINAL-URL:https://www.goodshepherdblm.org
X-WR-CALDESC:Events for Good Shepherd Lutheran Church
REFRESH-INTERVAL;VALUE=DURATION:PT1H
X-Robots-Tag:noindex
X-PUBLISHED-TTL:PT1H
BEGIN:VTIMEZONE
TZID:America/New_York
BEGIN:DAYLIGHT
TZOFFSETFROM:-0500
TZOFFSETTO:-0400
TZNAME:EDT
DTSTART:20160313T070000
END:DAYLIGHT
BEGIN:STANDARD
TZOFFSETFROM:-0400
TZOFFSETTO:-0500
TZNAME:EST
DTSTART:20161106T060000
END:STANDARD
BEGIN:DAYLIGHT
TZOFFSETFROM:-0500
TZOFFSETTO:-0400
TZNAME:EDT
DTSTART:20170312T070000
END:DAYLIGHT
BEGIN:STANDARD
TZOFFSETFROM:-0400
TZOFFSETTO:-0500
TZNAME:EST
DTSTART:20171105T060000
END:STANDARD
BEGIN:DAYLIGHT
TZOFFSETFROM:-0500
TZOFFSETTO:-0400
TZNAME:EDT
DTSTART:20180311T070000
END:DAYLIGHT
BEGIN:STANDARD
TZOFFSETFROM:-0400
TZOFFSETTO:-0500
TZNAME:EST
DTSTART:20181104T060000
END:STANDARD
BEGIN:DAYLIGHT
TZOFFSETFROM:-0500
TZOFFSETTO:-0400
TZNAME:EDT
DTSTART:20190310T070000
END:DAYLIGHT
BEGIN:STANDARD
TZOFFSETFROM:-0400
TZOFFSETTO:-0500
TZNAME:EST
DTSTART:20191103T060000
END:STANDARD
END:VTIMEZONE
BEGIN:VEVENT
DTSTART;TZID=America/New_York:20180424T090000
DTEND;TZID=America/New_York:20180424T100000
DTSTAMP:20260424T162158
CREATED:20180326T215833Z
LAST-MODIFIED:20180326T215833Z
UID:4451-1524560400-1524564000@www.goodshepherdblm.org
SUMMARY:LWML Meeting
DESCRIPTION:
URL:https://www.goodshepherdblm.org/event/lwml-meeting-26/
LOCATION:Good Shepherd Lutheran Church\, 3516 White Eagle Drive\, Bloomington\, IL\, 61704\, United States
CATEGORIES:Lutheran Women's Missionary League
END:VEVENT
BEGIN:VEVENT
DTSTART;TZID=America/New_York:20180406T190000
DTEND;TZID=America/New_York:20180406T200000
DTSTAMP:20260424T162158
CREATED:20180326T213339Z
LAST-MODIFIED:20180326T213339Z
UID:4423-1523041200-1523044800@www.goodshepherdblm.org
SUMMARY:Prayer Time
DESCRIPTION:
URL:https://www.goodshepherdblm.org/event/prayer-time-41/
LOCATION:Good Shepherd Lutheran Church\, 3516 White Eagle Drive\, Bloomington\, IL\, 61704\, United States
CATEGORIES:Prayer Chain
END:VEVENT
BEGIN:VEVENT
DTSTART;TZID=America/New_York:20180405T130000
DTEND;TZID=America/New_York:20180405T160000
DTSTAMP:20260424T162158
CREATED:20180326T213236Z
LAST-MODIFIED:20180326T214910Z
UID:4421-1522933200-1522944000@www.goodshepherdblm.org
SUMMARY:Ladies Quilting
DESCRIPTION:
URL:https://www.goodshepherdblm.org/event/ladies-quilting-6/
LOCATION:Good Shepherd Lutheran Church\, 3516 White Eagle Drive\, Bloomington\, IL\, 61704\, United States
CATEGORIES:Quilting
END:VEVENT
BEGIN:VEVENT
DTSTART;TZID=America/New_York:20180327T090000
DTEND;TZID=America/New_York:20180327T100000
DTSTAMP:20260424T162158
CREATED:20180303T033728Z
LAST-MODIFIED:20180303T033728Z
UID:4365-1522141200-1522144800@www.goodshepherdblm.org
SUMMARY:LWML Meeting
DESCRIPTION:
URL:https://www.goodshepherdblm.org/event/lwml-meeting-25/
LOCATION:Good Shepherd Lutheran Church\, 3516 White Eagle Drive\, Bloomington\, IL\, 61704\, United States
CATEGORIES:Lutheran Women's Missionary League
END:VEVENT
BEGIN:VEVENT
DTSTART;TZID=America/New_York:20180321T180000
DTEND;TZID=America/New_York:20180321T190000
DTSTAMP:20260424T162158
CREATED:20180303T031625Z
LAST-MODIFIED:20180303T031625Z
UID:4332-1521655200-1521658800@www.goodshepherdblm.org
SUMMARY:Choir Practice
DESCRIPTION:
URL:https://www.goodshepherdblm.org/event/choir-practice-40/
LOCATION:Good Shepherd Lutheran Church\, 3516 White Eagle Drive\, Bloomington\, IL\, 61704\, United States
CATEGORIES:Choir
END:VEVENT
BEGIN:VEVENT
DTSTART;TZID=America/New_York:20180314T180000
DTEND;TZID=America/New_York:20180314T190000
DTSTAMP:20260424T162158
CREATED:20180303T031528Z
LAST-MODIFIED:20180303T031528Z
UID:4330-1521050400-1521054000@www.goodshepherdblm.org
SUMMARY:Choir Practice
DESCRIPTION:
URL:https://www.goodshepherdblm.org/event/choir-practice-39/
LOCATION:Good Shepherd Lutheran Church\, 3516 White Eagle Drive\, Bloomington\, IL\, 61704\, United States
CATEGORIES:Choir
END:VEVENT
BEGIN:VEVENT
DTSTART;TZID=America/New_York:20180307T180000
DTEND;TZID=America/New_York:20180307T190000
DTSTAMP:20260424T162158
CREATED:20180303T031433Z
LAST-MODIFIED:20180303T031433Z
UID:4328-1520445600-1520449200@www.goodshepherdblm.org
SUMMARY:Choir Practice
DESCRIPTION:
URL:https://www.goodshepherdblm.org/event/choir-practice-38/
LOCATION:Good Shepherd Lutheran Church\, 3516 White Eagle Drive\, Bloomington\, IL\, 61704\, United States
CATEGORIES:Choir
END:VEVENT
BEGIN:VEVENT
DTSTART;TZID=America/New_York:20180302T190000
DTEND;TZID=America/New_York:20180302T200000
DTSTAMP:20260424T162158
CREATED:20180303T030604Z
LAST-MODIFIED:20180303T030604Z
UID:4312-1520017200-1520020800@www.goodshepherdblm.org
SUMMARY:Prayer Time
DESCRIPTION:
URL:https://www.goodshepherdblm.org/event/prayer-time-40/
LOCATION:Good Shepherd Lutheran Church\, 3516 White Eagle Drive\, Bloomington\, IL\, 61704\, United States
CATEGORIES:Prayer Chain
END:VEVENT
BEGIN:VEVENT
DTSTART;TZID=America/New_York:20180301T130000
DTEND;TZID=America/New_York:20180301T160000
DTSTAMP:20260424T162158
CREATED:20180303T030513Z
LAST-MODIFIED:20180303T030513Z
UID:4310-1519909200-1519920000@www.goodshepherdblm.org
SUMMARY:Quilting
DESCRIPTION:
URL:https://www.goodshepherdblm.org/event/quilting-27/
LOCATION:Good Shepherd Lutheran Church\, 3516 White Eagle Drive\, Bloomington\, IL\, 61704\, United States
CATEGORIES:Quilting
END:VEVENT
BEGIN:VEVENT
DTSTART;TZID=America/New_York:20180227T090000
DTEND;TZID=America/New_York:20180227T100000
DTSTAMP:20260424T162158
CREATED:20180215T180942Z
LAST-MODIFIED:20180215T180942Z
UID:4260-1519722000-1519725600@www.goodshepherdblm.org
SUMMARY:LWML Meeting
DESCRIPTION:
URL:https://www.goodshepherdblm.org/event/lwml-meeting-24/
LOCATION:Good Shepherd Lutheran Church\, 3516 White Eagle Drive\, Bloomington\, IL\, 61704\, United States
CATEGORIES:Lutheran Women's Missionary League
END:VEVENT
BEGIN:VEVENT
DTSTART;TZID=America/New_York:20180201T130000
DTEND;TZID=America/New_York:20180201T160000
DTSTAMP:20260424T162158
CREATED:20180215T173701Z
LAST-MODIFIED:20180215T173701Z
UID:4222-1517490000-1517500800@www.goodshepherdblm.org
SUMMARY:Ladies Quilting
DESCRIPTION:
URL:https://www.goodshepherdblm.org/event/ladies-quilting-5/
LOCATION:Good Shepherd Lutheran Church\, 3516 White Eagle Drive\, Bloomington\, IL\, 61704\, United States
CATEGORIES:Quilting
END:VEVENT
BEGIN:VEVENT
DTSTART;TZID=America/New_York:20180123T090000
DTEND;TZID=America/New_York:20180123T100000
DTSTAMP:20260424T162158
CREATED:20171228T063020Z
LAST-MODIFIED:20171228T063020Z
UID:4116-1516698000-1516701600@www.goodshepherdblm.org
SUMMARY:LWML Meeting
DESCRIPTION:
URL:https://www.goodshepherdblm.org/event/lwml-meeting-23/
LOCATION:Good Shepherd Lutheran Church\, 3516 White Eagle Drive\, Bloomington\, IL\, 61704\, United States
CATEGORIES:Lutheran Women's Missionary League
END:VEVENT
BEGIN:VEVENT
DTSTART;TZID=America/New_York:20180105T190000
DTEND;TZID=America/New_York:20180105T200000
DTSTAMP:20260424T162158
CREATED:20171228T061850Z
LAST-MODIFIED:20171228T061850Z
UID:4096-1515178800-1515182400@www.goodshepherdblm.org
SUMMARY:Prayer Time
DESCRIPTION:
URL:https://www.goodshepherdblm.org/event/prayer-time-38/
LOCATION:Good Shepherd Lutheran Church\, 3516 White Eagle Drive\, Bloomington\, IL\, 61704\, United States
CATEGORIES:Prayer Chain
END:VEVENT
BEGIN:VEVENT
DTSTART;TZID=America/New_York:20180104T130000
DTEND;TZID=America/New_York:20180104T160000
DTSTAMP:20260424T162158
CREATED:20171228T061759Z
LAST-MODIFIED:20171228T061759Z
UID:4094-1515070800-1515081600@www.goodshepherdblm.org
SUMMARY:Ladies Quilting
DESCRIPTION:
URL:https://www.goodshepherdblm.org/event/ladies-quilting-4/
LOCATION:Good Shepherd Lutheran Church\, 3516 White Eagle Drive\, Bloomington\, IL\, 61704\, United States
CATEGORIES:Quilting
END:VEVENT
BEGIN:VEVENT
DTSTART;TZID=America/New_York:20171220T180000
DTEND;TZID=America/New_York:20171220T190000
DTSTAMP:20260424T162158
CREATED:20171127T050040Z
LAST-MODIFIED:20171127T050040Z
UID:3868-1513792800-1513796400@www.goodshepherdblm.org
SUMMARY:Choir Practice
DESCRIPTION:
URL:https://www.goodshepherdblm.org/event/choir-practice-37/
LOCATION:Good Shepherd Lutheran Church\, 3516 White Eagle Drive\, Bloomington\, IL\, 61704\, United States
CATEGORIES:Choir
END:VEVENT
BEGIN:VEVENT
DTSTART;TZID=America/New_York:20171213T180000
DTEND;TZID=America/New_York:20171213T190000
DTSTAMP:20260424T162158
CREATED:20171127T045508Z
LAST-MODIFIED:20171127T045508Z
UID:3856-1513188000-1513191600@www.goodshepherdblm.org
SUMMARY:Choir Practice
DESCRIPTION:
URL:https://www.goodshepherdblm.org/event/choir-practice-36/
LOCATION:Good Shepherd Lutheran Church\, 3516 White Eagle Drive\, Bloomington\, IL\, 61704\, United States
CATEGORIES:Choir
END:VEVENT
BEGIN:VEVENT
DTSTART;TZID=America/New_York:20171206T180000
DTEND;TZID=America/New_York:20171206T190000
DTSTAMP:20260424T162158
CREATED:20171127T044917Z
LAST-MODIFIED:20171127T044917Z
UID:3844-1512583200-1512586800@www.goodshepherdblm.org
SUMMARY:Choir Practice
DESCRIPTION:
URL:https://www.goodshepherdblm.org/event/choir-practice-35/
LOCATION:Good Shepherd Lutheran Church\, 3516 White Eagle Drive\, Bloomington\, IL\, 61704\, United States
CATEGORIES:Choir
END:VEVENT
BEGIN:VEVENT
DTSTART;TZID=America/New_York:20171201T190000
DTEND;TZID=America/New_York:20171201T200000
DTSTAMP:20260424T162158
CREATED:20171127T045105Z
LAST-MODIFIED:20171127T050734Z
UID:3848-1512154800-1512158400@www.goodshepherdblm.org
SUMMARY:Prayer Time
DESCRIPTION:
URL:https://www.goodshepherdblm.org/event/prayer-time-37/
LOCATION:Good Shepherd Lutheran Church\, 3516 White Eagle Drive\, Bloomington\, IL\, 61704\, United States
CATEGORIES:Prayer Chain
END:VEVENT
BEGIN:VEVENT
DTSTART;TZID=America/New_York:20171103T190000
DTEND;TZID=America/New_York:20171103T200000
DTSTAMP:20260424T162158
CREATED:20171029T022436Z
LAST-MODIFIED:20171029T022436Z
UID:3718-1509735600-1509739200@www.goodshepherdblm.org
SUMMARY:Prayer Time
DESCRIPTION:
URL:https://www.goodshepherdblm.org/event/prayer-time-36/
LOCATION:Good Shepherd Lutheran Church\, 3516 White Eagle Drive\, Bloomington\, IL\, 61704\, United States
CATEGORIES:Prayer Chain
END:VEVENT
BEGIN:VEVENT
DTSTART;TZID=America/New_York:20171102T130000
DTEND;TZID=America/New_York:20171102T160000
DTSTAMP:20260424T162158
CREATED:20171029T022243Z
LAST-MODIFIED:20171029T022243Z
UID:3716-1509627600-1509638400@www.goodshepherdblm.org
SUMMARY:Quilting
DESCRIPTION:
URL:https://www.goodshepherdblm.org/event/quilting-26/
LOCATION:Good Shepherd Lutheran Church\, 3516 White Eagle Drive\, Bloomington\, IL\, 61704\, United States
CATEGORIES:Quilting
END:VEVENT
BEGIN:VEVENT
DTSTART;TZID=America/New_York:20171031T090000
DTEND;TZID=America/New_York:20171031T100000
DTSTAMP:20260424T162158
CREATED:20171009T173342Z
LAST-MODIFIED:20171017T150020Z
UID:3683-1509440400-1509444000@www.goodshepherdblm.org
SUMMARY:LWML Meeting
DESCRIPTION:
URL:https://www.goodshepherdblm.org/event/lwml-meeting-22/
LOCATION:Good Shepherd Lutheran Church\, 3516 White Eagle Drive\, Bloomington\, IL\, 61704\, United States
CATEGORIES:Lutheran Women's Missionary League
END:VEVENT
BEGIN:VEVENT
DTSTART;TZID=America/New_York:20171005T130000
DTEND;TZID=America/New_York:20171005T160000
DTSTAMP:20260424T162158
CREATED:20171009T171249Z
LAST-MODIFIED:20171009T171249Z
UID:3656-1507208400-1507219200@www.goodshepherdblm.org
SUMMARY:Quilting
DESCRIPTION:
URL:https://www.goodshepherdblm.org/event/quilting-25/
LOCATION:Good Shepherd Lutheran Church\, 3516 White Eagle Drive\, Bloomington\, IL\, 61704\, United States
CATEGORIES:Quilting
END:VEVENT
BEGIN:VEVENT
DTSTART;VALUE=DATE:20171001
DTEND;VALUE=DATE:20171002
DTSTAMP:20260424T162158
CREATED:20171009T170615Z
LAST-MODIFIED:20171009T170615Z
UID:3652-1506816000-1506902399@www.goodshepherdblm.org
SUMMARY:LWML Sunday
DESCRIPTION:
URL:https://www.goodshepherdblm.org/event/lwml-sunday/
LOCATION:Good Shepherd Lutheran Church\, 3516 White Eagle Drive\, Bloomington\, IL\, 61704\, United States
CATEGORIES:Lutheran Women's Missionary League
END:VEVENT
BEGIN:VEVENT
DTSTART;TZID=America/New_York:20170926T090000
DTEND;TZID=America/New_York:20170926T100000
DTSTAMP:20260424T162158
CREATED:20170911T022641Z
LAST-MODIFIED:20170911T022641Z
UID:3602-1506416400-1506420000@www.goodshepherdblm.org
SUMMARY:LWML Meeting
DESCRIPTION:
URL:https://www.goodshepherdblm.org/event/lwml-meeting-21/
LOCATION:Good Shepherd Lutheran Church\, 3516 White Eagle Drive\, Bloomington\, IL\, 61704\, United States
CATEGORIES:Lutheran Women's Missionary League
END:VEVENT
BEGIN:VEVENT
DTSTART;TZID=America/New_York:20170907T130000
DTEND;TZID=America/New_York:20170907T160000
DTSTAMP:20260424T162158
CREATED:20170911T020751Z
LAST-MODIFIED:20170911T020751Z
UID:3581-1504789200-1504800000@www.goodshepherdblm.org
SUMMARY:Quilting
DESCRIPTION:
URL:https://www.goodshepherdblm.org/event/quilting-24/
LOCATION:Good Shepherd Lutheran Church\, 3516 White Eagle Drive\, Bloomington\, IL\, 61704\, United States
CATEGORIES:Quilting
END:VEVENT
BEGIN:VEVENT
DTSTART;TZID=America/New_York:20170811T190000
DTEND;TZID=America/New_York:20170811T200000
DTSTAMP:20260424T162158
CREATED:20170802T205205Z
LAST-MODIFIED:20170802T205205Z
UID:3471-1502478000-1502481600@www.goodshepherdblm.org
SUMMARY:Prayer Time
DESCRIPTION:
URL:https://www.goodshepherdblm.org/event/prayer-time-33/
LOCATION:Good Shepherd Lutheran Church\, 3516 White Eagle Drive\, Bloomington\, IL\, 61704\, United States
CATEGORIES:Prayer Chain
END:VEVENT
BEGIN:VEVENT
DTSTART;TZID=America/New_York:20170810T130000
DTEND;TZID=America/New_York:20170810T160000
DTSTAMP:20260424T162158
CREATED:20170802T205449Z
LAST-MODIFIED:20170802T205449Z
UID:3477-1502370000-1502380800@www.goodshepherdblm.org
SUMMARY:Quilting
DESCRIPTION:
URL:https://www.goodshepherdblm.org/event/quilting-23/
LOCATION:Good Shepherd Lutheran Church\, 3516 White Eagle Drive\, Bloomington\, IL\, 61704\, United States
CATEGORIES:Quilting
END:VEVENT
BEGIN:VEVENT
DTSTART;TZID=America/New_York:20170707T190000
DTEND;TZID=America/New_York:20170707T200000
DTSTAMP:20260424T162158
CREATED:20170611T124508Z
LAST-MODIFIED:20170611T124508Z
UID:3369-1499454000-1499457600@www.goodshepherdblm.org
SUMMARY:Prayer Time
DESCRIPTION:
URL:https://www.goodshepherdblm.org/event/prayer-time-32/
LOCATION:Good Shepherd Lutheran Church\, 3516 White Eagle Drive\, Bloomington\, IL\, 61704\, United States
CATEGORIES:Prayer Chain
END:VEVENT
BEGIN:VEVENT
DTSTART;TZID=America/New_York:20170609T190000
DTEND;TZID=America/New_York:20170609T200000
DTSTAMP:20260424T162158
CREATED:20170526T152949Z
LAST-MODIFIED:20170601T151222Z
UID:3320-1497034800-1497038400@www.goodshepherdblm.org
SUMMARY:Prayer Time
DESCRIPTION:
URL:https://www.goodshepherdblm.org/event/prayer-time-31/
LOCATION:Good Shepherd Lutheran Church\, 3516 White Eagle Drive\, Bloomington\, IL\, 61704\, United States
CATEGORIES:Prayer Chain
END:VEVENT
BEGIN:VEVENT
DTSTART;TZID=America/New_York:20170505T190000
DTEND;TZID=America/New_York:20170505T200000
DTSTAMP:20260424T162158
CREATED:20170429T162109Z
LAST-MODIFIED:20170429T162109Z
UID:3246-1494010800-1494014400@www.goodshepherdblm.org
SUMMARY:Prayer Time
DESCRIPTION:
URL:https://www.goodshepherdblm.org/event/prayer-time-30/
LOCATION:Good Shepherd Lutheran Church\, 3516 White Eagle Drive\, Bloomington\, IL\, 61704\, United States
CATEGORIES:Prayer Chain
END:VEVENT
END:VCALENDAR