BEGIN:VCALENDAR
VERSION:2.0
PRODID:-//Good Shepherd Lutheran Church - ECPv6.15.13//NONSGML v1.0//EN
CALSCALE:GREGORIAN
METHOD:PUBLISH
X-WR-CALNAME:Good Shepherd Lutheran Church
X-ORIGINAL-URL:https://www.goodshepherdblm.org
X-WR-CALDESC:Events for Good Shepherd Lutheran Church
REFRESH-INTERVAL;VALUE=DURATION:PT1H
X-Robots-Tag:noindex
X-PUBLISHED-TTL:PT1H
BEGIN:VTIMEZONE
TZID:America/New_York
BEGIN:DAYLIGHT
TZOFFSETFROM:-0500
TZOFFSETTO:-0400
TZNAME:EDT
DTSTART:20140309T070000
END:DAYLIGHT
BEGIN:STANDARD
TZOFFSETFROM:-0400
TZOFFSETTO:-0500
TZNAME:EST
DTSTART:20141102T060000
END:STANDARD
BEGIN:DAYLIGHT
TZOFFSETFROM:-0500
TZOFFSETTO:-0400
TZNAME:EDT
DTSTART:20150308T070000
END:DAYLIGHT
BEGIN:STANDARD
TZOFFSETFROM:-0400
TZOFFSETTO:-0500
TZNAME:EST
DTSTART:20151101T060000
END:STANDARD
BEGIN:DAYLIGHT
TZOFFSETFROM:-0500
TZOFFSETTO:-0400
TZNAME:EDT
DTSTART:20160313T070000
END:DAYLIGHT
BEGIN:STANDARD
TZOFFSETFROM:-0400
TZOFFSETTO:-0500
TZNAME:EST
DTSTART:20161106T060000
END:STANDARD
BEGIN:DAYLIGHT
TZOFFSETFROM:-0500
TZOFFSETTO:-0400
TZNAME:EDT
DTSTART:20170312T070000
END:DAYLIGHT
BEGIN:STANDARD
TZOFFSETFROM:-0400
TZOFFSETTO:-0500
TZNAME:EST
DTSTART:20171105T060000
END:STANDARD
END:VTIMEZONE
BEGIN:VTIMEZONE
TZID:America/Chicago
BEGIN:DAYLIGHT
TZOFFSETFROM:-0600
TZOFFSETTO:-0500
TZNAME:CDT
DTSTART:20130310T080000
END:DAYLIGHT
BEGIN:STANDARD
TZOFFSETFROM:-0500
TZOFFSETTO:-0600
TZNAME:CST
DTSTART:20131103T070000
END:STANDARD
BEGIN:DAYLIGHT
TZOFFSETFROM:-0600
TZOFFSETTO:-0500
TZNAME:CDT
DTSTART:20140309T080000
END:DAYLIGHT
BEGIN:STANDARD
TZOFFSETFROM:-0500
TZOFFSETTO:-0600
TZNAME:CST
DTSTART:20141102T070000
END:STANDARD
BEGIN:DAYLIGHT
TZOFFSETFROM:-0600
TZOFFSETTO:-0500
TZNAME:CDT
DTSTART:20150308T080000
END:DAYLIGHT
BEGIN:STANDARD
TZOFFSETFROM:-0500
TZOFFSETTO:-0600
TZNAME:CST
DTSTART:20151101T070000
END:STANDARD
BEGIN:DAYLIGHT
TZOFFSETFROM:-0600
TZOFFSETTO:-0500
TZNAME:CDT
DTSTART:20160313T080000
END:DAYLIGHT
BEGIN:STANDARD
TZOFFSETFROM:-0500
TZOFFSETTO:-0600
TZNAME:CST
DTSTART:20161106T070000
END:STANDARD
END:VTIMEZONE
BEGIN:VEVENT
DTSTART;TZID=America/New_York:20160308T090000
DTEND;TZID=America/New_York:20160308T100000
DTSTAMP:20260424T164938
CREATED:20160229T053333Z
LAST-MODIFIED:20160229T053333Z
UID:2015-1457427600-1457431200@www.goodshepherdblm.org
SUMMARY:LWML Meeting
DESCRIPTION:
URL:https://www.goodshepherdblm.org/event/lwml-meeting-11/
LOCATION:Good Shepherd Lutheran Church\, 3516 White Eagle Drive\, Bloomington\, IL\, 61704\, United States
CATEGORIES:Lutheran Women's Missionary League
END:VEVENT
BEGIN:VEVENT
DTSTART;TZID=America/New_York:20160223T090000
DTEND;TZID=America/New_York:20160223T100000
DTSTAMP:20260424T164938
CREATED:20160129T071819Z
LAST-MODIFIED:20160129T071819Z
UID:1804-1456218000-1456221600@www.goodshepherdblm.org
SUMMARY:LWML Meeting
DESCRIPTION:
URL:https://www.goodshepherdblm.org/event/lwml-meeting-10/
LOCATION:Good Shepherd Lutheran Church\, 3516 White Eagle Drive\, Bloomington\, IL\, 61704\, United States
CATEGORIES:Lutheran Women's Missionary League
END:VEVENT
BEGIN:VEVENT
DTSTART;TZID=America/New_York:20160126T183000
DTEND;TZID=America/New_York:20160126T193000
DTSTAMP:20260424T164938
CREATED:20160112T195017Z
LAST-MODIFIED:20160112T195017Z
UID:1727-1453833000-1453836600@www.goodshepherdblm.org
SUMMARY:LWML Meeting
DESCRIPTION:
URL:https://www.goodshepherdblm.org/event/lwml-meeting-9/
LOCATION:Good Shepherd Lutheran Church\, 3516 White Eagle Drive\, Bloomington\, IL\, 61704\, United States
CATEGORIES:Lutheran Women's Missionary League
END:VEVENT
BEGIN:VEVENT
DTSTART;TZID=America/New_York:20151027T183000
DTEND;TZID=America/New_York:20151027T193000
DTSTAMP:20260424T164938
CREATED:20151006T114027Z
LAST-MODIFIED:20151006T114027Z
UID:1463-1445970600-1445974200@www.goodshepherdblm.org
SUMMARY:LWML Meeting
DESCRIPTION:
URL:https://www.goodshepherdblm.org/event/lwml-meeting-8/
LOCATION:Good Shepherd Lutheran Church\, 3516 White Eagle Drive\, Bloomington\, IL\, 61704\, United States
CATEGORIES:Lutheran Women's Missionary League
END:VEVENT
BEGIN:VEVENT
DTSTART;TZID=America/Chicago:20150922T183000
DTEND;TZID=America/Chicago:20150922T193000
DTSTAMP:20260424T164938
CREATED:20150901T034227Z
LAST-MODIFIED:20150901T034227Z
UID:1370-1442946600-1442950200@www.goodshepherdblm.org
SUMMARY:LWML Meeting
DESCRIPTION:
URL:https://www.goodshepherdblm.org/event/lwml-meeting-7/
LOCATION:Good Shepherd Lutheran Church\, 3516 White Eagle Drive\, Bloomington\, IL\, 61704\, United States
CATEGORIES:Lutheran Women's Missionary League
END:VEVENT
BEGIN:VEVENT
DTSTART;TZID=America/Chicago:20150825T183000
DTEND;TZID=America/Chicago:20150825T193000
DTSTAMP:20260424T164938
CREATED:20150802T161845Z
LAST-MODIFIED:20150802T161845Z
UID:1315-1440527400-1440531000@www.goodshepherdblm.org
SUMMARY:LWML Meeting
DESCRIPTION:
URL:https://www.goodshepherdblm.org/event/lwml-meeting-6/
LOCATION:Good Shepherd Lutheran Church\, 3516 White Eagle Drive\, Bloomington\, IL\, 61704\, United States
CATEGORIES:Lutheran Women's Missionary League
END:VEVENT
BEGIN:VEVENT
DTSTART;TZID=America/Chicago:20150428T183000
DTEND;TZID=America/Chicago:20150428T193000
DTSTAMP:20260424T164938
CREATED:20150328T190836Z
LAST-MODIFIED:20150328T190836Z
UID:973-1430245800-1430249400@www.goodshepherdblm.org
SUMMARY:LWML Meeting
DESCRIPTION:
URL:https://www.goodshepherdblm.org/event/lwml-meeting-5/
LOCATION:Good Shepherd Lutheran Church\, 3516 White Eagle Drive\, Bloomington\, IL\, 61704\, United States
CATEGORIES:Lutheran Women's Missionary League
END:VEVENT
BEGIN:VEVENT
DTSTART;TZID=America/Chicago:20150324T183000
DTEND;TZID=America/Chicago:20150324T193000
DTSTAMP:20260424T164938
CREATED:20150211T205339Z
LAST-MODIFIED:20150211T205339Z
UID:850-1427221800-1427225400@www.goodshepherdblm.org
SUMMARY:LWML Meeting
DESCRIPTION:
URL:https://www.goodshepherdblm.org/event/lwml-meeting-4/
LOCATION:Good Shepherd Lutheran Church\, 3516 White Eagle Drive\, Bloomington\, IL\, 61704\, United States
CATEGORIES:Lutheran Women's Missionary League
END:VEVENT
BEGIN:VEVENT
DTSTART;TZID=America/Chicago:20150224T183000
DTEND;TZID=America/Chicago:20150224T193000
DTSTAMP:20260424T164938
CREATED:20150127T001624Z
LAST-MODIFIED:20150127T001624Z
UID:739-1424802600-1424806200@www.goodshepherdblm.org
SUMMARY:LWML
DESCRIPTION:
URL:https://www.goodshepherdblm.org/event/lwml/
LOCATION:Good Shepherd Lutheran Church\, 3516 White Eagle Drive\, Bloomington\, IL\, 61704\, United States
CATEGORIES:Lutheran Women's Missionary League
END:VEVENT
BEGIN:VEVENT
DTSTART;TZID=America/Chicago:20150127T063000
DTEND;TZID=America/Chicago:20150127T193000
DTSTAMP:20260424T164938
CREATED:20150108T061301Z
LAST-MODIFIED:20150108T061301Z
UID:683-1422340200-1422387000@www.goodshepherdblm.org
SUMMARY:LWML Meeting
DESCRIPTION:
URL:https://www.goodshepherdblm.org/event/lwml-meeting-3/
LOCATION:Good Shepherd Lutheran Church\, 3516 White Eagle Drive\, Bloomington\, IL\, 61704\, United States
CATEGORIES:Lutheran Women's Missionary League
END:VEVENT
BEGIN:VEVENT
DTSTART;TZID=America/Chicago:20141124T130000
DTEND;TZID=America/Chicago:20141124T140000
DTSTAMP:20260424T164938
CREATED:20141107T050601Z
LAST-MODIFIED:20141107T050601Z
UID:512-1416834000-1416837600@www.goodshepherdblm.org
SUMMARY:LWML Packing "Goody Bags" for College Students
DESCRIPTION:
URL:https://www.goodshepherdblm.org/event/lwml-packing-goody-bags-for-college-students/
LOCATION:Good Shepherd Lutheran Church\, 3516 White Eagle Drive\, Bloomington\, IL\, 61704\, United States
CATEGORIES:Lutheran Women's Missionary League
END:VEVENT
BEGIN:VEVENT
DTSTART;TZID=America/Chicago:20141028T183000
DTEND;TZID=America/Chicago:20141028T193000
DTSTAMP:20260424T164938
CREATED:20141012T203750Z
LAST-MODIFIED:20141012T203750Z
UID:400-1414521000-1414524600@www.goodshepherdblm.org
SUMMARY:LWML Meeting
DESCRIPTION:
URL:https://www.goodshepherdblm.org/event/lwml-meeting-2/
LOCATION:Good Shepherd Lutheran Church\, 3516 White Eagle Drive\, Bloomington\, IL\, 61704\, United States
CATEGORIES:Lutheran Women's Missionary League,Organizations
END:VEVENT
BEGIN:VEVENT
DTSTART;TZID=America/Chicago:20140923T183000
DTEND;TZID=America/Chicago:20140923T183000
DTSTAMP:20260424T164938
CREATED:20140908T011616Z
LAST-MODIFIED:20140908T011616Z
UID:238-1411497000-1411497000@www.goodshepherdblm.org
SUMMARY:LWML Meeting
DESCRIPTION:
URL:https://www.goodshepherdblm.org/event/lwml-meeting/
LOCATION:Good Shepherd Lutheran Church\, 3516 White Eagle Drive\, Bloomington\, IL\, 61704\, United States
CATEGORIES:Lutheran Women's Missionary League
END:VEVENT
END:VCALENDAR