BEGIN:VCALENDAR
VERSION:2.0
PRODID:-//Good Shepherd Lutheran Church - ECPv6.15.13//NONSGML v1.0//EN
CALSCALE:GREGORIAN
METHOD:PUBLISH
X-ORIGINAL-URL:https://www.goodshepherdblm.org
X-WR-CALDESC:Events for Good Shepherd Lutheran Church
REFRESH-INTERVAL;VALUE=DURATION:PT1H
X-Robots-Tag:noindex
X-PUBLISHED-TTL:PT1H
BEGIN:VTIMEZONE
TZID:America/Chicago
BEGIN:DAYLIGHT
TZOFFSETFROM:-0600
TZOFFSETTO:-0500
TZNAME:CDT
DTSTART:20130310T080000
END:DAYLIGHT
BEGIN:STANDARD
TZOFFSETFROM:-0500
TZOFFSETTO:-0600
TZNAME:CST
DTSTART:20131103T070000
END:STANDARD
BEGIN:DAYLIGHT
TZOFFSETFROM:-0600
TZOFFSETTO:-0500
TZNAME:CDT
DTSTART:20140309T080000
END:DAYLIGHT
BEGIN:STANDARD
TZOFFSETFROM:-0500
TZOFFSETTO:-0600
TZNAME:CST
DTSTART:20141102T070000
END:STANDARD
BEGIN:DAYLIGHT
TZOFFSETFROM:-0600
TZOFFSETTO:-0500
TZNAME:CDT
DTSTART:20150308T080000
END:DAYLIGHT
BEGIN:STANDARD
TZOFFSETFROM:-0500
TZOFFSETTO:-0600
TZNAME:CST
DTSTART:20151101T070000
END:STANDARD
END:VTIMEZONE
BEGIN:VEVENT
DTSTART;TZID=America/Chicago:20141217T190000
DTEND;TZID=America/Chicago:20141217T200000
DTSTAMP:20260424T074724
CREATED:20141207T181653Z
LAST-MODIFIED:20141207T181653Z
UID:590-1418842800-1418846400@www.goodshepherdblm.org
SUMMARY:Mid-Week Advent Worship Service
DESCRIPTION:Lessons in Carols
URL:https://www.goodshepherdblm.org/event/mid-week-advent-worship-service-3/
LOCATION:Good Shepherd Lutheran Church\, 3516 White Eagle Drive\, Bloomington\, IL\, 61704\, United States
CATEGORIES:Choir,Organizations,Worship
END:VEVENT
BEGIN:VEVENT
DTSTART;TZID=America/Chicago:20141217T180000
DTEND;TZID=America/Chicago:20141217T184500
DTSTAMP:20260424T074724
CREATED:20141207T181559Z
LAST-MODIFIED:20141207T181559Z
UID:589-1418839200-1418841900@www.goodshepherdblm.org
SUMMARY:Choir Practice
DESCRIPTION:
URL:https://www.goodshepherdblm.org/event/choir-practice-13/
LOCATION:Good Shepherd Lutheran Church\, 3516 White Eagle Drive\, Bloomington\, IL\, 61704\, United States
CATEGORIES:Choir,Organizations
END:VEVENT
BEGIN:VEVENT
DTSTART;TZID=America/Chicago:20141210T180000
DTEND;TZID=America/Chicago:20141210T190000
DTSTAMP:20260424T074724
CREATED:20141113T234937Z
LAST-MODIFIED:20141126T231908Z
UID:528-1418234400-1418238000@www.goodshepherdblm.org
SUMMARY:Choir Practice
DESCRIPTION:
URL:https://www.goodshepherdblm.org/event/choir-practice-6/
LOCATION:Good Shepherd Lutheran Church\, 3516 White Eagle Drive\, Bloomington\, IL\, 61704\, United States
CATEGORIES:Choir
END:VEVENT
BEGIN:VEVENT
DTSTART;TZID=America/Chicago:20141203T180000
DTEND;TZID=America/Chicago:20141203T190000
DTSTAMP:20260424T074724
CREATED:20141126T231412Z
LAST-MODIFIED:20141126T231412Z
UID:575-1417629600-1417633200@www.goodshepherdblm.org
SUMMARY:Choir Practice
DESCRIPTION:
URL:https://www.goodshepherdblm.org/event/choir-practice-12/
LOCATION:Good Shepherd Lutheran Church\, 3516 White Eagle Drive\, Bloomington\, IL\, 61704\, United States
CATEGORIES:Choir,Organizations
END:VEVENT
BEGIN:VEVENT
DTSTART;TZID=America/Chicago:20141119T180000
DTEND;TZID=America/Chicago:20141119T190000
DTSTAMP:20260424T074724
CREATED:20141030T225405Z
LAST-MODIFIED:20141030T225405Z
UID:488-1416420000-1416423600@www.goodshepherdblm.org
SUMMARY:Choir Practice
DESCRIPTION:
URL:https://www.goodshepherdblm.org/event/choir-practice-11/
LOCATION:Good Shepherd Lutheran Church\, 3516 White Eagle Drive\, Bloomington\, IL\, 61704\, United States
CATEGORIES:Choir,Organizations
END:VEVENT
BEGIN:VEVENT
DTSTART;TZID=America/Chicago:20141112T180000
DTEND;TZID=America/Chicago:20141112T190000
DTSTAMP:20260424T074724
CREATED:20141026T151643Z
LAST-MODIFIED:20141026T151643Z
UID:473-1415815200-1415818800@www.goodshepherdblm.org
SUMMARY:Choir Practice
DESCRIPTION:
URL:https://www.goodshepherdblm.org/event/choir-practice-10/
LOCATION:Good Shepherd Lutheran Church\, 3516 White Eagle Drive\, Bloomington\, IL\, 61704\, United States
CATEGORIES:Choir,Organizations
END:VEVENT
BEGIN:VEVENT
DTSTART;TZID=America/Chicago:20141105T180000
DTEND;TZID=America/Chicago:20141105T190000
DTSTAMP:20260424T074724
CREATED:20141019T154044Z
LAST-MODIFIED:20141019T154044Z
UID:442-1415210400-1415214000@www.goodshepherdblm.org
SUMMARY:Choir Practice
DESCRIPTION:
URL:https://www.goodshepherdblm.org/event/choir-practice-9/
LOCATION:Good Shepherd Lutheran Church\, 3516 White Eagle Drive\, Bloomington\, IL\, 61704\, United States
CATEGORIES:Choir,Organizations
END:VEVENT
BEGIN:VEVENT
DTSTART;TZID=America/Chicago:20141029T180000
DTEND;TZID=America/Chicago:20141029T190000
DTSTAMP:20260424T074724
CREATED:20141012T203823Z
LAST-MODIFIED:20141012T203823Z
UID:401-1414605600-1414609200@www.goodshepherdblm.org
SUMMARY:Choir Practice
DESCRIPTION:
URL:https://www.goodshepherdblm.org/event/choir-practice-8/
LOCATION:Good Shepherd Lutheran Church\, 3516 White Eagle Drive\, Bloomington\, IL\, 61704\, United States
CATEGORIES:Choir,Organizations
END:VEVENT
BEGIN:VEVENT
DTSTART;TZID=America/Chicago:20141022T180000
DTEND;TZID=America/Chicago:20141022T190000
DTSTAMP:20260424T074724
CREATED:20141012T203313Z
LAST-MODIFIED:20141012T203313Z
UID:393-1414000800-1414004400@www.goodshepherdblm.org
SUMMARY:Choir Practice
DESCRIPTION:
URL:https://www.goodshepherdblm.org/event/choir-practice-7/
LOCATION:Good Shepherd Lutheran Church\, 3516 White Eagle Drive\, Bloomington\, IL\, 61704\, United States
CATEGORIES:Choir,Organizations
END:VEVENT
BEGIN:VEVENT
DTSTART;TZID=America/Chicago:20141015T180000
DTEND;TZID=America/Chicago:20141015T190000
DTSTAMP:20260424T074724
CREATED:20140929T023623Z
LAST-MODIFIED:20140929T023623Z
UID:296-1413396000-1413399600@www.goodshepherdblm.org
SUMMARY:Choir Practice
DESCRIPTION:
URL:https://www.goodshepherdblm.org/event/choir-practice-5/
LOCATION:Good Shepherd Lutheran Church\, 3516 White Eagle Drive\, Bloomington\, IL\, 61704\, United States
CATEGORIES:Choir
END:VEVENT
BEGIN:VEVENT
DTSTART;TZID=America/Chicago:20141008T180000
DTEND;TZID=America/Chicago:20141008T190000
DTSTAMP:20260424T074724
CREATED:20140929T023119Z
LAST-MODIFIED:20140929T023119Z
UID:288-1412791200-1412794800@www.goodshepherdblm.org
SUMMARY:Choir Practice
DESCRIPTION:
URL:https://www.goodshepherdblm.org/event/choir-practice-4/
LOCATION:Good Shepherd Lutheran Church\, 3516 White Eagle Drive\, Bloomington\, IL\, 61704\, United States
CATEGORIES:Choir
END:VEVENT
BEGIN:VEVENT
DTSTART;TZID=America/Chicago:20141001T180000
DTEND;TZID=America/Chicago:20141001T190000
DTSTAMP:20260424T074724
CREATED:20140929T022616Z
LAST-MODIFIED:20140929T022616Z
UID:281-1412186400-1412190000@www.goodshepherdblm.org
SUMMARY:Choir Practice
DESCRIPTION:
URL:https://www.goodshepherdblm.org/event/choir-practice-3/
LOCATION:Good Shepherd Lutheran Church\, 3516 White Eagle Drive\, Bloomington\, IL\, 61704\, United States
CATEGORIES:Choir,Organizations
END:VEVENT
BEGIN:VEVENT
DTSTART;TZID=America/Chicago:20140924T180000
DTEND;TZID=America/Chicago:20140924T190000
DTSTAMP:20260424T074724
CREATED:20140908T011654Z
LAST-MODIFIED:20140908T011654Z
UID:239-1411581600-1411585200@www.goodshepherdblm.org
SUMMARY:Choir
DESCRIPTION:
URL:https://www.goodshepherdblm.org/event/choir/
LOCATION:Good Shepherd Lutheran Church\, 3516 White Eagle Drive\, Bloomington\, IL\, 61704\, United States
CATEGORIES:Choir
END:VEVENT
BEGIN:VEVENT
DTSTART;TZID=America/Chicago:20140917T180000
DTEND;TZID=America/Chicago:20140917T190000
DTSTAMP:20260424T074724
CREATED:20140908T011026Z
LAST-MODIFIED:20140908T011026Z
UID:231-1410976800-1410980400@www.goodshepherdblm.org
SUMMARY:Choir Practice
DESCRIPTION:
URL:https://www.goodshepherdblm.org/event/choir-practice-2/
LOCATION:Good Shepherd Lutheran Church\, 3516 White Eagle Drive\, Bloomington\, IL\, 61704\, United States
CATEGORIES:Choir
END:VEVENT
END:VCALENDAR