BEGIN:VCALENDAR
VERSION:2.0
PRODID:-//Good Shepherd Lutheran Church - ECPv6.15.13//NONSGML v1.0//EN
CALSCALE:GREGORIAN
METHOD:PUBLISH
X-ORIGINAL-URL:https://www.goodshepherdblm.org
X-WR-CALDESC:Events for Good Shepherd Lutheran Church
REFRESH-INTERVAL;VALUE=DURATION:PT1H
X-Robots-Tag:noindex
X-PUBLISHED-TTL:PT1H
BEGIN:VTIMEZONE
TZID:America/Chicago
BEGIN:DAYLIGHT
TZOFFSETFROM:-0600
TZOFFSETTO:-0500
TZNAME:CDT
DTSTART:20140309T080000
END:DAYLIGHT
BEGIN:STANDARD
TZOFFSETFROM:-0500
TZOFFSETTO:-0600
TZNAME:CST
DTSTART:20141102T070000
END:STANDARD
BEGIN:DAYLIGHT
TZOFFSETFROM:-0600
TZOFFSETTO:-0500
TZNAME:CDT
DTSTART:20150308T080000
END:DAYLIGHT
BEGIN:STANDARD
TZOFFSETFROM:-0500
TZOFFSETTO:-0600
TZNAME:CST
DTSTART:20151101T070000
END:STANDARD
BEGIN:DAYLIGHT
TZOFFSETFROM:-0600
TZOFFSETTO:-0500
TZNAME:CDT
DTSTART:20160313T080000
END:DAYLIGHT
BEGIN:STANDARD
TZOFFSETFROM:-0500
TZOFFSETTO:-0600
TZNAME:CST
DTSTART:20161106T070000
END:STANDARD
END:VTIMEZONE
BEGIN:VEVENT
DTSTART;VALUE=DATE:20150517
DTEND;VALUE=DATE:20150518
DTSTAMP:20260424T183513
CREATED:20150427T002039Z
LAST-MODIFIED:20150427T002838Z
UID:1043-1431820800-1431907199@www.goodshepherdblm.org
SUMMARY:June Newsletter Deadline
DESCRIPTION:
URL:https://www.goodshepherdblm.org/event/june-newsletter-deadline/
LOCATION:Good Shepherd Lutheran Church\, 3516 White Eagle Drive\, Bloomington\, IL\, 61704\, United States
CATEGORIES:Newsletter Notes
END:VEVENT
BEGIN:VEVENT
DTSTART;VALUE=DATE:20150315
DTEND;VALUE=DATE:20150316
DTSTAMP:20260424T183513
CREATED:20150211T204908Z
LAST-MODIFIED:20150211T204908Z
UID:846-1426377600-1426463999@www.goodshepherdblm.org
SUMMARY:April Newsletter Deadline
DESCRIPTION:
URL:https://www.goodshepherdblm.org/event/april-newsletter-deadline/
LOCATION:Good Shepherd Lutheran Church\, 3516 White Eagle Drive\, Bloomington\, IL\, 61704\, United States
CATEGORIES:Newsletter Notes
END:VEVENT
BEGIN:VEVENT
DTSTART;VALUE=DATE:20150215
DTEND;VALUE=DATE:20150216
DTSTAMP:20260424T183513
CREATED:20150127T000808Z
LAST-MODIFIED:20150127T000808Z
UID:733-1423958400-1424044799@www.goodshepherdblm.org
SUMMARY:March Newsletter Deadline
DESCRIPTION:
URL:https://www.goodshepherdblm.org/event/march-newsletter-deadline/
LOCATION:Good Shepherd Lutheran Church\, 3516 White Eagle Drive\, Bloomington\, IL\, 61704\, United States
CATEGORIES:Newsletter Notes
END:VEVENT
BEGIN:VEVENT
DTSTART;VALUE=DATE:20150118
DTEND;VALUE=DATE:20150119
DTSTAMP:20260424T183513
CREATED:20150111T051414Z
LAST-MODIFIED:20150111T052045Z
UID:692-1421539200-1421625599@www.goodshepherdblm.org
SUMMARY:FEBRUARY NEWSLETTER DEADLINE
DESCRIPTION:
URL:https://www.goodshepherdblm.org/event/february-newsletter-deadline/
LOCATION:Good Shepherd Lutheran Church\, 3516 White Eagle Drive\, Bloomington\, IL\, 61704\, United States
CATEGORIES:Newsletter Notes
END:VEVENT
END:VCALENDAR