BEGIN:VCALENDAR
VERSION:2.0
PRODID:-//Good Shepherd Lutheran Church - ECPv6.15.13//NONSGML v1.0//EN
CALSCALE:GREGORIAN
METHOD:PUBLISH
X-ORIGINAL-URL:https://www.goodshepherdblm.org
X-WR-CALDESC:Events for Good Shepherd Lutheran Church
REFRESH-INTERVAL;VALUE=DURATION:PT1H
X-Robots-Tag:noindex
X-PUBLISHED-TTL:PT1H
BEGIN:VTIMEZONE
TZID:America/New_York
BEGIN:DAYLIGHT
TZOFFSETFROM:-0500
TZOFFSETTO:-0400
TZNAME:EDT
DTSTART:20150308T070000
END:DAYLIGHT
BEGIN:STANDARD
TZOFFSETFROM:-0400
TZOFFSETTO:-0500
TZNAME:EST
DTSTART:20151101T060000
END:STANDARD
BEGIN:DAYLIGHT
TZOFFSETFROM:-0500
TZOFFSETTO:-0400
TZNAME:EDT
DTSTART:20160313T070000
END:DAYLIGHT
BEGIN:STANDARD
TZOFFSETFROM:-0400
TZOFFSETTO:-0500
TZNAME:EST
DTSTART:20161106T060000
END:STANDARD
BEGIN:DAYLIGHT
TZOFFSETFROM:-0500
TZOFFSETTO:-0400
TZNAME:EDT
DTSTART:20170312T070000
END:DAYLIGHT
BEGIN:STANDARD
TZOFFSETFROM:-0400
TZOFFSETTO:-0500
TZNAME:EST
DTSTART:20171105T060000
END:STANDARD
BEGIN:DAYLIGHT
TZOFFSETFROM:-0500
TZOFFSETTO:-0400
TZNAME:EDT
DTSTART:20180311T070000
END:DAYLIGHT
BEGIN:STANDARD
TZOFFSETFROM:-0400
TZOFFSETTO:-0500
TZNAME:EST
DTSTART:20181104T060000
END:STANDARD
BEGIN:DAYLIGHT
TZOFFSETFROM:-0500
TZOFFSETTO:-0400
TZNAME:EDT
DTSTART:20190310T070000
END:DAYLIGHT
BEGIN:STANDARD
TZOFFSETFROM:-0400
TZOFFSETTO:-0500
TZNAME:EST
DTSTART:20191103T060000
END:STANDARD
BEGIN:DAYLIGHT
TZOFFSETFROM:-0500
TZOFFSETTO:-0400
TZNAME:EDT
DTSTART:20200308T070000
END:DAYLIGHT
BEGIN:STANDARD
TZOFFSETFROM:-0400
TZOFFSETTO:-0500
TZNAME:EST
DTSTART:20201101T060000
END:STANDARD
END:VTIMEZONE
BEGIN:VEVENT
DTSTART;VALUE=DATE:20190217
DTEND;VALUE=DATE:20190218
DTSTAMP:20260424T070010
CREATED:20190131T025851Z
LAST-MODIFIED:20190131T025851Z
UID:5432-1550361600-1550447999@www.goodshepherdblm.org
SUMMARY:March Newsletter Items Due
DESCRIPTION:
URL:https://www.goodshepherdblm.org/event/march-newsletter-items-due/
LOCATION:Good Shepherd Lutheran Church\, 3516 White Eagle Drive\, Bloomington\, IL\, 61704\, United States
CATEGORIES:Newsletter Notes
END:VEVENT
BEGIN:VEVENT
DTSTART;TZID=America/New_York:20190120T000000
DTEND;TZID=America/New_York:20190120T000000
DTSTAMP:20260424T070010
CREATED:20190101T225943Z
LAST-MODIFIED:20190101T225943Z
UID:5201-1547942400-1547942400@www.goodshepherdblm.org
SUMMARY:February Newsletter Deadline
DESCRIPTION:
URL:https://www.goodshepherdblm.org/event/february-newsletter-deadline-3/
LOCATION:Good Shepherd Lutheran Church\, 3516 White Eagle Drive\, Bloomington\, IL\, 61704\, United States
CATEGORIES:Newsletter Notes
END:VEVENT
BEGIN:VEVENT
DTSTART;VALUE=DATE:20181118
DTEND;VALUE=DATE:20181119
DTSTAMP:20260424T070010
CREATED:20181031T152901Z
LAST-MODIFIED:20181031T152901Z
UID:5021-1542499200-1542585599@www.goodshepherdblm.org
SUMMARY:December Newsletter Deadline
DESCRIPTION:
URL:https://www.goodshepherdblm.org/event/december-newsletter-deadline-3/
LOCATION:Good Shepherd Lutheran Church\, 3516 White Eagle Drive\, Bloomington\, IL\, 61704\, United States
CATEGORIES:Newsletter Notes
END:VEVENT
BEGIN:VEVENT
DTSTART;VALUE=DATE:20181021
DTEND;VALUE=DATE:20181022
DTSTAMP:20260424T070010
CREATED:20181003T044220Z
LAST-MODIFIED:20181003T044220Z
UID:4967-1540080000-1540166399@www.goodshepherdblm.org
SUMMARY:November Newsletter Items Due
DESCRIPTION:
URL:https://www.goodshepherdblm.org/event/november-newsletter-items-due-2/
LOCATION:Good Shepherd Lutheran Church\, 3516 White Eagle Drive\, Bloomington\, IL\, 61704\, United States
CATEGORIES:Newsletter Notes
END:VEVENT
BEGIN:VEVENT
DTSTART;VALUE=DATE:20180923
DTEND;VALUE=DATE:20180924
DTSTAMP:20260424T070010
CREATED:20180909T071204Z
LAST-MODIFIED:20180909T071204Z
UID:4883-1537660800-1537747199@www.goodshepherdblm.org
SUMMARY:October Newsletter Information Due
DESCRIPTION:
URL:https://www.goodshepherdblm.org/event/october-newsletter-information-due/
LOCATION:Good Shepherd Lutheran Church\, 3516 White Eagle Drive\, Bloomington\, IL\, 61704\, United States
CATEGORIES:Newsletter Notes
END:VEVENT
BEGIN:VEVENT
DTSTART;VALUE=DATE:20180819
DTEND;VALUE=DATE:20180820
DTSTAMP:20260424T070010
CREATED:20180814T162028Z
LAST-MODIFIED:20180814T162235Z
UID:4809-1534636800-1534723199@www.goodshepherdblm.org
SUMMARY:September Newsletter Deadline
DESCRIPTION:
URL:https://www.goodshepherdblm.org/event/september-newsletter-deadline/
LOCATION:Good Shepherd Lutheran Church\, 3516 White Eagle Drive\, Bloomington\, IL\, 61704\, United States
CATEGORIES:Newsletter Notes
END:VEVENT
BEGIN:VEVENT
DTSTART;VALUE=DATE:20180722
DTEND;VALUE=DATE:20180723
DTSTAMP:20260424T070010
CREATED:20180703T165545Z
LAST-MODIFIED:20180703T165545Z
UID:4735-1532217600-1532303999@www.goodshepherdblm.org
SUMMARY:August Newsletter Deadline
DESCRIPTION:
URL:https://www.goodshepherdblm.org/event/august-newsletter-deadline-2/
LOCATION:Good Shepherd Lutheran Church\, 3516 White Eagle Drive\, Bloomington\, IL\, 61704\, United States
CATEGORIES:Newsletter Notes
END:VEVENT
BEGIN:VEVENT
DTSTART;TZID=America/New_York:20180617T200000
DTEND;TZID=America/New_York:20180617T200000
DTSTAMP:20260424T070010
CREATED:20180530T221004Z
LAST-MODIFIED:20180530T221004Z
UID:4626-1529265600-1529265600@www.goodshepherdblm.org
SUMMARY:July Newsletter Deadline
DESCRIPTION:
URL:https://www.goodshepherdblm.org/event/july-newsletter-deadline-2/
LOCATION:Good Shepherd Lutheran Church\, 3516 White Eagle Drive\, Bloomington\, IL\, 61704\, United States
CATEGORIES:Newsletter Notes
END:VEVENT
BEGIN:VEVENT
DTSTART;TZID=America/New_York:20180520T210000
DTEND;TZID=America/New_York:20180520T210000
DTSTAMP:20260424T070010
CREATED:20180430T145944Z
LAST-MODIFIED:20180430T145944Z
UID:4538-1526850000-1526850000@www.goodshepherdblm.org
SUMMARY:June Newsletter Items Deadline
DESCRIPTION:
URL:https://www.goodshepherdblm.org/event/june-newsletter-items-deadline/
LOCATION:Good Shepherd Lutheran Church\, 3516 White Eagle Drive\, Bloomington\, IL\, 61704\, United States
CATEGORIES:Newsletter Notes
END:VEVENT
BEGIN:VEVENT
DTSTART;VALUE=DATE:20180422
DTEND;VALUE=DATE:20180423
DTSTAMP:20260424T070010
CREATED:20180326T181110Z
LAST-MODIFIED:20180326T181110Z
UID:4413-1524355200-1524441599@www.goodshepherdblm.org
SUMMARY:May Newsletter Deadline
DESCRIPTION:
URL:https://www.goodshepherdblm.org/event/may-newsletter-deadline/
LOCATION:Good Shepherd Lutheran Church\, 3516 White Eagle Drive\, Bloomington\, IL\, 61704\, United States
CATEGORIES:Newsletter Notes
END:VEVENT
BEGIN:VEVENT
DTSTART;VALUE=DATE:20180318
DTEND;VALUE=DATE:20180319
DTSTAMP:20260424T070010
CREATED:20180303T033333Z
LAST-MODIFIED:20180303T033333Z
UID:4357-1521331200-1521417599@www.goodshepherdblm.org
SUMMARY:April Newsletter Information Deadline
DESCRIPTION:
URL:https://www.goodshepherdblm.org/event/april-newsletter-information-deadline/
LOCATION:Good Shepherd Lutheran Church\, 3516 White Eagle Drive\, Bloomington\, IL\, 61704\, United States
CATEGORIES:Newsletter Notes
END:VEVENT
BEGIN:VEVENT
DTSTART;VALUE=DATE:20180218
DTEND;VALUE=DATE:20180219
DTSTAMP:20260424T070010
CREATED:20180215T180128Z
LAST-MODIFIED:20180215T180128Z
UID:4244-1518912000-1518998399@www.goodshepherdblm.org
SUMMARY:March Newsletter Deadline
DESCRIPTION:
URL:https://www.goodshepherdblm.org/event/march-newsletter-deadline-3/
LOCATION:Good Shepherd Lutheran Church\, 3516 White Eagle Drive\, Bloomington\, IL\, 61704\, United States
CATEGORIES:Newsletter Notes
END:VEVENT
BEGIN:VEVENT
DTSTART;TZID=America/New_York:20180121T180000
DTEND;TZID=America/New_York:20180121T180000
DTSTAMP:20260424T070010
CREATED:20171228T063539Z
LAST-MODIFIED:20171228T063539Z
UID:4126-1516557600-1516557600@www.goodshepherdblm.org
SUMMARY:February Newsletter Deadline
DESCRIPTION:
URL:https://www.goodshepherdblm.org/event/february-newsletter-deadline-2/
LOCATION:Good Shepherd Lutheran Church\, 3516 White Eagle Drive\, Bloomington\, IL\, 61704\, United States
CATEGORIES:Newsletter Notes
END:VEVENT
BEGIN:VEVENT
DTSTART;VALUE=DATE:20171217
DTEND;VALUE=DATE:20171218
DTSTAMP:20260424T070010
CREATED:20171117T073325Z
LAST-MODIFIED:20171117T073325Z
UID:3814-1513468800-1513555199@www.goodshepherdblm.org
SUMMARY:January Newsletter Deadline
DESCRIPTION:
URL:https://www.goodshepherdblm.org/event/january-newsletter-deadline/
LOCATION:Good Shepherd Lutheran Church\, 3516 White Eagle Drive\, Bloomington\, IL\, 61704\, United States
CATEGORIES:Newsletter Notes
END:VEVENT
BEGIN:VEVENT
DTSTART;VALUE=DATE:20171119
DTEND;VALUE=DATE:20171120
DTSTAMP:20260424T070010
CREATED:20171029T023745Z
LAST-MODIFIED:20171029T023745Z
UID:3726-1511049600-1511135999@www.goodshepherdblm.org
SUMMARY:December Newsletter Deadline
DESCRIPTION:
URL:https://www.goodshepherdblm.org/event/december-newsletter-deadline-2/
LOCATION:Good Shepherd Lutheran Church\, 3516 White Eagle Drive\, Bloomington\, IL\, 61704\, United States
CATEGORIES:Newsletter Notes
END:VEVENT
BEGIN:VEVENT
DTSTART;VALUE=DATE:20171022
DTEND;VALUE=DATE:20171023
DTSTAMP:20260424T070010
CREATED:20171009T173135Z
LAST-MODIFIED:20171009T173135Z
UID:3681-1508630400-1508716799@www.goodshepherdblm.org
SUMMARY:November Newsletter Items Due
DESCRIPTION:
URL:https://www.goodshepherdblm.org/event/november-newsletter-items-due/
LOCATION:Good Shepherd Lutheran Church\, 3516 White Eagle Drive\, Bloomington\, IL\, 61704\, United States
CATEGORIES:Newsletter Notes
END:VEVENT
BEGIN:VEVENT
DTSTART;VALUE=DATE:20170917
DTEND;VALUE=DATE:20170918
DTSTAMP:20260424T070010
CREATED:20170911T024655Z
LAST-MODIFIED:20170911T024655Z
UID:3610-1505606400-1505692799@www.goodshepherdblm.org
SUMMARY:October Newsletter Deadline
DESCRIPTION:
URL:https://www.goodshepherdblm.org/event/october-newsletter-deadline-3/
LOCATION:IL
CATEGORIES:Newsletter Notes
END:VEVENT
BEGIN:VEVENT
DTSTART;VALUE=DATE:20170820
DTEND;VALUE=DATE:20170821
DTSTAMP:20260424T070010
CREATED:20170803T144432Z
LAST-MODIFIED:20170803T144432Z
UID:3492-1503187200-1503273599@www.goodshepherdblm.org
SUMMARY:Newsletter Deadline
DESCRIPTION:
URL:https://www.goodshepherdblm.org/event/newsletter-deadline-12/
LOCATION:Good Shepherd Lutheran Church\, 3516 White Eagle Drive\, Bloomington\, IL\, 61704\, United States
CATEGORIES:Newsletter Notes
END:VEVENT
BEGIN:VEVENT
DTSTART;VALUE=DATE:20170723
DTEND;VALUE=DATE:20170724
DTSTAMP:20260424T070010
CREATED:20170611T125045Z
LAST-MODIFIED:20170611T125045Z
UID:3377-1500768000-1500854399@www.goodshepherdblm.org
SUMMARY:August Newsletter Deadline
DESCRIPTION:
URL:https://www.goodshepherdblm.org/event/august-newsletter-deadline/
LOCATION:Good Shepherd Lutheran Church\, 3516 White Eagle Drive\, Bloomington\, IL\, 61704\, United States
CATEGORIES:Newsletter Notes
END:VEVENT
BEGIN:VEVENT
DTSTART;VALUE=DATE:20170319
DTEND;VALUE=DATE:20170320
DTSTAMP:20260424T070010
CREATED:20170303T210124Z
LAST-MODIFIED:20170303T210124Z
UID:3091-1489881600-1489967999@www.goodshepherdblm.org
SUMMARY:April Newsletter Deadline
DESCRIPTION:
URL:https://www.goodshepherdblm.org/event/april-newsletter-deadline-2/
LOCATION:Good Shepherd Lutheran Church\, 3516 White Eagle Drive\, Bloomington\, IL\, 61704\, United States
CATEGORIES:Newsletter Notes
END:VEVENT
BEGIN:VEVENT
DTSTART;VALUE=DATE:20170312
DTEND;VALUE=DATE:20170313
DTSTAMP:20260424T070010
CREATED:20170303T210019Z
LAST-MODIFIED:20170303T210019Z
UID:3089-1489276800-1489363199@www.goodshepherdblm.org
SUMMARY:Daylight Savings Begins
DESCRIPTION:
URL:https://www.goodshepherdblm.org/event/daylight-savings-begins-2/
LOCATION:Good Shepherd Lutheran Church\, 3516 White Eagle Drive\, Bloomington\, IL\, 61704\, United States
CATEGORIES:Newsletter Notes
END:VEVENT
BEGIN:VEVENT
DTSTART;VALUE=DATE:20170219
DTEND;VALUE=DATE:20170220
DTSTAMP:20260424T070010
CREATED:20170208T162102Z
LAST-MODIFIED:20170208T162102Z
UID:2984-1487462400-1487548799@www.goodshepherdblm.org
SUMMARY:March Newsletter Deadline
DESCRIPTION:
URL:https://www.goodshepherdblm.org/event/march-newsletter-deadline-2/
LOCATION:Good Shepherd Lutheran Church\, 3516 White Eagle Drive\, Bloomington\, IL\, 61704\, United States
CATEGORIES:Newsletter Notes
END:VEVENT
BEGIN:VEVENT
DTSTART;VALUE=DATE:20170122
DTEND;VALUE=DATE:20170123
DTSTAMP:20260424T070010
CREATED:20170108T053839Z
LAST-MODIFIED:20170108T053853Z
UID:2666-1485043200-1485129599@www.goodshepherdblm.org
SUMMARY:Newsletter Deadline
DESCRIPTION:
URL:https://www.goodshepherdblm.org/event/newsletter-deadlin/
LOCATION:Good Shepherd Lutheran Church\, 3516 White Eagle Drive\, Bloomington\, IL\, 61704\, United States
CATEGORIES:Newsletter Notes
END:VEVENT
BEGIN:VEVENT
DTSTART;VALUE=DATE:20161120
DTEND;VALUE=DATE:20161121
DTSTAMP:20260424T070010
CREATED:20161030T195320Z
LAST-MODIFIED:20161030T195320Z
UID:2543-1479600000-1479686399@www.goodshepherdblm.org
SUMMARY:December Newsletter Deadline
DESCRIPTION:
URL:https://www.goodshepherdblm.org/event/december-newsletter-deadline/
LOCATION:Good Shepherd Lutheran Church\, 3516 White Eagle Drive\, Bloomington\, IL\, 61704\, United States
CATEGORIES:Newsletter Notes
END:VEVENT
BEGIN:VEVENT
DTSTART;VALUE=DATE:20161023
DTEND;VALUE=DATE:20161024
DTSTAMP:20260424T070010
CREATED:20161006T152249Z
LAST-MODIFIED:20161006T152249Z
UID:2484-1477180800-1477267199@www.goodshepherdblm.org
SUMMARY:Newsletter Deadline
DESCRIPTION:
URL:https://www.goodshepherdblm.org/event/newsletter-deadline-11/
LOCATION:Good Shepherd Lutheran Church\, 3516 White Eagle Drive\, Bloomington\, IL\, 61704\, United States
CATEGORIES:Newsletter Notes
END:VEVENT
BEGIN:VEVENT
DTSTART;VALUE=DATE:20160821
DTEND;VALUE=DATE:20160822
DTSTAMP:20260424T070010
CREATED:20160816T145405Z
LAST-MODIFIED:20160816T145405Z
UID:2362-1471737600-1471823999@www.goodshepherdblm.org
SUMMARY:Newsletter Deadline
DESCRIPTION:
URL:https://www.goodshepherdblm.org/event/newsletter-deadline-10/
LOCATION:Good Shepherd Lutheran Church\, 3516 White Eagle Drive\, Bloomington\, IL\, 61704\, United States
CATEGORIES:Newsletter Notes
END:VEVENT
BEGIN:VEVENT
DTSTART;VALUE=DATE:20160724
DTEND;VALUE=DATE:20160725
DTSTAMP:20260424T070010
CREATED:20160625T004000Z
LAST-MODIFIED:20160625T004000Z
UID:2285-1469318400-1469404799@www.goodshepherdblm.org
SUMMARY:Newsletter Deadline
DESCRIPTION:
URL:https://www.goodshepherdblm.org/event/newsletter-deadline-9/
LOCATION:Good Shepherd Lutheran Church\, 3516 White Eagle Drive\, Bloomington\, IL\, 61704\, United States
CATEGORIES:Newsletter Notes
END:VEVENT
BEGIN:VEVENT
DTSTART;VALUE=DATE:20160619
DTEND;VALUE=DATE:20160620
DTSTAMP:20260424T070010
CREATED:20160605T001626Z
LAST-MODIFIED:20160605T001626Z
UID:2228-1466294400-1466380799@www.goodshepherdblm.org
SUMMARY:Newsletter Deadline
DESCRIPTION:
URL:https://www.goodshepherdblm.org/event/newsletter-deadline-8/
LOCATION:Good Shepherd Lutheran Church\, 3516 White Eagle Drive\, Bloomington\, IL\, 61704\, United States
CATEGORIES:Newsletter Notes
END:VEVENT
BEGIN:VEVENT
DTSTART;VALUE=DATE:20160522
DTEND;VALUE=DATE:20160523
DTSTAMP:20260424T070010
CREATED:20160422T032348Z
LAST-MODIFIED:20160422T032348Z
UID:2171-1463875200-1463961599@www.goodshepherdblm.org
SUMMARY:Newsletter Deadline
DESCRIPTION:
URL:https://www.goodshepherdblm.org/event/newsletter-deadline-7/
LOCATION:Good Shepherd Lutheran Church\, 3516 White Eagle Drive\, Bloomington\, IL\, 61704\, United States
CATEGORIES:Newsletter Notes
END:VEVENT
BEGIN:VEVENT
DTSTART;VALUE=DATE:20160320
DTEND;VALUE=DATE:20160321
DTSTAMP:20260424T070010
CREATED:20160301T003732Z
LAST-MODIFIED:20160301T003732Z
UID:2037-1458432000-1458518399@www.goodshepherdblm.org
SUMMARY:Newsletter Deadline
DESCRIPTION:
URL:https://www.goodshepherdblm.org/event/newsletter-deadline-5/
LOCATION:Good Shepherd Lutheran Church\, 3516 White Eagle Drive\, Bloomington\, IL\, 61704\, United States
CATEGORIES:Newsletter Notes
END:VEVENT
END:VCALENDAR