BEGIN:VCALENDAR
VERSION:2.0
PRODID:-//Good Shepherd Lutheran Church - ECPv6.15.13//NONSGML v1.0//EN
CALSCALE:GREGORIAN
METHOD:PUBLISH
X-WR-CALNAME:Good Shepherd Lutheran Church
X-ORIGINAL-URL:https://www.goodshepherdblm.org
X-WR-CALDESC:Events for Good Shepherd Lutheran Church
REFRESH-INTERVAL;VALUE=DURATION:PT1H
X-Robots-Tag:noindex
X-PUBLISHED-TTL:PT1H
BEGIN:VTIMEZONE
TZID:America/New_York
BEGIN:DAYLIGHT
TZOFFSETFROM:-0500
TZOFFSETTO:-0400
TZNAME:EDT
DTSTART:20140309T070000
END:DAYLIGHT
BEGIN:STANDARD
TZOFFSETFROM:-0400
TZOFFSETTO:-0500
TZNAME:EST
DTSTART:20141102T060000
END:STANDARD
BEGIN:DAYLIGHT
TZOFFSETFROM:-0500
TZOFFSETTO:-0400
TZNAME:EDT
DTSTART:20150308T070000
END:DAYLIGHT
BEGIN:STANDARD
TZOFFSETFROM:-0400
TZOFFSETTO:-0500
TZNAME:EST
DTSTART:20151101T060000
END:STANDARD
BEGIN:DAYLIGHT
TZOFFSETFROM:-0500
TZOFFSETTO:-0400
TZNAME:EDT
DTSTART:20160313T070000
END:DAYLIGHT
BEGIN:STANDARD
TZOFFSETFROM:-0400
TZOFFSETTO:-0500
TZNAME:EST
DTSTART:20161106T060000
END:STANDARD
BEGIN:DAYLIGHT
TZOFFSETFROM:-0500
TZOFFSETTO:-0400
TZNAME:EDT
DTSTART:20170312T070000
END:DAYLIGHT
BEGIN:STANDARD
TZOFFSETFROM:-0400
TZOFFSETTO:-0500
TZNAME:EST
DTSTART:20171105T060000
END:STANDARD
BEGIN:DAYLIGHT
TZOFFSETFROM:-0500
TZOFFSETTO:-0400
TZNAME:EDT
DTSTART:20180311T070000
END:DAYLIGHT
BEGIN:STANDARD
TZOFFSETFROM:-0400
TZOFFSETTO:-0500
TZNAME:EST
DTSTART:20181104T060000
END:STANDARD
END:VTIMEZONE
BEGIN:VTIMEZONE
TZID:America/Chicago
BEGIN:DAYLIGHT
TZOFFSETFROM:-0600
TZOFFSETTO:-0500
TZNAME:CDT
DTSTART:20140309T080000
END:DAYLIGHT
BEGIN:STANDARD
TZOFFSETFROM:-0500
TZOFFSETTO:-0600
TZNAME:CST
DTSTART:20141102T070000
END:STANDARD
BEGIN:DAYLIGHT
TZOFFSETFROM:-0600
TZOFFSETTO:-0500
TZNAME:CDT
DTSTART:20150308T080000
END:DAYLIGHT
BEGIN:STANDARD
TZOFFSETFROM:-0500
TZOFFSETTO:-0600
TZNAME:CST
DTSTART:20151101T070000
END:STANDARD
BEGIN:DAYLIGHT
TZOFFSETFROM:-0600
TZOFFSETTO:-0500
TZNAME:CDT
DTSTART:20160313T080000
END:DAYLIGHT
BEGIN:STANDARD
TZOFFSETFROM:-0500
TZOFFSETTO:-0600
TZNAME:CST
DTSTART:20161106T070000
END:STANDARD
END:VTIMEZONE
BEGIN:VEVENT
DTSTART;TZID=America/New_York:20170120T183000
DTEND;TZID=America/New_York:20170120T203000
DTSTAMP:20260424T114202
CREATED:20170108T054215Z
LAST-MODIFIED:20170108T054215Z
UID:2671-1484937000-1484944200@www.goodshepherdblm.org
SUMMARY:Family Movie Night
DESCRIPTION:“THE FINAL SEASON”: It is a true story of an underdog coach and the team that must defend their legacy against insurmountable odds.  The high school baseball team in Norway\, Iowa is led by legendary Coach Jim Van Scoyoc.  When talk of a school merger gets serious it threatens to rob them of their 20th State Championship.  “The Final Season” will inspire and entertain everyone.  Join us for a great movie\, good food and great fellowship. \n 
URL:https://www.goodshepherdblm.org/event/family-movie-night-12/
LOCATION:Good Shepherd Lutheran Church\, 3516 White Eagle Drive\, Bloomington\, IL\, 61704\, United States
CATEGORIES:Family Movie Night
END:VEVENT
BEGIN:VEVENT
DTSTART;TZID=America/New_York:20161118T183000
DTEND;TZID=America/New_York:20161118T203000
DTSTAMP:20260424T114202
CREATED:20161111T163526Z
LAST-MODIFIED:20161111T163739Z
UID:2565-1479493800-1479501000@www.goodshepherdblm.org
SUMMARY:Movie Night
DESCRIPTION:COURAGEOUS\, Honor Begins at Home — A powerful\, entertaining and life-changing movie about law enforcement officers facing a challenge that none of them are truly prepared to tackle: fatherhood. \nJoin us for a good movie\, good food\, and great fellowship.
URL:https://www.goodshepherdblm.org/event/movie-night-3/
LOCATION:Good Shepherd Lutheran Church\, 3516 White Eagle Drive\, Bloomington\, IL\, 61704\, United States
CATEGORIES:Family Movie Night
END:VEVENT
BEGIN:VEVENT
DTSTART;TZID=America/New_York:20161021T183000
DTEND;TZID=America/New_York:20161021T203000
DTSTAMP:20260424T114202
CREATED:20161012T154530Z
LAST-MODIFIED:20161012T154530Z
UID:2489-1477074600-1477081800@www.goodshepherdblm.org
SUMMARY:Family Movie Night
DESCRIPTION:Angels in the Outfield     The feel-good film is about a young boy praying for a father – and a struggling baseball team praying for a pennant.  Danny Glover plays George Knox\, the frustrated coach of the California Angels\, a ragtag team of major-league misfits who are down on their luck.  But things begin to look up when 11-year-old Roger\, their biggest fan\, starts giving Knox some winning tips from a real live angel named Al (Christopher Lloyd).  The team miraculously climbs back into the pennant race…all the while learning to believe in themselves.
URL:https://www.goodshepherdblm.org/event/family-movie-night-11/
LOCATION:Good Shepherd Lutheran Church\, 3516 White Eagle Drive\, Bloomington\, IL\, 61704\, United States
CATEGORIES:Family Movie Night
END:VEVENT
BEGIN:VEVENT
DTSTART;TZID=America/New_York:20160318T183000
DTEND;TZID=America/New_York:20160318T203000
DTSTAMP:20260424T114202
CREATED:20160301T003410Z
LAST-MODIFIED:20160301T003410Z
UID:2035-1458325800-1458333000@www.goodshepherdblm.org
SUMMARY:Family Movie Night
DESCRIPTION:
URL:https://www.goodshepherdblm.org/event/family-movie-night-10/
LOCATION:Good Shepherd Lutheran Church\, 3516 White Eagle Drive\, Bloomington\, IL\, 61704\, United States
CATEGORIES:Family Movie Night
END:VEVENT
BEGIN:VEVENT
DTSTART;TZID=America/New_York:20160115T183000
DTEND;TZID=America/New_York:20160115T203000
DTSTAMP:20260424T114202
CREATED:20160112T194440Z
LAST-MODIFIED:20160112T194440Z
UID:1723-1452882600-1452889800@www.goodshepherdblm.org
SUMMARY:Family Movie Night
DESCRIPTION:
URL:https://www.goodshepherdblm.org/event/family-movie-night-8/
LOCATION:Good Shepherd Lutheran Church\, 3516 White Eagle Drive\, Bloomington\, IL\, 61704\, United States
CATEGORIES:Family Movie Night
END:VEVENT
BEGIN:VEVENT
DTSTART;TZID=America/New_York:20151120T183000
DTEND;TZID=America/New_York:20151120T203000
DTSTAMP:20260424T114202
CREATED:20151029T031315Z
LAST-MODIFIED:20151029T031315Z
UID:1535-1448044200-1448051400@www.goodshepherdblm.org
SUMMARY:Family Movie Night
DESCRIPTION:“One Special Night”
URL:https://www.goodshepherdblm.org/event/family-movie-night-7/
LOCATION:Good Shepherd Lutheran Church\, 3516 White Eagle Drive\, Bloomington\, IL\, 61704\, United States
CATEGORIES:Family Movie Night
END:VEVENT
BEGIN:VEVENT
DTSTART;TZID=America/New_York:20151016T183000
DTEND;TZID=America/New_York:20151016T203000
DTSTAMP:20260424T114202
CREATED:20151007T170030Z
LAST-MODIFIED:20151007T170030Z
UID:1475-1445020200-1445027400@www.goodshepherdblm.org
SUMMARY:Family Movie Night
DESCRIPTION:(Disney Movie) Saving Mr Banks
URL:https://www.goodshepherdblm.org/event/family-movie-night-6/
LOCATION:Good Shepherd Lutheran Church\, 3516 White Eagle Drive\, Bloomington\, IL\, 61704\, United States
CATEGORIES:Family Movie Night
END:VEVENT
BEGIN:VEVENT
DTSTART;TZID=America/Chicago:20150918T183000
DTEND;TZID=America/Chicago:20150918T203000
DTSTAMP:20260424T114202
CREATED:20150901T033509Z
LAST-MODIFIED:20150901T033509Z
UID:1367-1442601000-1442608200@www.goodshepherdblm.org
SUMMARY:Family Movie Night
DESCRIPTION:
URL:https://www.goodshepherdblm.org/event/family-movie-night-5/
LOCATION:Good Shepherd Lutheran Church\, 3516 White Eagle Drive\, Bloomington\, IL\, 61704\, United States
CATEGORIES:Family Movie Night
END:VEVENT
BEGIN:VEVENT
DTSTART;TZID=America/Chicago:20150821T183000
DTEND;TZID=America/Chicago:20150821T203000
DTSTAMP:20260424T114202
CREATED:20150802T161734Z
LAST-MODIFIED:20150802T161734Z
UID:1314-1440181800-1440189000@www.goodshepherdblm.org
SUMMARY:Family Movie Night
DESCRIPTION:“McFarland USA”
URL:https://www.goodshepherdblm.org/event/family-movie-night-4/
LOCATION:Good Shepherd Lutheran Church\, 3516 White Eagle Drive\, Bloomington\, IL\, 61704\, United States
CATEGORIES:Family Movie Night
END:VEVENT
BEGIN:VEVENT
DTSTART;TZID=America/Chicago:20150619T183000
DTEND;TZID=America/Chicago:20150619T203000
DTSTAMP:20260424T114202
CREATED:20150531T064840Z
LAST-MODIFIED:20150531T064840Z
UID:1206-1434738600-1434745800@www.goodshepherdblm.org
SUMMARY:Family Movie Night
DESCRIPTION:
URL:https://www.goodshepherdblm.org/event/family-movie-night-3/
LOCATION:Good Shepherd Lutheran Church\, 3516 White Eagle Drive\, Bloomington\, IL\, 61704\, United States
CATEGORIES:Family Movie Night
END:VEVENT
BEGIN:VEVENT
DTSTART;TZID=America/Chicago:20150515T183000
DTEND;TZID=America/Chicago:20150515T203000
DTSTAMP:20260424T114202
CREATED:20150427T001405Z
LAST-MODIFIED:20150430T141228Z
UID:1038-1431714600-1431721800@www.goodshepherdblm.org
SUMMARY:Family Movie Night
DESCRIPTION:Million Dollar Arm (a Disney movie\, based on a true story)
URL:https://www.goodshepherdblm.org/event/family-movie-night-2/
LOCATION:Good Shepherd Lutheran Church\, 3516 White Eagle Drive\, Bloomington\, IL\, 61704\, United States
CATEGORIES:Family Movie Night
END:VEVENT
BEGIN:VEVENT
DTSTART;TZID=America/Chicago:20150424T183000
DTEND;TZID=America/Chicago:20150424T203000
DTSTAMP:20260424T114202
CREATED:20150328T190633Z
LAST-MODIFIED:20150328T190633Z
UID:971-1429900200-1429907400@www.goodshepherdblm.org
SUMMARY:Family Movie Night - "Spencer's Mountain"
DESCRIPTION:
URL:https://www.goodshepherdblm.org/event/family-movie-night-spencers-mountain/
LOCATION:Good Shepherd Lutheran Church\, 3516 White Eagle Drive\, Bloomington\, IL\, 61704\, United States
CATEGORIES:Family Movie Night
END:VEVENT
BEGIN:VEVENT
DTSTART;TZID=America/Chicago:20150320T183000
DTEND;TZID=America/Chicago:20150320T203000
DTSTAMP:20260424T114202
CREATED:20150302T170703Z
LAST-MODIFIED:20150302T170703Z
UID:912-1426876200-1426883400@www.goodshepherdblm.org
SUMMARY:Family Movie Night
DESCRIPTION:The Trial
URL:https://www.goodshepherdblm.org/event/family-movie-night/
LOCATION:Good Shepherd Lutheran Church\, 3516 White Eagle Drive\, Bloomington\, IL\, 61704\, United States
CATEGORIES:Family Movie Night
END:VEVENT
BEGIN:VEVENT
DTSTART;TZID=America/Chicago:20150220T183000
DTEND;TZID=America/Chicago:20150220T203000
DTSTAMP:20260424T114202
CREATED:20150127T001510Z
LAST-MODIFIED:20150127T001510Z
UID:738-1424457000-1424464200@www.goodshepherdblm.org
SUMMARY:Family Movie Night - "Wake Me When It's Over"
DESCRIPTION:
URL:https://www.goodshepherdblm.org/event/family-movie-night-wake-me-when-its-over/
LOCATION:Good Shepherd Lutheran Church\, 3516 White Eagle Drive\, Bloomington\, IL\, 61704\, United States
CATEGORIES:Family Movie Night
END:VEVENT
BEGIN:VEVENT
DTSTART;TZID=America/Chicago:20150116T183000
DTEND;TZID=America/Chicago:20150116T203000
DTSTAMP:20260424T114202
CREATED:20150108T060712Z
LAST-MODIFIED:20150108T060712Z
UID:679-1421433000-1421440200@www.goodshepherdblm.org
SUMMARY:Family Movie Night - "Frozen" (Sing-a-Long Version)
DESCRIPTION:
URL:https://www.goodshepherdblm.org/event/family-movie-night-frozen-sing-a-long-version/
LOCATION:Good Shepherd Lutheran Church\, 3516 White Eagle Drive\, Bloomington\, IL\, 61704\, United States
CATEGORIES:Family Movie Night
END:VEVENT
END:VCALENDAR