BEGIN:VCALENDAR
VERSION:2.0
PRODID:-//Good Shepherd Lutheran Church - ECPv6.15.13//NONSGML v1.0//EN
CALSCALE:GREGORIAN
METHOD:PUBLISH
X-WR-CALNAME:Good Shepherd Lutheran Church
X-ORIGINAL-URL:https://www.goodshepherdblm.org
X-WR-CALDESC:Events for Good Shepherd Lutheran Church
REFRESH-INTERVAL;VALUE=DURATION:PT1H
X-Robots-Tag:noindex
X-PUBLISHED-TTL:PT1H
BEGIN:VTIMEZONE
TZID:America/New_York
BEGIN:DAYLIGHT
TZOFFSETFROM:-0500
TZOFFSETTO:-0400
TZNAME:EDT
DTSTART:20140309T070000
END:DAYLIGHT
BEGIN:STANDARD
TZOFFSETFROM:-0400
TZOFFSETTO:-0500
TZNAME:EST
DTSTART:20141102T060000
END:STANDARD
BEGIN:DAYLIGHT
TZOFFSETFROM:-0500
TZOFFSETTO:-0400
TZNAME:EDT
DTSTART:20150308T070000
END:DAYLIGHT
BEGIN:STANDARD
TZOFFSETFROM:-0400
TZOFFSETTO:-0500
TZNAME:EST
DTSTART:20151101T060000
END:STANDARD
BEGIN:DAYLIGHT
TZOFFSETFROM:-0500
TZOFFSETTO:-0400
TZNAME:EDT
DTSTART:20160313T070000
END:DAYLIGHT
BEGIN:STANDARD
TZOFFSETFROM:-0400
TZOFFSETTO:-0500
TZNAME:EST
DTSTART:20161106T060000
END:STANDARD
BEGIN:DAYLIGHT
TZOFFSETFROM:-0500
TZOFFSETTO:-0400
TZNAME:EDT
DTSTART:20170312T070000
END:DAYLIGHT
BEGIN:STANDARD
TZOFFSETFROM:-0400
TZOFFSETTO:-0500
TZNAME:EST
DTSTART:20171105T060000
END:STANDARD
BEGIN:DAYLIGHT
TZOFFSETFROM:-0500
TZOFFSETTO:-0400
TZNAME:EDT
DTSTART:20180311T070000
END:DAYLIGHT
BEGIN:STANDARD
TZOFFSETFROM:-0400
TZOFFSETTO:-0500
TZNAME:EST
DTSTART:20181104T060000
END:STANDARD
BEGIN:DAYLIGHT
TZOFFSETFROM:-0500
TZOFFSETTO:-0400
TZNAME:EDT
DTSTART:20190310T070000
END:DAYLIGHT
BEGIN:STANDARD
TZOFFSETFROM:-0400
TZOFFSETTO:-0500
TZNAME:EST
DTSTART:20191103T060000
END:STANDARD
END:VTIMEZONE
BEGIN:VTIMEZONE
TZID:America/Chicago
BEGIN:DAYLIGHT
TZOFFSETFROM:-0600
TZOFFSETTO:-0500
TZNAME:CDT
DTSTART:20140309T080000
END:DAYLIGHT
BEGIN:STANDARD
TZOFFSETFROM:-0500
TZOFFSETTO:-0600
TZNAME:CST
DTSTART:20141102T070000
END:STANDARD
BEGIN:DAYLIGHT
TZOFFSETFROM:-0600
TZOFFSETTO:-0500
TZNAME:CDT
DTSTART:20150308T080000
END:DAYLIGHT
BEGIN:STANDARD
TZOFFSETFROM:-0500
TZOFFSETTO:-0600
TZNAME:CST
DTSTART:20151101T070000
END:STANDARD
BEGIN:DAYLIGHT
TZOFFSETFROM:-0600
TZOFFSETTO:-0500
TZNAME:CDT
DTSTART:20160313T080000
END:DAYLIGHT
BEGIN:STANDARD
TZOFFSETFROM:-0500
TZOFFSETTO:-0600
TZNAME:CST
DTSTART:20161106T070000
END:STANDARD
END:VTIMEZONE
BEGIN:VEVENT
DTSTART;TZID=America/New_York:20180914T183000
DTEND;TZID=America/New_York:20180914T203000
DTSTAMP:20260424T060917
CREATED:20180909T070601Z
LAST-MODIFIED:20180909T072157Z
UID:4875-1536949800-1536957000@www.goodshepherdblm.org
SUMMARY:Family Movie Night
DESCRIPTION:God’s Not Dead — A Light in Darkness\n 
URL:https://www.goodshepherdblm.org/event/family-movie-night-25/
LOCATION:Good Shepherd Lutheran Church\, 3516 White Eagle Drive\, Bloomington\, IL\, 61704\, United States
CATEGORIES:Family Movie Night
END:VEVENT
BEGIN:VEVENT
DTSTART;TZID=America/New_York:20180817T183000
DTEND;TZID=America/New_York:20180817T203000
DTSTAMP:20260424T060917
CREATED:20180814T160937Z
LAST-MODIFIED:20180814T160937Z
UID:4797-1534530600-1534537800@www.goodshepherdblm.org
SUMMARY:Family Movie Night
DESCRIPTION:GOD’S NOT DEAD 2        .  “When high school history teacher\, Grace Wesley (Melissa Joan Hart) is asked a question about Jesus in class\, her reasoned response lands her in deep trouble.  The ensuing epic court case could expel God from the classroom – and the public square – once and for all!”  GOD’S NOT DEAD 2 is a powerful call to action: “WHERE WILL YOU STAND?  \nJoin us for a great entertaining movie\, good food and wonderful fellowship.
URL:https://www.goodshepherdblm.org/event/family-movie-night-24/
LOCATION:Good Shepherd Lutheran Church\, 3516 White Eagle Drive\, Bloomington\, IL\, 61704\, United States
CATEGORIES:Family Movie Night
END:VEVENT
BEGIN:VEVENT
DTSTART;TZID=America/New_York:20180713T183000
DTEND;TZID=America/New_York:20180713T203000
DTSTAMP:20260424T060917
CREATED:20180703T164319Z
LAST-MODIFIED:20180703T164604Z
UID:4721-1531506600-1531513800@www.goodshepherdblm.org
SUMMARY:Family Movie Night - "God's Not Dead"
DESCRIPTION:When an atheist Philosophy professor (Kevin Sorbo) plans to forego “dusty arguments” in his class\, he insists the new students declare that “God is dead.”  Unable to do this\, Josh (Shane Harper) is challenged to defend his faith and prove to the class that God’s Not Dead.  Against all odds\, Josh stands up for his faith and takes on the challenge.  LET THE DEBATE BEGIN.
URL:https://www.goodshepherdblm.org/event/family-movie-night-gods-not-dead/
LOCATION:Good Shepherd Lutheran Church\, 3516 White Eagle Drive\, Bloomington\, IL\, 61704\, United States
CATEGORIES:Family Movie Night
END:VEVENT
BEGIN:VEVENT
DTSTART;TZID=America/New_York:20180615T183000
DTEND;TZID=America/New_York:20180615T203000
DTSTAMP:20260424T060917
CREATED:20180530T220055Z
LAST-MODIFIED:20180530T220055Z
UID:4618-1529087400-1529094600@www.goodshepherdblm.org
SUMMARY:Family Movie Night - "Same Kind of Different As Me"
DESCRIPTION:From the New York Times bestseller comes an inspirational true story that “embraces the beauty of the human spirit.”  Successful art dealer Ron Hall (Academy Award nominee Greg Kinnear) and his wife Debbie (Academy Award winner Renee Zellweger) seemingly have  perfect life.  But when their faith and family are tested\, an unlikely bond with a homeless drifter (Academy Award nominee Djimon Hounsou) leads them on a remarkable journey that forges an everlasting friendship.  The movie shows how a simple act of kindness can change everything.
URL:https://www.goodshepherdblm.org/event/family-movie-night-same-kind-of-different-as-me/
LOCATION:Good Shepherd Lutheran Church\, 3516 White Eagle Drive\, Bloomington\, IL\, 61704\, United States
CATEGORIES:Family Movie Night
END:VEVENT
BEGIN:VEVENT
DTSTART;TZID=America/New_York:20180518T183000
DTEND;TZID=America/New_York:20180518T203000
DTSTAMP:20260424T060917
CREATED:20180430T152334Z
LAST-MODIFIED:20180430T152334Z
UID:4548-1526668200-1526675400@www.goodshepherdblm.org
SUMMARY:Family Movie Night - "Let There Be Light"
DESCRIPTION:World-famous atheist Dr. Sol Harkens (Kevin Sorbo) delights in debating and defeating Christians\, but is emotionally empty.  Isolated from Katy (Sandra Lynn “Sam” Sorbo)\, the wife he divorced following the harrowing loss of their first son\, and a lousy part-time dad to their two younger boys\, his self-destruction culminates in a car crash that leaves him clinically dead for four minutes.  The four-word message from that experience challenges his convictions\, sending him into a panicked tailspin.  Reluctantly leaning on his family’s forgiveness\, love and faith\, Sol struggles to find meaning and purpose in the words “LET THERE BE LIGHT”.
URL:https://www.goodshepherdblm.org/event/family-movie-night-let-there-be-light/
LOCATION:Good Shepherd Lutheran Church\, 3516 White Eagle Drive\, Bloomington\, IL\, 61704\, United States
CATEGORIES:Family Movie Night
END:VEVENT
BEGIN:VEVENT
DTSTART;TZID=America/New_York:20180413T183000
DTEND;TZID=America/New_York:20180413T203000
DTSTAMP:20260424T060917
CREATED:20180326T214315Z
LAST-MODIFIED:20180326T214315Z
UID:4436-1523644200-1523651400@www.goodshepherdblm.org
SUMMARY:Family Movie Night
DESCRIPTION:“THE STRAY” tells the story of a dog\, Pluto\, who saves a struggling family in more ways than one.
URL:https://www.goodshepherdblm.org/event/family-movie-night-23/
LOCATION:Good Shepherd Lutheran Church\, 3516 White Eagle Drive\, Bloomington\, IL\, 61704\, United States
CATEGORIES:Family Movie Night
END:VEVENT
BEGIN:VEVENT
DTSTART;TZID=America/New_York:20180309T183000
DTEND;TZID=America/New_York:20180309T203000
DTSTAMP:20260424T060917
CREATED:20180303T032131Z
LAST-MODIFIED:20180303T032448Z
UID:4342-1520620200-1520627400@www.goodshepherdblm.org
SUMMARY:Family Movie Night - "All Saints"
DESCRIPTION:.  “ALL SAINTS” is a movie based on the inspiring true story of a salesman-turned-pastor\, the tiny church he was ordered to shut down\, and a group of refugees from Southeast Asia.  Together\, they risked everything to plant seeds for a future that might just save them all.  Join us for another fine movie\, good food and wonderful fellowship.  Mark your calendars for the MARCH 9th; MOVIE NIGHT.
URL:https://www.goodshepherdblm.org/event/family-movie-night-all-saints/
LOCATION:Good Shepherd Lutheran Church\, 3516 White Eagle Drive\, Bloomington\, IL\, 61704\, United States
CATEGORIES:Family Movie Night
END:VEVENT
BEGIN:VEVENT
DTSTART;TZID=America/New_York:20180216T183000
DTEND;TZID=America/New_York:20180216T203000
DTSTAMP:20260424T060917
CREATED:20180215T180028Z
LAST-MODIFIED:20180215T180028Z
UID:4242-1518805800-1518813000@www.goodshepherdblm.org
SUMMARY:Family Movie Night
DESCRIPTION:“MOUNTAIN TOP  – A JOURNEY OF FAITH”.  Sometimes\, the best place to see the future is on a mountain top.  That’s where lawyer turned preacher Mike Andrews life changed\, and he has no intention of going back.  The last thing he wants to do is return to the courtroom and represent an eccentric old man whose mind is filled with obscure visions and confusing dreams.  But when Sam Miller’s visions get personal\, Mike discovers there are paths that lead higher than earthly mountains. And roads\, more dangerous than an icy hairpin turn on a moonless night.  Join us for another great movie\, wonderful fellowship and good food!
URL:https://www.goodshepherdblm.org/event/family-movie-night-22/
LOCATION:Good Shepherd Lutheran Church\, 3516 White Eagle Drive\, Bloomington\, IL\, 61704\, United States
CATEGORIES:Family Movie Night
END:VEVENT
BEGIN:VEVENT
DTSTART;TZID=America/New_York:20180119T183000
DTEND;TZID=America/New_York:20180119T203000
DTSTAMP:20260424T060917
CREATED:20171228T062916Z
LAST-MODIFIED:20180110T171445Z
UID:4114-1516386600-1516393800@www.goodshepherdblm.org
SUMMARY:Family Movie Night
DESCRIPTION:The Case for Christ\n"Working to disprove the growing Christian faith of his wife\, an investigative journalist \nchases down the biggest story of all time ... with unexpected\, life-altering results! THE \nCASE FOR CHRIST is based on the true-life story of Lee Strobel\, author of the best-selling \nbook\, THE CASE FOR CHRIST.  What will your verdict be?"\nJoin us for a great movie\, fine fellowship and good food. \n  \n 
URL:https://www.goodshepherdblm.org/event/family-movie-night-21/
LOCATION:Good Shepherd Lutheran Church\, 3516 White Eagle Drive\, Bloomington\, IL\, 61704\, United States
CATEGORIES:Family Movie Night
END:VEVENT
BEGIN:VEVENT
DTSTART;TZID=America/New_York:20171020T183000
DTEND;TZID=America/New_York:20171020T203000
DTSTAMP:20260424T060917
CREATED:20171009T172654Z
LAST-MODIFIED:20171009T172654Z
UID:3674-1508524200-1508531400@www.goodshepherdblm.org
SUMMARY:Family Movie Night  "Hidden Figures"
DESCRIPTION:“HIDDEN FIGURES” \nThis movie was inspired by a true story.  It tells the incredible untold story of Katherine Johnson\, Dorothy Vaughan and Mary Jackson – brilliant African-American women working at NASA who served as the brains behind the launch into orbit of astronaut John Glenn\, a stunning achievement that turned around the Space Race.  The visionary trio crossed all gender and racial lines and inspired generations. \nJoin us for a great movie and good food and fine fellowship!  See you at the movies. \n 
URL:https://www.goodshepherdblm.org/event/family-movie-night-hidden-figures/
LOCATION:Good Shepherd Lutheran Church\, 3516 White Eagle Drive\, Bloomington\, IL\, 61704\, United States
CATEGORIES:Family Movie Night
END:VEVENT
BEGIN:VEVENT
DTSTART;TZID=America/New_York:20170915T183000
DTEND;TZID=America/New_York:20170915T203000
DTSTAMP:20260424T060917
CREATED:20170911T023329Z
LAST-MODIFIED:20170911T023329Z
UID:3606-1505500200-1505507400@www.goodshepherdblm.org
SUMMARY:Family Movie Night
DESCRIPTION:SUPPORT YOUR LOCAL SHERIFF \nThe movie is open to all members of Good Shepherd and the community.  Invite your neighbors to come and enjoy the movie\, food and fellowship!  Come early and give blood at the Red Cross Blood Drive and stay for the movie.  On his way to Australia\, frontier opportunist\, Jason McCullough (Garner) stumbles into a small gold-rush town and decides to earn a little extra pocket money by accepting a temporary assignment as their sheriff.  Happily applying himself to his new position\, McCullough manages to turn the town derelict (Elam) into his deputy\, outsmart the dreaded Danby clan (led by Brennan in a hilarious comic performance)\, and fend off the lusty advances of the mayor’s daughter (Hackett) – all without breaking a sweat or dirtying his shiny black boots!  Take a break from the hustle and bustle\, come and relax and enjoy a funny Cowboy Comedy Movie!
URL:https://www.goodshepherdblm.org/event/family-movie-night-20/
LOCATION:Good Shepherd Lutheran Church\, 3516 White Eagle Drive\, Bloomington\, IL\, 61704\, United States
CATEGORIES:Family Movie Night
END:VEVENT
BEGIN:VEVENT
DTSTART;TZID=America/New_York:20170818T183000
DTEND;TZID=America/New_York:20170818T203000
DTSTAMP:20260424T060917
CREATED:20170802T210204Z
LAST-MODIFIED:20170803T144120Z
UID:3485-1503081000-1503088200@www.goodshepherdblm.org
SUMMARY:Family Movie Night
DESCRIPTION:THE MUSIC MAN\, the joyful film of the 1\,375-performance Broadway smash\, remains an\nirresistible skyburst of Americana.  Robert Preston recreates his Tony-winning Broadway\ntriumph as con artist\, Harold Hill\, arriving in River City\, Iowa\, to form a boys band\, much\nto the disapproval…and later delight… of town librarian Marian Paroo (Academy Award\nwinner Shirley Jones).  Buddy Hacket\, Hermione Gingold\, Paul Ford and 7-year old Ron\nHoward co-star.  Meredith Willson’s sassy\, brassy score\, is orchestrated to Oscar-winning\neffect by Ray Heindorf.  SHEER ENTERTAINMENT. HOLLYWOOD’S SHOW MAGIC AT ITS\nBEST.\nJoin us for a fun evening with a great movie\, good food and fellowship.
URL:https://www.goodshepherdblm.org/event/family-movie-night-19/
LOCATION:Good Shepherd Lutheran Church\, 3516 White Eagle Drive\, Bloomington\, IL\, 61704\, United States
CATEGORIES:Family Movie Night
END:VEVENT
BEGIN:VEVENT
DTSTART;TZID=America/New_York:20170721T183000
DTEND;TZID=America/New_York:20170721T203000
DTSTAMP:20260424T060917
CREATED:20170615T160316Z
LAST-MODIFIED:20170615T160316Z
UID:3396-1500661800-1500669000@www.goodshepherdblm.org
SUMMARY:Family Movie Night
DESCRIPTION:
URL:https://www.goodshepherdblm.org/event/family-movie-night-18/
LOCATION:Good Shepherd Lutheran Church\, 3516 White Eagle Drive\, Bloomington\, IL\, 61704\, United States
CATEGORIES:Family Movie Night
END:VEVENT
BEGIN:VEVENT
DTSTART;TZID=America/New_York:20170630T183000
DTEND;TZID=America/New_York:20170630T203000
DTSTAMP:20260424T060917
CREATED:20170526T153644Z
LAST-MODIFIED:20170611T124246Z
UID:3332-1498847400-1498854600@www.goodshepherdblm.org
SUMMARY:Family Movie Night - "When the Game Stands Tall"
DESCRIPTION:“When The Game Stands Tall” tells the remarkable journey of legendary football coach Bob Ladouceur\, who took the De LaSalle High School Spartans from obscurity to a 151 – game winning streak that shattered all records for any American sport.  When then the streak is broken\, and tragedy strikes the team\, “Coach Lad” must teach his players – and the entire town – that it’s not about how you fall\, but how you get back up.  Join us for another great movie\, delicious food and wonderful fellowship.  There is plenty of room in the church.
URL:https://www.goodshepherdblm.org/event/family-movie-night-17/
LOCATION:Good Shepherd Lutheran Church\, 3516 White Eagle Drive\, Bloomington\, IL\, 61704\, United States
CATEGORIES:Family Movie Night
END:VEVENT
BEGIN:VEVENT
DTSTART;TZID=America/New_York:20170519T183000
DTEND;TZID=America/New_York:20170519T203000
DTSTAMP:20260424T060917
CREATED:20170429T163026Z
LAST-MODIFIED:20170429T163026Z
UID:3258-1495218600-1495225800@www.goodshepherdblm.org
SUMMARY:Family Movie Night
DESCRIPTION:“Mom’s Night Out”
URL:https://www.goodshepherdblm.org/event/family-movie-night-16/
LOCATION:Good Shepherd Lutheran Church\, 3516 White Eagle Drive\, Bloomington\, IL\, 61704\, United States
CATEGORIES:Family Movie Night
END:VEVENT
BEGIN:VEVENT
DTSTART;TZID=America/New_York:20170421T183000
DTEND;TZID=America/New_York:20170421T203000
DTSTAMP:20260424T060917
CREATED:20170328T010720Z
LAST-MODIFIED:20170328T010720Z
UID:3178-1492799400-1492806600@www.goodshepherdblm.org
SUMMARY:Family Movie Night
DESCRIPTION:“Woodlawn”
URL:https://www.goodshepherdblm.org/event/family-movie-night-15/
LOCATION:Good Shepherd Lutheran Church\, 3516 White Eagle Drive\, Bloomington\, IL\, 61704\, United States
CATEGORIES:Family Movie Night
END:VEVENT
BEGIN:VEVENT
DTSTART;TZID=America/New_York:20170317T183000
DTEND;TZID=America/New_York:20170317T203000
DTSTAMP:20260424T060917
CREATED:20170303T205625Z
LAST-MODIFIED:20170312T172500Z
UID:3085-1489775400-1489782600@www.goodshepherdblm.org
SUMMARY:Family Movie Night - "Miracles from Heaven"
DESCRIPTION:Join us for another great movie this coming Friday\, March 17th at 6:30 p.m. in the church basement.  The movie is “MIRACLES FROM HEAVEN”; based on a true story.  “When Christy discovers her 10-year-old daughter Anna has a rare\, incurable disease\, she becomes a ferocious advocate for her daughter’s healing as she searches for a solution.  After Anna has a freak accident\, an extraordinary miracle unfolds in the wake of her dramatic rescue that leaves medical specialists mystified\, her family restored and their community inspired.”  There are plenty of comfortable seats and plenty of food.  See you Friday night!
URL:https://www.goodshepherdblm.org/event/family-movie-night-14/
LOCATION:Good Shepherd Lutheran Church\, 3516 White Eagle Drive\, Bloomington\, IL\, 61704\, United States
CATEGORIES:Family Movie Night
END:VEVENT
BEGIN:VEVENT
DTSTART;TZID=America/New_York:20170217T183000
DTEND;TZID=America/New_York:20170217T203000
DTSTAMP:20260424T060917
CREATED:20170208T161022Z
LAST-MODIFIED:20170208T161022Z
UID:2970-1487356200-1487363400@www.goodshepherdblm.org
SUMMARY:Family Movie Night
DESCRIPTION:“War Room”   (establishing a “war room” with a battle plan of prayer for the family)
URL:https://www.goodshepherdblm.org/event/family-movie-night-13/
LOCATION:Good Shepherd Lutheran Church\, 3516 White Eagle Drive\, Bloomington\, IL\, 61704\, United States
CATEGORIES:Family Movie Night
END:VEVENT
BEGIN:VEVENT
DTSTART;TZID=America/New_York:20170120T183000
DTEND;TZID=America/New_York:20170120T203000
DTSTAMP:20260424T060917
CREATED:20170108T054215Z
LAST-MODIFIED:20170108T054215Z
UID:2671-1484937000-1484944200@www.goodshepherdblm.org
SUMMARY:Family Movie Night
DESCRIPTION:“THE FINAL SEASON”: It is a true story of an underdog coach and the team that must defend their legacy against insurmountable odds.  The high school baseball team in Norway\, Iowa is led by legendary Coach Jim Van Scoyoc.  When talk of a school merger gets serious it threatens to rob them of their 20th State Championship.  “The Final Season” will inspire and entertain everyone.  Join us for a great movie\, good food and great fellowship. \n 
URL:https://www.goodshepherdblm.org/event/family-movie-night-12/
LOCATION:Good Shepherd Lutheran Church\, 3516 White Eagle Drive\, Bloomington\, IL\, 61704\, United States
CATEGORIES:Family Movie Night
END:VEVENT
BEGIN:VEVENT
DTSTART;TZID=America/New_York:20161118T183000
DTEND;TZID=America/New_York:20161118T203000
DTSTAMP:20260424T060917
CREATED:20161111T163526Z
LAST-MODIFIED:20161111T163739Z
UID:2565-1479493800-1479501000@www.goodshepherdblm.org
SUMMARY:Movie Night
DESCRIPTION:COURAGEOUS\, Honor Begins at Home — A powerful\, entertaining and life-changing movie about law enforcement officers facing a challenge that none of them are truly prepared to tackle: fatherhood. \nJoin us for a good movie\, good food\, and great fellowship.
URL:https://www.goodshepherdblm.org/event/movie-night-3/
LOCATION:Good Shepherd Lutheran Church\, 3516 White Eagle Drive\, Bloomington\, IL\, 61704\, United States
CATEGORIES:Family Movie Night
END:VEVENT
BEGIN:VEVENT
DTSTART;TZID=America/New_York:20161021T183000
DTEND;TZID=America/New_York:20161021T203000
DTSTAMP:20260424T060917
CREATED:20161012T154530Z
LAST-MODIFIED:20161012T154530Z
UID:2489-1477074600-1477081800@www.goodshepherdblm.org
SUMMARY:Family Movie Night
DESCRIPTION:Angels in the Outfield     The feel-good film is about a young boy praying for a father – and a struggling baseball team praying for a pennant.  Danny Glover plays George Knox\, the frustrated coach of the California Angels\, a ragtag team of major-league misfits who are down on their luck.  But things begin to look up when 11-year-old Roger\, their biggest fan\, starts giving Knox some winning tips from a real live angel named Al (Christopher Lloyd).  The team miraculously climbs back into the pennant race…all the while learning to believe in themselves.
URL:https://www.goodshepherdblm.org/event/family-movie-night-11/
LOCATION:Good Shepherd Lutheran Church\, 3516 White Eagle Drive\, Bloomington\, IL\, 61704\, United States
CATEGORIES:Family Movie Night
END:VEVENT
BEGIN:VEVENT
DTSTART;TZID=America/New_York:20160318T183000
DTEND;TZID=America/New_York:20160318T203000
DTSTAMP:20260424T060917
CREATED:20160301T003410Z
LAST-MODIFIED:20160301T003410Z
UID:2035-1458325800-1458333000@www.goodshepherdblm.org
SUMMARY:Family Movie Night
DESCRIPTION:
URL:https://www.goodshepherdblm.org/event/family-movie-night-10/
LOCATION:Good Shepherd Lutheran Church\, 3516 White Eagle Drive\, Bloomington\, IL\, 61704\, United States
CATEGORIES:Family Movie Night
END:VEVENT
BEGIN:VEVENT
DTSTART;TZID=America/New_York:20160115T183000
DTEND;TZID=America/New_York:20160115T203000
DTSTAMP:20260424T060917
CREATED:20160112T194440Z
LAST-MODIFIED:20160112T194440Z
UID:1723-1452882600-1452889800@www.goodshepherdblm.org
SUMMARY:Family Movie Night
DESCRIPTION:
URL:https://www.goodshepherdblm.org/event/family-movie-night-8/
LOCATION:Good Shepherd Lutheran Church\, 3516 White Eagle Drive\, Bloomington\, IL\, 61704\, United States
CATEGORIES:Family Movie Night
END:VEVENT
BEGIN:VEVENT
DTSTART;TZID=America/New_York:20151120T183000
DTEND;TZID=America/New_York:20151120T203000
DTSTAMP:20260424T060917
CREATED:20151029T031315Z
LAST-MODIFIED:20151029T031315Z
UID:1535-1448044200-1448051400@www.goodshepherdblm.org
SUMMARY:Family Movie Night
DESCRIPTION:“One Special Night”
URL:https://www.goodshepherdblm.org/event/family-movie-night-7/
LOCATION:Good Shepherd Lutheran Church\, 3516 White Eagle Drive\, Bloomington\, IL\, 61704\, United States
CATEGORIES:Family Movie Night
END:VEVENT
BEGIN:VEVENT
DTSTART;TZID=America/New_York:20151016T183000
DTEND;TZID=America/New_York:20151016T203000
DTSTAMP:20260424T060917
CREATED:20151007T170030Z
LAST-MODIFIED:20151007T170030Z
UID:1475-1445020200-1445027400@www.goodshepherdblm.org
SUMMARY:Family Movie Night
DESCRIPTION:(Disney Movie) Saving Mr Banks
URL:https://www.goodshepherdblm.org/event/family-movie-night-6/
LOCATION:Good Shepherd Lutheran Church\, 3516 White Eagle Drive\, Bloomington\, IL\, 61704\, United States
CATEGORIES:Family Movie Night
END:VEVENT
BEGIN:VEVENT
DTSTART;TZID=America/Chicago:20150918T183000
DTEND;TZID=America/Chicago:20150918T203000
DTSTAMP:20260424T060917
CREATED:20150901T033509Z
LAST-MODIFIED:20150901T033509Z
UID:1367-1442601000-1442608200@www.goodshepherdblm.org
SUMMARY:Family Movie Night
DESCRIPTION:
URL:https://www.goodshepherdblm.org/event/family-movie-night-5/
LOCATION:Good Shepherd Lutheran Church\, 3516 White Eagle Drive\, Bloomington\, IL\, 61704\, United States
CATEGORIES:Family Movie Night
END:VEVENT
BEGIN:VEVENT
DTSTART;TZID=America/Chicago:20150821T183000
DTEND;TZID=America/Chicago:20150821T203000
DTSTAMP:20260424T060917
CREATED:20150802T161734Z
LAST-MODIFIED:20150802T161734Z
UID:1314-1440181800-1440189000@www.goodshepherdblm.org
SUMMARY:Family Movie Night
DESCRIPTION:“McFarland USA”
URL:https://www.goodshepherdblm.org/event/family-movie-night-4/
LOCATION:Good Shepherd Lutheran Church\, 3516 White Eagle Drive\, Bloomington\, IL\, 61704\, United States
CATEGORIES:Family Movie Night
END:VEVENT
BEGIN:VEVENT
DTSTART;TZID=America/Chicago:20150619T183000
DTEND;TZID=America/Chicago:20150619T203000
DTSTAMP:20260424T060917
CREATED:20150531T064840Z
LAST-MODIFIED:20150531T064840Z
UID:1206-1434738600-1434745800@www.goodshepherdblm.org
SUMMARY:Family Movie Night
DESCRIPTION:
URL:https://www.goodshepherdblm.org/event/family-movie-night-3/
LOCATION:Good Shepherd Lutheran Church\, 3516 White Eagle Drive\, Bloomington\, IL\, 61704\, United States
CATEGORIES:Family Movie Night
END:VEVENT
BEGIN:VEVENT
DTSTART;TZID=America/Chicago:20150515T183000
DTEND;TZID=America/Chicago:20150515T203000
DTSTAMP:20260424T060917
CREATED:20150427T001405Z
LAST-MODIFIED:20150430T141228Z
UID:1038-1431714600-1431721800@www.goodshepherdblm.org
SUMMARY:Family Movie Night
DESCRIPTION:Million Dollar Arm (a Disney movie\, based on a true story)
URL:https://www.goodshepherdblm.org/event/family-movie-night-2/
LOCATION:Good Shepherd Lutheran Church\, 3516 White Eagle Drive\, Bloomington\, IL\, 61704\, United States
CATEGORIES:Family Movie Night
END:VEVENT
BEGIN:VEVENT
DTSTART;TZID=America/Chicago:20150424T183000
DTEND;TZID=America/Chicago:20150424T203000
DTSTAMP:20260424T060917
CREATED:20150328T190633Z
LAST-MODIFIED:20150328T190633Z
UID:971-1429900200-1429907400@www.goodshepherdblm.org
SUMMARY:Family Movie Night - "Spencer's Mountain"
DESCRIPTION:
URL:https://www.goodshepherdblm.org/event/family-movie-night-spencers-mountain/
LOCATION:Good Shepherd Lutheran Church\, 3516 White Eagle Drive\, Bloomington\, IL\, 61704\, United States
CATEGORIES:Family Movie Night
END:VEVENT
END:VCALENDAR