BEGIN:VCALENDAR
VERSION:2.0
PRODID:-//Good Shepherd Lutheran Church - ECPv6.15.13//NONSGML v1.0//EN
CALSCALE:GREGORIAN
METHOD:PUBLISH
X-WR-CALNAME:Good Shepherd Lutheran Church
X-ORIGINAL-URL:https://www.goodshepherdblm.org
X-WR-CALDESC:Events for Good Shepherd Lutheran Church
REFRESH-INTERVAL;VALUE=DURATION:PT1H
X-Robots-Tag:noindex
X-PUBLISHED-TTL:PT1H
BEGIN:VTIMEZONE
TZID:America/Chicago
BEGIN:DAYLIGHT
TZOFFSETFROM:-0600
TZOFFSETTO:-0500
TZNAME:CDT
DTSTART:20180311T080000
END:DAYLIGHT
BEGIN:STANDARD
TZOFFSETFROM:-0500
TZOFFSETTO:-0600
TZNAME:CST
DTSTART:20181104T070000
END:STANDARD
BEGIN:DAYLIGHT
TZOFFSETFROM:-0600
TZOFFSETTO:-0500
TZNAME:CDT
DTSTART:20190310T080000
END:DAYLIGHT
BEGIN:STANDARD
TZOFFSETFROM:-0500
TZOFFSETTO:-0600
TZNAME:CST
DTSTART:20191103T070000
END:STANDARD
BEGIN:DAYLIGHT
TZOFFSETFROM:-0600
TZOFFSETTO:-0500
TZNAME:CDT
DTSTART:20200308T080000
END:DAYLIGHT
BEGIN:STANDARD
TZOFFSETFROM:-0500
TZOFFSETTO:-0600
TZNAME:CST
DTSTART:20201101T070000
END:STANDARD
BEGIN:DAYLIGHT
TZOFFSETFROM:-0600
TZOFFSETTO:-0500
TZNAME:CDT
DTSTART:20210314T080000
END:DAYLIGHT
BEGIN:STANDARD
TZOFFSETFROM:-0500
TZOFFSETTO:-0600
TZNAME:CST
DTSTART:20211107T070000
END:STANDARD
BEGIN:DAYLIGHT
TZOFFSETFROM:-0600
TZOFFSETTO:-0500
TZNAME:CDT
DTSTART:20220313T080000
END:DAYLIGHT
BEGIN:STANDARD
TZOFFSETFROM:-0500
TZOFFSETTO:-0600
TZNAME:CST
DTSTART:20221106T070000
END:STANDARD
BEGIN:DAYLIGHT
TZOFFSETFROM:-0600
TZOFFSETTO:-0500
TZNAME:CDT
DTSTART:20230312T080000
END:DAYLIGHT
BEGIN:STANDARD
TZOFFSETFROM:-0500
TZOFFSETTO:-0600
TZNAME:CST
DTSTART:20231105T070000
END:STANDARD
END:VTIMEZONE
BEGIN:VTIMEZONE
TZID:America/New_York
BEGIN:DAYLIGHT
TZOFFSETFROM:-0500
TZOFFSETTO:-0400
TZNAME:EDT
DTSTART:20170312T070000
END:DAYLIGHT
BEGIN:STANDARD
TZOFFSETFROM:-0400
TZOFFSETTO:-0500
TZNAME:EST
DTSTART:20171105T060000
END:STANDARD
BEGIN:DAYLIGHT
TZOFFSETFROM:-0500
TZOFFSETTO:-0400
TZNAME:EDT
DTSTART:20180311T070000
END:DAYLIGHT
BEGIN:STANDARD
TZOFFSETFROM:-0400
TZOFFSETTO:-0500
TZNAME:EST
DTSTART:20181104T060000
END:STANDARD
BEGIN:DAYLIGHT
TZOFFSETFROM:-0500
TZOFFSETTO:-0400
TZNAME:EDT
DTSTART:20190310T070000
END:DAYLIGHT
BEGIN:STANDARD
TZOFFSETFROM:-0400
TZOFFSETTO:-0500
TZNAME:EST
DTSTART:20191103T060000
END:STANDARD
BEGIN:DAYLIGHT
TZOFFSETFROM:-0500
TZOFFSETTO:-0400
TZNAME:EDT
DTSTART:20200308T070000
END:DAYLIGHT
BEGIN:STANDARD
TZOFFSETFROM:-0400
TZOFFSETTO:-0500
TZNAME:EST
DTSTART:20201101T060000
END:STANDARD
END:VTIMEZONE
BEGIN:VEVENT
DTSTART;TZID=America/Chicago:20220309T173000
DTEND;TZID=America/Chicago:20220309T173000
DTSTAMP:20260424T065822
CREATED:20220303T003115Z
LAST-MODIFIED:20220303T003115Z
UID:8764-1646847000-1646847000@www.goodshepherdblm.org
SUMMARY:Lenten Meal
DESCRIPTION:
URL:https://www.goodshepherdblm.org/event/lenten-meal-7/
LOCATION:Good Shepherd Lutheran Church\, 3516 White Eagle Drive\, Bloomington\, IL\, 61704\, United States
CATEGORIES:Lenten Supper
END:VEVENT
BEGIN:VEVENT
DTSTART;TZID=America/Chicago:20211215T173000
DTEND;TZID=America/Chicago:20211215T173000
DTSTAMP:20260424T065822
CREATED:20220112T171412Z
LAST-MODIFIED:20220112T171412Z
UID:8637-1639589400-1639589400@www.goodshepherdblm.org
SUMMARY:Advent Supper
DESCRIPTION:
URL:https://www.goodshepherdblm.org/event/advent-supper-16/
LOCATION:Good Shepherd Lutheran Church\, 3516 White Eagle Drive\, Bloomington\, IL\, 61704\, United States
CATEGORIES:Advent Supper
END:VEVENT
BEGIN:VEVENT
DTSTART;TZID=America/Chicago:20211208T173000
DTEND;TZID=America/Chicago:20211208T173000
DTSTAMP:20260424T065822
CREATED:20220112T171158Z
LAST-MODIFIED:20220112T171158Z
UID:8632-1638984600-1638984600@www.goodshepherdblm.org
SUMMARY:Advent Supper
DESCRIPTION:
URL:https://www.goodshepherdblm.org/event/advent-supper-15/
LOCATION:Good Shepherd Lutheran Church\, 3516 White Eagle Drive\, Bloomington\, IL\, 61704\, United States
CATEGORIES:Advent Supper
END:VEVENT
BEGIN:VEVENT
DTSTART;TZID=America/Chicago:20211201T173000
DTEND;TZID=America/Chicago:20211201T173000
DTSTAMP:20260424T065822
CREATED:20220112T170933Z
LAST-MODIFIED:20220112T170933Z
UID:8628-1638379800-1638379800@www.goodshepherdblm.org
SUMMARY:Advent Supper
DESCRIPTION:
URL:https://www.goodshepherdblm.org/event/advent-supper-14/
LOCATION:Good Shepherd Lutheran Church\, 3516 White Eagle Drive\, Bloomington\, IL\, 61704\, United States
CATEGORIES:Advent Supper
END:VEVENT
BEGIN:VEVENT
DTSTART;TZID=America/Chicago:20211016T180000
DTEND;TZID=America/Chicago:20211016T180000
DTSTAMP:20260424T065822
CREATED:20210930T163044Z
LAST-MODIFIED:20210930T163044Z
UID:8436-1634407200-1634407200@www.goodshepherdblm.org
SUMMARY:International House Neighbors Night
DESCRIPTION:
URL:https://www.goodshepherdblm.org/event/international-house-neighbors-night/
LOCATION:Wittenberg Lutheran Center\, ISU Campus\, NOrmal\, IL\, United States
CATEGORIES:International House Dinner
END:VEVENT
BEGIN:VEVENT
DTSTART;TZID=America/Chicago:20201108T100000
DTEND;TZID=America/Chicago:20201108T100000
DTSTAMP:20260424T065822
CREATED:20201103T044622Z
LAST-MODIFIED:20201103T044622Z
UID:8005-1604829600-1604829600@www.goodshepherdblm.org
SUMMARY:Annual Voters’ Meeting (following Worship)
DESCRIPTION:
URL:https://www.goodshepherdblm.org/event/annual-voters-meeting-following-worship/
LOCATION:Good Shepherd Lutheran Church\, 3516 White Eagle Drive\, Bloomington\, IL\, 61704\, United States
CATEGORIES:Annual Voters' Meeting
END:VEVENT
BEGIN:VEVENT
DTSTART;TZID=America/Chicago:20200325T173000
DTEND;TZID=America/Chicago:20200325T183000
DTSTAMP:20260424T065822
CREATED:20200303T175307Z
LAST-MODIFIED:20200303T175307Z
UID:7058-1585157400-1585161000@www.goodshepherdblm.org
SUMMARY:Lenten Supper
DESCRIPTION:
URL:https://www.goodshepherdblm.org/event/lenten-supper-18/
LOCATION:Good Shepherd Lutheran Church\, 3516 White Eagle Drive\, Bloomington\, IL\, 61704\, United States
CATEGORIES:Lenten Supper
END:VEVENT
BEGIN:VEVENT
DTSTART;TZID=America/Chicago:20200318T173000
DTEND;TZID=America/Chicago:20200318T183000
DTSTAMP:20260424T065822
CREATED:20200303T174849Z
LAST-MODIFIED:20200303T174849Z
UID:7052-1584552600-1584556200@www.goodshepherdblm.org
SUMMARY:Lenten Supper
DESCRIPTION:
URL:https://www.goodshepherdblm.org/event/lenten-supper-17/
LOCATION:Good Shepherd Lutheran Church\, 3516 White Eagle Drive\, Bloomington\, IL\, 61704\, United States
CATEGORIES:Lenten Supper
END:VEVENT
BEGIN:VEVENT
DTSTART;TZID=America/Chicago:20200311T173000
DTEND;TZID=America/Chicago:20200311T183000
DTSTAMP:20260424T065822
CREATED:20200303T173728Z
LAST-MODIFIED:20200303T173728Z
UID:7040-1583947800-1583951400@www.goodshepherdblm.org
SUMMARY:Lenten Supper
DESCRIPTION:
URL:https://www.goodshepherdblm.org/event/lenten-supper-16/
LOCATION:Good Shepherd Lutheran Church\, 3516 White Eagle Drive\, Bloomington\, IL\, 61704\, United States
CATEGORIES:Lenten Supper
END:VEVENT
BEGIN:VEVENT
DTSTART;TZID=America/Chicago:20200304T173000
DTEND;TZID=America/Chicago:20200304T183000
DTSTAMP:20260424T065822
CREATED:20200303T172653Z
LAST-MODIFIED:20200303T172653Z
UID:7026-1583343000-1583346600@www.goodshepherdblm.org
SUMMARY:Lenten Supper
DESCRIPTION:
URL:https://www.goodshepherdblm.org/event/lenten-supper-15/
LOCATION:Good Shepherd Lutheran Church\, 3516 White Eagle Drive\, Bloomington\, IL\, 61704\, United States
CATEGORIES:Lenten Supper
END:VEVENT
BEGIN:VEVENT
DTSTART;TZID=America/Chicago:20191218T173000
DTEND;TZID=America/Chicago:20191218T183000
DTSTAMP:20260424T065822
CREATED:20191125T160514Z
LAST-MODIFIED:20191125T160514Z
UID:6378-1576690200-1576693800@www.goodshepherdblm.org
SUMMARY:Advent Meal
DESCRIPTION:
URL:https://www.goodshepherdblm.org/event/advent-meal-3/
LOCATION:Good Shepherd Lutheran Church\, 3516 White Eagle Drive\, Bloomington\, IL\, 61704\, United States
CATEGORIES:Advent Supper
END:VEVENT
BEGIN:VEVENT
DTSTART;TZID=America/Chicago:20191211T173000
DTEND;TZID=America/Chicago:20191211T183000
DTSTAMP:20260424T065822
CREATED:20191125T160246Z
LAST-MODIFIED:20191125T160246Z
UID:6372-1576085400-1576089000@www.goodshepherdblm.org
SUMMARY:Advent Meal
DESCRIPTION:
URL:https://www.goodshepherdblm.org/event/advent-meal-2/
LOCATION:Good Shepherd Lutheran Church\, 3516 White Eagle Drive\, Bloomington\, IL\, 61704\, United States
CATEGORIES:Advent Supper
END:VEVENT
BEGIN:VEVENT
DTSTART;TZID=America/Chicago:20191204T173000
DTEND;TZID=America/Chicago:20191204T183000
DTSTAMP:20260424T065822
CREATED:20191125T155639Z
LAST-MODIFIED:20191125T155639Z
UID:6360-1575480600-1575484200@www.goodshepherdblm.org
SUMMARY:Advent Meal
DESCRIPTION:
URL:https://www.goodshepherdblm.org/event/advent-meal/
LOCATION:Good Shepherd Lutheran Church\, 3516 White Eagle Drive\, Bloomington\, IL\, 61704\, United States
CATEGORIES:Advent Supper
END:VEVENT
BEGIN:VEVENT
DTSTART;TZID=America/Chicago:20191116T183000
DTEND;TZID=America/Chicago:20191116T183000
DTSTAMP:20260424T065822
CREATED:20191024T143951Z
LAST-MODIFIED:20191024T150641Z
UID:6267-1573929000-1573929000@www.goodshepherdblm.org
SUMMARY:International Students
DESCRIPTION:Good Shepherd serving Thanksgiving meal at Wittenberg Center
URL:https://www.goodshepherdblm.org/event/international-students/
LOCATION:Wittenberg Lutheran Center\, ISU Campus\, NOrmal\, IL\, United States
CATEGORIES:International House Dinner
END:VEVENT
BEGIN:VEVENT
DTSTART;TZID=America/Chicago:20191102T140000
DTEND;TZID=America/Chicago:20191102T180000
DTSTAMP:20260424T065822
CREATED:20191024T142744Z
LAST-MODIFIED:20191024T150556Z
UID:6253-1572703200-1572717600@www.goodshepherdblm.org
SUMMARY:Home Sweet Home Mission
DESCRIPTION:Annual Thanksgiving Dinner – Good Shepherd to serve meal at Home Sweet Home Mission
URL:https://www.goodshepherdblm.org/event/home-sweet-home-mission-2/
LOCATION:Home Sweet Home Mission\, Bloomington\, IL\, 61701\, United States
CATEGORIES:Home Sweet Home Dinner
END:VEVENT
BEGIN:VEVENT
DTSTART;TZID=America/New_York:20190421T081500
DTEND;TZID=America/New_York:20190421T081500
DTSTAMP:20260424T065822
CREATED:20190329T164745Z
LAST-MODIFIED:20190329T164745Z
UID:5689-1555834500-1555834500@www.goodshepherdblm.org
SUMMARY:Easter Breakfast
DESCRIPTION:
URL:https://www.goodshepherdblm.org/event/easter-breakfast-5/
LOCATION:Good Shepherd Lutheran Church\, 3516 White Eagle Drive\, Bloomington\, IL\, 61704\, United States
CATEGORIES:Easter Breakfast
END:VEVENT
BEGIN:VEVENT
DTSTART;TZID=America/New_York:20190410T173000
DTEND;TZID=America/New_York:20190410T173000
DTSTAMP:20260424T065822
CREATED:20190329T162459Z
LAST-MODIFIED:20190329T162459Z
UID:5664-1554917400-1554917400@www.goodshepherdblm.org
SUMMARY:Lenten Meal
DESCRIPTION:
URL:https://www.goodshepherdblm.org/event/lenten-meal-6/
LOCATION:Good Shepherd Lutheran Church\, 3516 White Eagle Drive\, Bloomington\, IL\, 61704\, United States
CATEGORIES:Lenten Supper
END:VEVENT
BEGIN:VEVENT
DTSTART;TZID=America/New_York:20190403T173000
DTEND;TZID=America/New_York:20190403T173000
DTSTAMP:20260424T065822
CREATED:20190329T161753Z
LAST-MODIFIED:20190329T161753Z
UID:5650-1554312600-1554312600@www.goodshepherdblm.org
SUMMARY:Lenten Meal
DESCRIPTION:
URL:https://www.goodshepherdblm.org/event/lenten-meal-5/
LOCATION:Good Shepherd Lutheran Church\, 3516 White Eagle Drive\, Bloomington\, IL\, 61704\, United States
CATEGORIES:Lenten Supper
END:VEVENT
BEGIN:VEVENT
DTSTART;TZID=America/New_York:20190327T173000
DTEND;TZID=America/New_York:20190327T173000
DTSTAMP:20260424T065822
CREATED:20190225T192142Z
LAST-MODIFIED:20190225T192142Z
UID:5551-1553707800-1553707800@www.goodshepherdblm.org
SUMMARY:Lenten Evening Meal
DESCRIPTION:
URL:https://www.goodshepherdblm.org/event/lenten-evening-meal-3/
LOCATION:Good Shepherd Lutheran Church\, 3516 White Eagle Drive\, Bloomington\, IL\, 61704\, United States
CATEGORIES:Lenten Supper
END:VEVENT
BEGIN:VEVENT
DTSTART;TZID=America/New_York:20190320T173000
DTEND;TZID=America/New_York:20190320T173000
DTSTAMP:20260424T065822
CREATED:20190225T190601Z
LAST-MODIFIED:20190225T190601Z
UID:5543-1553103000-1553103000@www.goodshepherdblm.org
SUMMARY:Lenten Evening Meal
DESCRIPTION:
URL:https://www.goodshepherdblm.org/event/lenten-evening-meal-2/
LOCATION:Good Shepherd Lutheran Church\, 3516 White Eagle Drive\, Bloomington\, IL\, 61704\, United States
CATEGORIES:Lenten Supper
END:VEVENT
BEGIN:VEVENT
DTSTART;TZID=America/New_York:20190313T173000
DTEND;TZID=America/New_York:20190313T173000
DTSTAMP:20260424T065822
CREATED:20190225T185333Z
LAST-MODIFIED:20190225T185333Z
UID:5533-1552498200-1552498200@www.goodshepherdblm.org
SUMMARY:Lenten Evening Meal
DESCRIPTION:
URL:https://www.goodshepherdblm.org/event/lenten-evening-meal/
LOCATION:Good Shepherd Lutheran Church\, 3516 White Eagle Drive\, Bloomington\, IL\, 61704\, United States
CATEGORIES:Lenten Supper
END:VEVENT
BEGIN:VEVENT
DTSTART;TZID=America/New_York:20181219T173000
DTEND;TZID=America/New_York:20181219T173000
DTSTAMP:20260424T065822
CREATED:20181206T070222Z
LAST-MODIFIED:20181206T070222Z
UID:5116-1545240600-1545240600@www.goodshepherdblm.org
SUMMARY:Advent Supper
DESCRIPTION:
URL:https://www.goodshepherdblm.org/event/advent-supper-13/
LOCATION:Good Shepherd Lutheran Church\, 3516 White Eagle Drive\, Bloomington\, IL\, 61704\, United States
CATEGORIES:Advent Supper
END:VEVENT
BEGIN:VEVENT
DTSTART;TZID=America/New_York:20181212T173000
DTEND;TZID=America/New_York:20181212T173000
DTSTAMP:20260424T065822
CREATED:20181206T065826Z
LAST-MODIFIED:20181206T065826Z
UID:5110-1544635800-1544635800@www.goodshepherdblm.org
SUMMARY:Advent Supper
DESCRIPTION:
URL:https://www.goodshepherdblm.org/event/advent-supper-12/
LOCATION:Good Shepherd Lutheran Church\, 3516 White Eagle Drive\, Bloomington\, IL\, 61704\, United States
CATEGORIES:Advent Supper
END:VEVENT
BEGIN:VEVENT
DTSTART;TZID=America/New_York:20181205T173000
DTEND;TZID=America/New_York:20181205T173000
DTSTAMP:20260424T065822
CREATED:20181206T065558Z
LAST-MODIFIED:20181206T065558Z
UID:5104-1544031000-1544031000@www.goodshepherdblm.org
SUMMARY:Advent Supper
DESCRIPTION:
URL:https://www.goodshepherdblm.org/event/advent-supper-11/
LOCATION:Good Shepherd Lutheran Church\, 3516 White Eagle Drive\, Bloomington\, IL\, 61704\, United States
CATEGORIES:Advent Supper
END:VEVENT
BEGIN:VEVENT
DTSTART;TZID=America/New_York:20181111T120000
DTEND;TZID=America/New_York:20181111T120000
DTSTAMP:20260424T065822
CREATED:20181031T152528Z
LAST-MODIFIED:20181031T152528Z
UID:5015-1541937600-1541937600@www.goodshepherdblm.org
SUMMARY:Potluck Dinner
DESCRIPTION:
URL:https://www.goodshepherdblm.org/event/potluck-dinner/
LOCATION:Good Shepherd Lutheran Church\, 3516 White Eagle Drive\, Bloomington\, IL\, 61704\, United States
CATEGORIES:Annual Voters' Meeting
END:VEVENT
BEGIN:VEVENT
DTSTART;TZID=America/New_York:20180420T183000
DTEND;TZID=America/New_York:20180420T200000
DTSTAMP:20260424T065822
CREATED:20180326T215519Z
LAST-MODIFIED:20180326T215519Z
UID:4447-1524249000-1524254400@www.goodshepherdblm.org
SUMMARY:International House Dinner
DESCRIPTION:
URL:https://www.goodshepherdblm.org/event/international-house-dinner/
LOCATION:ISU International House\, Normal\, IL
CATEGORIES:International House Dinner
END:VEVENT
BEGIN:VEVENT
DTSTART;TZID=America/New_York:20180401T081500
DTEND;TZID=America/New_York:20180401T091500
DTSTAMP:20260424T065822
CREATED:20180326T180624Z
LAST-MODIFIED:20180326T180624Z
UID:4407-1522570500-1522574100@www.goodshepherdblm.org
SUMMARY:Easter Breakfast
DESCRIPTION:
URL:https://www.goodshepherdblm.org/event/easter-breakfast-4/
LOCATION:Good Shepherd Lutheran Church\, 3516 White Eagle Drive\, Bloomington\, IL\, 61704\, United States
CATEGORIES:Easter Breakfast
END:VEVENT
BEGIN:VEVENT
DTSTART;TZID=America/New_York:20180321T173000
DTEND;TZID=America/New_York:20180321T183000
DTSTAMP:20260424T065822
CREATED:20180303T031305Z
LAST-MODIFIED:20180303T031305Z
UID:4326-1521653400-1521657000@www.goodshepherdblm.org
SUMMARY:Lenten Meal
DESCRIPTION:
URL:https://www.goodshepherdblm.org/event/lenten-meal-4/
LOCATION:Good Shepherd Lutheran Church\, 3516 White Eagle Drive\, Bloomington\, IL\, 61704\, United States
CATEGORIES:Lenten Supper
END:VEVENT
BEGIN:VEVENT
DTSTART;TZID=America/New_York:20180314T173000
DTEND;TZID=America/New_York:20180314T183000
DTSTAMP:20260424T065822
CREATED:20180303T031223Z
LAST-MODIFIED:20180303T031223Z
UID:4324-1521048600-1521052200@www.goodshepherdblm.org
SUMMARY:Lenten Meal
DESCRIPTION:
URL:https://www.goodshepherdblm.org/event/lenten-meal-3/
LOCATION:Good Shepherd Lutheran Church\, 3516 White Eagle Drive\, Bloomington\, IL\, 61704\, United States
CATEGORIES:Lenten Supper
END:VEVENT
BEGIN:VEVENT
DTSTART;TZID=America/New_York:20180307T173000
DTEND;TZID=America/New_York:20180307T183000
DTSTAMP:20260424T065822
CREATED:20180303T031132Z
LAST-MODIFIED:20180303T031132Z
UID:4322-1520443800-1520447400@www.goodshepherdblm.org
SUMMARY:Lenten Meal
DESCRIPTION:
URL:https://www.goodshepherdblm.org/event/lenten-meal-2/
LOCATION:Good Shepherd Lutheran Church\, 3516 White Eagle Drive\, Bloomington\, IL\, 61704\, United States
CATEGORIES:Lenten Supper
END:VEVENT
END:VCALENDAR