BEGIN:VCALENDAR
VERSION:2.0
PRODID:-//Good Shepherd Lutheran Church - ECPv6.15.13//NONSGML v1.0//EN
CALSCALE:GREGORIAN
METHOD:PUBLISH
X-WR-CALNAME:Good Shepherd Lutheran Church
X-ORIGINAL-URL:https://www.goodshepherdblm.org
X-WR-CALDESC:Events for Good Shepherd Lutheran Church
REFRESH-INTERVAL;VALUE=DURATION:PT1H
X-Robots-Tag:noindex
X-PUBLISHED-TTL:PT1H
BEGIN:VTIMEZONE
TZID:America/Chicago
BEGIN:DAYLIGHT
TZOFFSETFROM:-0600
TZOFFSETTO:-0500
TZNAME:CDT
DTSTART:20140309T080000
END:DAYLIGHT
BEGIN:STANDARD
TZOFFSETFROM:-0500
TZOFFSETTO:-0600
TZNAME:CST
DTSTART:20141102T070000
END:STANDARD
BEGIN:DAYLIGHT
TZOFFSETFROM:-0600
TZOFFSETTO:-0500
TZNAME:CDT
DTSTART:20150308T080000
END:DAYLIGHT
BEGIN:STANDARD
TZOFFSETFROM:-0500
TZOFFSETTO:-0600
TZNAME:CST
DTSTART:20151101T070000
END:STANDARD
BEGIN:DAYLIGHT
TZOFFSETFROM:-0600
TZOFFSETTO:-0500
TZNAME:CDT
DTSTART:20160313T080000
END:DAYLIGHT
BEGIN:STANDARD
TZOFFSETFROM:-0500
TZOFFSETTO:-0600
TZNAME:CST
DTSTART:20161106T070000
END:STANDARD
BEGIN:DAYLIGHT
TZOFFSETFROM:-0600
TZOFFSETTO:-0500
TZNAME:CDT
DTSTART:20170312T080000
END:DAYLIGHT
BEGIN:STANDARD
TZOFFSETFROM:-0500
TZOFFSETTO:-0600
TZNAME:CST
DTSTART:20171105T070000
END:STANDARD
BEGIN:DAYLIGHT
TZOFFSETFROM:-0600
TZOFFSETTO:-0500
TZNAME:CDT
DTSTART:20180311T080000
END:DAYLIGHT
BEGIN:STANDARD
TZOFFSETFROM:-0500
TZOFFSETTO:-0600
TZNAME:CST
DTSTART:20181104T070000
END:STANDARD
BEGIN:DAYLIGHT
TZOFFSETFROM:-0600
TZOFFSETTO:-0500
TZNAME:CDT
DTSTART:20190310T080000
END:DAYLIGHT
BEGIN:STANDARD
TZOFFSETFROM:-0500
TZOFFSETTO:-0600
TZNAME:CST
DTSTART:20191103T070000
END:STANDARD
BEGIN:DAYLIGHT
TZOFFSETFROM:-0600
TZOFFSETTO:-0500
TZNAME:CDT
DTSTART:20200308T080000
END:DAYLIGHT
BEGIN:STANDARD
TZOFFSETFROM:-0500
TZOFFSETTO:-0600
TZNAME:CST
DTSTART:20201101T070000
END:STANDARD
BEGIN:DAYLIGHT
TZOFFSETFROM:-0600
TZOFFSETTO:-0500
TZNAME:CDT
DTSTART:20210314T080000
END:DAYLIGHT
BEGIN:STANDARD
TZOFFSETFROM:-0500
TZOFFSETTO:-0600
TZNAME:CST
DTSTART:20211107T070000
END:STANDARD
BEGIN:DAYLIGHT
TZOFFSETFROM:-0600
TZOFFSETTO:-0500
TZNAME:CDT
DTSTART:20220313T080000
END:DAYLIGHT
BEGIN:STANDARD
TZOFFSETFROM:-0500
TZOFFSETTO:-0600
TZNAME:CST
DTSTART:20221106T070000
END:STANDARD
BEGIN:DAYLIGHT
TZOFFSETFROM:-0600
TZOFFSETTO:-0500
TZNAME:CDT
DTSTART:20230312T080000
END:DAYLIGHT
BEGIN:STANDARD
TZOFFSETFROM:-0500
TZOFFSETTO:-0600
TZNAME:CST
DTSTART:20231105T070000
END:STANDARD
END:VTIMEZONE
BEGIN:VTIMEZONE
TZID:America/New_York
BEGIN:DAYLIGHT
TZOFFSETFROM:-0500
TZOFFSETTO:-0400
TZNAME:EDT
DTSTART:20150308T070000
END:DAYLIGHT
BEGIN:STANDARD
TZOFFSETFROM:-0400
TZOFFSETTO:-0500
TZNAME:EST
DTSTART:20151101T060000
END:STANDARD
BEGIN:DAYLIGHT
TZOFFSETFROM:-0500
TZOFFSETTO:-0400
TZNAME:EDT
DTSTART:20160313T070000
END:DAYLIGHT
BEGIN:STANDARD
TZOFFSETFROM:-0400
TZOFFSETTO:-0500
TZNAME:EST
DTSTART:20161106T060000
END:STANDARD
BEGIN:DAYLIGHT
TZOFFSETFROM:-0500
TZOFFSETTO:-0400
TZNAME:EDT
DTSTART:20170312T070000
END:DAYLIGHT
BEGIN:STANDARD
TZOFFSETFROM:-0400
TZOFFSETTO:-0500
TZNAME:EST
DTSTART:20171105T060000
END:STANDARD
BEGIN:DAYLIGHT
TZOFFSETFROM:-0500
TZOFFSETTO:-0400
TZNAME:EDT
DTSTART:20180311T070000
END:DAYLIGHT
BEGIN:STANDARD
TZOFFSETFROM:-0400
TZOFFSETTO:-0500
TZNAME:EST
DTSTART:20181104T060000
END:STANDARD
BEGIN:DAYLIGHT
TZOFFSETFROM:-0500
TZOFFSETTO:-0400
TZNAME:EDT
DTSTART:20190310T070000
END:DAYLIGHT
BEGIN:STANDARD
TZOFFSETFROM:-0400
TZOFFSETTO:-0500
TZNAME:EST
DTSTART:20191103T060000
END:STANDARD
BEGIN:DAYLIGHT
TZOFFSETFROM:-0500
TZOFFSETTO:-0400
TZNAME:EDT
DTSTART:20200308T070000
END:DAYLIGHT
BEGIN:STANDARD
TZOFFSETFROM:-0400
TZOFFSETTO:-0500
TZNAME:EST
DTSTART:20201101T060000
END:STANDARD
END:VTIMEZONE
BEGIN:VEVENT
DTSTART;TZID=America/Chicago:20220406T173000
DTEND;TZID=America/Chicago:20220406T173000
DTSTAMP:20260424T055710
CREATED:20220404T020351Z
LAST-MODIFIED:20220404T020351Z
UID:8842-1649266200-1649266200@www.goodshepherdblm.org
SUMMARY:Lenten Meal
DESCRIPTION:
URL:https://www.goodshepherdblm.org/event/lenten-meal-11/
LOCATION:Good Shepherd Lutheran Church\, 3516 White Eagle Drive\, Bloomington\, IL\, 61704\, United States
CATEGORIES:Lenten Supper
END:VEVENT
BEGIN:VEVENT
DTSTART;TZID=America/Chicago:20220330T173000
DTEND;TZID=America/Chicago:20220330T173000
DTSTAMP:20260424T055710
CREATED:20220303T013914Z
LAST-MODIFIED:20220303T013914Z
UID:8800-1648661400-1648661400@www.goodshepherdblm.org
SUMMARY:Lenten Meal
DESCRIPTION:
URL:https://www.goodshepherdblm.org/event/lenten-meal-10/
LOCATION:Good Shepherd Lutheran Church\, 3516 White Eagle Drive\, Bloomington\, IL\, 61704\, United States
CATEGORIES:Lenten Supper
END:VEVENT
BEGIN:VEVENT
DTSTART;TZID=America/Chicago:20220323T173000
DTEND;TZID=America/Chicago:20220323T173000
DTSTAMP:20260424T055710
CREATED:20220303T005210Z
LAST-MODIFIED:20220303T005210Z
UID:8788-1648056600-1648056600@www.goodshepherdblm.org
SUMMARY:Lenten Meal
DESCRIPTION:
URL:https://www.goodshepherdblm.org/event/lenten-meal-9/
LOCATION:Good Shepherd Lutheran Church\, 3516 White Eagle Drive\, Bloomington\, IL\, 61704\, United States
CATEGORIES:Lenten Supper
END:VEVENT
BEGIN:VEVENT
DTSTART;TZID=America/Chicago:20220316T173000
DTEND;TZID=America/Chicago:20220316T173000
DTSTAMP:20260424T055710
CREATED:20220303T004439Z
LAST-MODIFIED:20220303T004439Z
UID:8780-1647451800-1647451800@www.goodshepherdblm.org
SUMMARY:Lenten Meal
DESCRIPTION:
URL:https://www.goodshepherdblm.org/event/lenten-meal-8/
LOCATION:Good Shepherd Lutheran Church\, 3516 White Eagle Drive\, Bloomington\, IL\, 61704\, United States
CATEGORIES:Lenten Supper
END:VEVENT
BEGIN:VEVENT
DTSTART;TZID=America/Chicago:20220309T173000
DTEND;TZID=America/Chicago:20220309T173000
DTSTAMP:20260424T055710
CREATED:20220303T003115Z
LAST-MODIFIED:20220303T003115Z
UID:8764-1646847000-1646847000@www.goodshepherdblm.org
SUMMARY:Lenten Meal
DESCRIPTION:
URL:https://www.goodshepherdblm.org/event/lenten-meal-7/
LOCATION:Good Shepherd Lutheran Church\, 3516 White Eagle Drive\, Bloomington\, IL\, 61704\, United States
CATEGORIES:Lenten Supper
END:VEVENT
BEGIN:VEVENT
DTSTART;TZID=America/Chicago:20200325T173000
DTEND;TZID=America/Chicago:20200325T183000
DTSTAMP:20260424T055710
CREATED:20200303T175307Z
LAST-MODIFIED:20200303T175307Z
UID:7058-1585157400-1585161000@www.goodshepherdblm.org
SUMMARY:Lenten Supper
DESCRIPTION:
URL:https://www.goodshepherdblm.org/event/lenten-supper-18/
LOCATION:Good Shepherd Lutheran Church\, 3516 White Eagle Drive\, Bloomington\, IL\, 61704\, United States
CATEGORIES:Lenten Supper
END:VEVENT
BEGIN:VEVENT
DTSTART;TZID=America/Chicago:20200318T173000
DTEND;TZID=America/Chicago:20200318T183000
DTSTAMP:20260424T055710
CREATED:20200303T174849Z
LAST-MODIFIED:20200303T174849Z
UID:7052-1584552600-1584556200@www.goodshepherdblm.org
SUMMARY:Lenten Supper
DESCRIPTION:
URL:https://www.goodshepherdblm.org/event/lenten-supper-17/
LOCATION:Good Shepherd Lutheran Church\, 3516 White Eagle Drive\, Bloomington\, IL\, 61704\, United States
CATEGORIES:Lenten Supper
END:VEVENT
BEGIN:VEVENT
DTSTART;TZID=America/Chicago:20200311T173000
DTEND;TZID=America/Chicago:20200311T183000
DTSTAMP:20260424T055710
CREATED:20200303T173728Z
LAST-MODIFIED:20200303T173728Z
UID:7040-1583947800-1583951400@www.goodshepherdblm.org
SUMMARY:Lenten Supper
DESCRIPTION:
URL:https://www.goodshepherdblm.org/event/lenten-supper-16/
LOCATION:Good Shepherd Lutheran Church\, 3516 White Eagle Drive\, Bloomington\, IL\, 61704\, United States
CATEGORIES:Lenten Supper
END:VEVENT
BEGIN:VEVENT
DTSTART;TZID=America/Chicago:20200304T173000
DTEND;TZID=America/Chicago:20200304T183000
DTSTAMP:20260424T055710
CREATED:20200303T172653Z
LAST-MODIFIED:20200303T172653Z
UID:7026-1583343000-1583346600@www.goodshepherdblm.org
SUMMARY:Lenten Supper
DESCRIPTION:
URL:https://www.goodshepherdblm.org/event/lenten-supper-15/
LOCATION:Good Shepherd Lutheran Church\, 3516 White Eagle Drive\, Bloomington\, IL\, 61704\, United States
CATEGORIES:Lenten Supper
END:VEVENT
BEGIN:VEVENT
DTSTART;TZID=America/New_York:20190410T173000
DTEND;TZID=America/New_York:20190410T173000
DTSTAMP:20260424T055710
CREATED:20190329T162459Z
LAST-MODIFIED:20190329T162459Z
UID:5664-1554917400-1554917400@www.goodshepherdblm.org
SUMMARY:Lenten Meal
DESCRIPTION:
URL:https://www.goodshepherdblm.org/event/lenten-meal-6/
LOCATION:Good Shepherd Lutheran Church\, 3516 White Eagle Drive\, Bloomington\, IL\, 61704\, United States
CATEGORIES:Lenten Supper
END:VEVENT
BEGIN:VEVENT
DTSTART;TZID=America/New_York:20190403T173000
DTEND;TZID=America/New_York:20190403T173000
DTSTAMP:20260424T055710
CREATED:20190329T161753Z
LAST-MODIFIED:20190329T161753Z
UID:5650-1554312600-1554312600@www.goodshepherdblm.org
SUMMARY:Lenten Meal
DESCRIPTION:
URL:https://www.goodshepherdblm.org/event/lenten-meal-5/
LOCATION:Good Shepherd Lutheran Church\, 3516 White Eagle Drive\, Bloomington\, IL\, 61704\, United States
CATEGORIES:Lenten Supper
END:VEVENT
BEGIN:VEVENT
DTSTART;TZID=America/New_York:20190327T173000
DTEND;TZID=America/New_York:20190327T173000
DTSTAMP:20260424T055710
CREATED:20190225T192142Z
LAST-MODIFIED:20190225T192142Z
UID:5551-1553707800-1553707800@www.goodshepherdblm.org
SUMMARY:Lenten Evening Meal
DESCRIPTION:
URL:https://www.goodshepherdblm.org/event/lenten-evening-meal-3/
LOCATION:Good Shepherd Lutheran Church\, 3516 White Eagle Drive\, Bloomington\, IL\, 61704\, United States
CATEGORIES:Lenten Supper
END:VEVENT
BEGIN:VEVENT
DTSTART;TZID=America/New_York:20190320T173000
DTEND;TZID=America/New_York:20190320T173000
DTSTAMP:20260424T055710
CREATED:20190225T190601Z
LAST-MODIFIED:20190225T190601Z
UID:5543-1553103000-1553103000@www.goodshepherdblm.org
SUMMARY:Lenten Evening Meal
DESCRIPTION:
URL:https://www.goodshepherdblm.org/event/lenten-evening-meal-2/
LOCATION:Good Shepherd Lutheran Church\, 3516 White Eagle Drive\, Bloomington\, IL\, 61704\, United States
CATEGORIES:Lenten Supper
END:VEVENT
BEGIN:VEVENT
DTSTART;TZID=America/New_York:20190313T173000
DTEND;TZID=America/New_York:20190313T173000
DTSTAMP:20260424T055710
CREATED:20190225T185333Z
LAST-MODIFIED:20190225T185333Z
UID:5533-1552498200-1552498200@www.goodshepherdblm.org
SUMMARY:Lenten Evening Meal
DESCRIPTION:
URL:https://www.goodshepherdblm.org/event/lenten-evening-meal/
LOCATION:Good Shepherd Lutheran Church\, 3516 White Eagle Drive\, Bloomington\, IL\, 61704\, United States
CATEGORIES:Lenten Supper
END:VEVENT
BEGIN:VEVENT
DTSTART;TZID=America/New_York:20180321T173000
DTEND;TZID=America/New_York:20180321T183000
DTSTAMP:20260424T055710
CREATED:20180303T031305Z
LAST-MODIFIED:20180303T031305Z
UID:4326-1521653400-1521657000@www.goodshepherdblm.org
SUMMARY:Lenten Meal
DESCRIPTION:
URL:https://www.goodshepherdblm.org/event/lenten-meal-4/
LOCATION:Good Shepherd Lutheran Church\, 3516 White Eagle Drive\, Bloomington\, IL\, 61704\, United States
CATEGORIES:Lenten Supper
END:VEVENT
BEGIN:VEVENT
DTSTART;TZID=America/New_York:20180314T173000
DTEND;TZID=America/New_York:20180314T183000
DTSTAMP:20260424T055710
CREATED:20180303T031223Z
LAST-MODIFIED:20180303T031223Z
UID:4324-1521048600-1521052200@www.goodshepherdblm.org
SUMMARY:Lenten Meal
DESCRIPTION:
URL:https://www.goodshepherdblm.org/event/lenten-meal-3/
LOCATION:Good Shepherd Lutheran Church\, 3516 White Eagle Drive\, Bloomington\, IL\, 61704\, United States
CATEGORIES:Lenten Supper
END:VEVENT
BEGIN:VEVENT
DTSTART;TZID=America/New_York:20180307T173000
DTEND;TZID=America/New_York:20180307T183000
DTSTAMP:20260424T055710
CREATED:20180303T031132Z
LAST-MODIFIED:20180303T031132Z
UID:4322-1520443800-1520447400@www.goodshepherdblm.org
SUMMARY:Lenten Meal
DESCRIPTION:
URL:https://www.goodshepherdblm.org/event/lenten-meal-2/
LOCATION:Good Shepherd Lutheran Church\, 3516 White Eagle Drive\, Bloomington\, IL\, 61704\, United States
CATEGORIES:Lenten Supper
END:VEVENT
BEGIN:VEVENT
DTSTART;TZID=America/New_York:20180221T173000
DTEND;TZID=America/New_York:20180221T183000
DTSTAMP:20260424T055710
CREATED:20180215T180706Z
LAST-MODIFIED:20180215T180706Z
UID:4256-1519234200-1519237800@www.goodshepherdblm.org
SUMMARY:Lenten Meal (Elders Serving)
DESCRIPTION:
URL:https://www.goodshepherdblm.org/event/lenten-meal-elders-serving/
LOCATION:Good Shepherd Lutheran Church\, 3516 White Eagle Drive\, Bloomington\, IL\, 61704\, United States
CATEGORIES:Lenten Supper
END:VEVENT
BEGIN:VEVENT
DTSTART;TZID=America/New_York:20170405T173000
DTEND;TZID=America/New_York:20170405T183000
DTSTAMP:20260424T055710
CREATED:20170328T004522Z
LAST-MODIFIED:20170328T004522Z
UID:3140-1491413400-1491417000@www.goodshepherdblm.org
SUMMARY:Lenten Meal
DESCRIPTION:
URL:https://www.goodshepherdblm.org/event/lenten-meal/
LOCATION:Good Shepherd Lutheran Church\, 3516 White Eagle Drive\, Bloomington\, IL\, 61704\, United States
CATEGORIES:Lenten Supper
END:VEVENT
BEGIN:VEVENT
DTSTART;TZID=America/New_York:20170329T173000
DTEND;TZID=America/New_York:20170329T183000
DTSTAMP:20260424T055710
CREATED:20170303T204805Z
LAST-MODIFIED:20170303T204805Z
UID:3065-1490808600-1490812200@www.goodshepherdblm.org
SUMMARY:Lenten Supper
DESCRIPTION:
URL:https://www.goodshepherdblm.org/event/lenten-supper-14/
LOCATION:Good Shepherd Lutheran Church\, 3516 White Eagle Drive\, Bloomington\, IL\, 61704\, United States
CATEGORIES:Lenten Supper
END:VEVENT
BEGIN:VEVENT
DTSTART;TZID=America/New_York:20170322T173000
DTEND;TZID=America/New_York:20170322T183000
DTSTAMP:20260424T055710
CREATED:20170303T204710Z
LAST-MODIFIED:20170303T204710Z
UID:3063-1490203800-1490207400@www.goodshepherdblm.org
SUMMARY:Lenten Supper
DESCRIPTION:
URL:https://www.goodshepherdblm.org/event/lenten-supper-13/
LOCATION:Good Shepherd Lutheran Church\, 3516 White Eagle Drive\, Bloomington\, IL\, 61704\, United States
CATEGORIES:Lenten Supper
END:VEVENT
BEGIN:VEVENT
DTSTART;TZID=America/New_York:20170315T173000
DTEND;TZID=America/New_York:20170315T183000
DTSTAMP:20260424T055710
CREATED:20170303T204624Z
LAST-MODIFIED:20170303T204624Z
UID:3061-1489599000-1489602600@www.goodshepherdblm.org
SUMMARY:Lenten Supper
DESCRIPTION:
URL:https://www.goodshepherdblm.org/event/lenten-supper-12/
LOCATION:Good Shepherd Lutheran Church\, 3516 White Eagle Drive\, Bloomington\, IL\, 61704\, United States
CATEGORIES:Lenten Supper
END:VEVENT
BEGIN:VEVENT
DTSTART;TZID=America/New_York:20170308T173000
DTEND;TZID=America/New_York:20170308T183000
DTSTAMP:20260424T055710
CREATED:20170303T204536Z
LAST-MODIFIED:20170303T204536Z
UID:3059-1488994200-1488997800@www.goodshepherdblm.org
SUMMARY:Lenten Supper
DESCRIPTION:
URL:https://www.goodshepherdblm.org/event/lenten-supper-11/
LOCATION:Good Shepherd Lutheran Church\, 3516 White Eagle Drive\, Bloomington\, IL\, 61704\, United States
CATEGORIES:Lenten Supper
END:VEVENT
BEGIN:VEVENT
DTSTART;TZID=America/New_York:20160316T173000
DTEND;TZID=America/New_York:20160316T183000
DTSTAMP:20260424T055710
CREATED:20160301T002736Z
LAST-MODIFIED:20160301T002736Z
UID:2032-1458149400-1458153000@www.goodshepherdblm.org
SUMMARY:Lenten Supper
DESCRIPTION:
URL:https://www.goodshepherdblm.org/event/lenten-supper-10/
LOCATION:Good Shepherd Lutheran Church\, 3516 White Eagle Drive\, Bloomington\, IL\, 61704\, United States
CATEGORIES:Lenten Supper
END:VEVENT
BEGIN:VEVENT
DTSTART;TZID=America/New_York:20160309T173000
DTEND;TZID=America/New_York:20160309T183000
DTSTAMP:20260424T055710
CREATED:20160229T053923Z
LAST-MODIFIED:20160229T053923Z
UID:2020-1457544600-1457548200@www.goodshepherdblm.org
SUMMARY:Lenten Supper
DESCRIPTION:
URL:https://www.goodshepherdblm.org/event/lenten-supper-9/
LOCATION:Good Shepherd Lutheran Church\, 3516 White Eagle Drive\, Bloomington\, IL\, 61704\, United States
CATEGORIES:Lenten Supper
END:VEVENT
BEGIN:VEVENT
DTSTART;TZID=America/New_York:20160302T173000
DTEND;TZID=America/New_York:20160302T183000
DTSTAMP:20260424T055710
CREATED:20160229T052719Z
LAST-MODIFIED:20160229T052719Z
UID:2010-1456939800-1456943400@www.goodshepherdblm.org
SUMMARY:Lenten Supper
DESCRIPTION:
URL:https://www.goodshepherdblm.org/event/lenten-supper-8/
LOCATION:Good Shepherd Lutheran Church\, 3516 White Eagle Drive\, Bloomington\, IL\, 61704\, United States
CATEGORIES:Lenten Supper
END:VEVENT
BEGIN:VEVENT
DTSTART;TZID=America/New_York:20160224T173000
DTEND;TZID=America/New_York:20160224T183000
DTSTAMP:20260424T055710
CREATED:20160129T071932Z
LAST-MODIFIED:20160129T071932Z
UID:1805-1456335000-1456338600@www.goodshepherdblm.org
SUMMARY:Lenten Supper
DESCRIPTION:
URL:https://www.goodshepherdblm.org/event/lenten-supper-7/
LOCATION:Good Shepherd Lutheran Church\, 3516 White Eagle Drive\, Bloomington\, IL\, 61704\, United States
CATEGORIES:Lenten Supper
END:VEVENT
BEGIN:VEVENT
DTSTART;TZID=America/New_York:20160217T173000
DTEND;TZID=America/New_York:20160217T183000
DTSTAMP:20260424T055710
CREATED:20160129T071230Z
LAST-MODIFIED:20160129T071230Z
UID:1800-1455730200-1455733800@www.goodshepherdblm.org
SUMMARY:Lenten Supper
DESCRIPTION:
URL:https://www.goodshepherdblm.org/event/lenten-supper-6/
LOCATION:Good Shepherd Lutheran Church\, 3516 White Eagle Drive\, Bloomington\, IL\, 61704\, United States
CATEGORIES:Lenten Supper
END:VEVENT
BEGIN:VEVENT
DTSTART;TZID=America/Chicago:20150325T053000
DTEND;TZID=America/Chicago:20150325T183000
DTSTAMP:20260424T055710
CREATED:20150211T203400Z
LAST-MODIFIED:20150211T203400Z
UID:838-1427261400-1427308200@www.goodshepherdblm.org
SUMMARY:Lenten Supper
DESCRIPTION:Served by Congregation; Offering goes to Lutheran Bible Translators (Hilbert’s)
URL:https://www.goodshepherdblm.org/event/lenten-supper-5/
LOCATION:Good Shepherd Lutheran Church\, 3516 White Eagle Drive\, Bloomington\, IL\, 61704\, United States
CATEGORIES:Lenten Supper
END:VEVENT
BEGIN:VEVENT
DTSTART;TZID=America/Chicago:20150318T173000
DTEND;TZID=America/Chicago:20150318T183000
DTSTAMP:20260424T055710
CREATED:20150211T203219Z
LAST-MODIFIED:20150211T203219Z
UID:837-1426699800-1426703400@www.goodshepherdblm.org
SUMMARY:Lenten Supper
DESCRIPTION:Served by Congregation; Offering goes to Lutherans for Life
URL:https://www.goodshepherdblm.org/event/lenten-supper-4/
LOCATION:Good Shepherd Lutheran Church\, 3516 White Eagle Drive\, Bloomington\, IL\, 61704\, United States
CATEGORIES:Lenten Supper
END:VEVENT
END:VCALENDAR