BEGIN:VCALENDAR
VERSION:2.0
PRODID:-//Good Shepherd Lutheran Church - ECPv6.15.13//NONSGML v1.0//EN
CALSCALE:GREGORIAN
METHOD:PUBLISH
X-ORIGINAL-URL:https://www.goodshepherdblm.org
X-WR-CALDESC:Events for Good Shepherd Lutheran Church
REFRESH-INTERVAL;VALUE=DURATION:PT1H
X-Robots-Tag:noindex
X-PUBLISHED-TTL:PT1H
BEGIN:VTIMEZONE
TZID:America/New_York
BEGIN:DAYLIGHT
TZOFFSETFROM:-0500
TZOFFSETTO:-0400
TZNAME:EDT
DTSTART:20160313T070000
END:DAYLIGHT
BEGIN:STANDARD
TZOFFSETFROM:-0400
TZOFFSETTO:-0500
TZNAME:EST
DTSTART:20161106T060000
END:STANDARD
BEGIN:DAYLIGHT
TZOFFSETFROM:-0500
TZOFFSETTO:-0400
TZNAME:EDT
DTSTART:20170312T070000
END:DAYLIGHT
BEGIN:STANDARD
TZOFFSETFROM:-0400
TZOFFSETTO:-0500
TZNAME:EST
DTSTART:20171105T060000
END:STANDARD
BEGIN:DAYLIGHT
TZOFFSETFROM:-0500
TZOFFSETTO:-0400
TZNAME:EDT
DTSTART:20180311T070000
END:DAYLIGHT
BEGIN:STANDARD
TZOFFSETFROM:-0400
TZOFFSETTO:-0500
TZNAME:EST
DTSTART:20181104T060000
END:STANDARD
BEGIN:DAYLIGHT
TZOFFSETFROM:-0500
TZOFFSETTO:-0400
TZNAME:EDT
DTSTART:20190310T070000
END:DAYLIGHT
BEGIN:STANDARD
TZOFFSETFROM:-0400
TZOFFSETTO:-0500
TZNAME:EST
DTSTART:20191103T060000
END:STANDARD
END:VTIMEZONE
BEGIN:VEVENT
DTSTART;TZID=America/New_York:20180214T170000
DTEND;TZID=America/New_York:20180214T180000
DTSTAMP:20260424T071139
CREATED:20180215T174342Z
LAST-MODIFIED:20180215T174342Z
UID:4236-1518627600-1518631200@www.goodshepherdblm.org
SUMMARY:Confirmation Class
DESCRIPTION:
URL:https://www.goodshepherdblm.org/event/confirmation-class-42/
LOCATION:Good Shepherd Lutheran Church\, 3516 White Eagle Drive\, Bloomington\, IL\, 61704\, United States
CATEGORIES:Confirmation Class
END:VEVENT
BEGIN:VEVENT
DTSTART;TZID=America/New_York:20180207T170000
DTEND;TZID=America/New_York:20180207T180000
DTSTAMP:20260424T071139
CREATED:20180215T174101Z
LAST-MODIFIED:20180215T174101Z
UID:4230-1518022800-1518026400@www.goodshepherdblm.org
SUMMARY:Confirmation Class
DESCRIPTION:
URL:https://www.goodshepherdblm.org/event/confirmation-class-41/
LOCATION:Good Shepherd Lutheran Church\, 3516 White Eagle Drive\, Bloomington\, IL\, 61704\, United States
CATEGORIES:Confirmation Class
END:VEVENT
BEGIN:VEVENT
DTSTART;TZID=America/New_York:20180131T170000
DTEND;TZID=America/New_York:20180131T180000
DTSTAMP:20260424T071139
CREATED:20171228T063207Z
LAST-MODIFIED:20171228T063207Z
UID:4120-1517418000-1517421600@www.goodshepherdblm.org
SUMMARY:Confirmation Class
DESCRIPTION:
URL:https://www.goodshepherdblm.org/event/confirmation-class-40/
LOCATION:Good Shepherd Lutheran Church\, 3516 White Eagle Drive\, Bloomington\, IL\, 61704\, United States
CATEGORIES:Confirmation Class
END:VEVENT
BEGIN:VEVENT
DTSTART;TZID=America/New_York:20180124T170000
DTEND;TZID=America/New_York:20180124T180000
DTSTAMP:20260424T071139
CREATED:20171228T063120Z
LAST-MODIFIED:20171228T063120Z
UID:4118-1516813200-1516816800@www.goodshepherdblm.org
SUMMARY:Confirmation Class
DESCRIPTION:
URL:https://www.goodshepherdblm.org/event/confirmation-class-39/
LOCATION:Good Shepherd Lutheran Church\, 3516 White Eagle Drive\, Bloomington\, IL\, 61704\, United States
CATEGORIES:Confirmation Class
END:VEVENT
BEGIN:VEVENT
DTSTART;TZID=America/New_York:20180117T170000
DTEND;TZID=America/New_York:20180117T180000
DTSTAMP:20260424T071139
CREATED:20171228T062810Z
LAST-MODIFIED:20171228T062810Z
UID:4112-1516208400-1516212000@www.goodshepherdblm.org
SUMMARY:Confirmation Class
DESCRIPTION:
URL:https://www.goodshepherdblm.org/event/confirmation-class-38/
LOCATION:Good Shepherd Lutheran Church\, 3516 White Eagle Drive\, Bloomington\, IL\, 61704\, United States
CATEGORIES:Confirmation Class
END:VEVENT
BEGIN:VEVENT
DTSTART;TZID=America/New_York:20180110T170000
DTEND;TZID=America/New_York:20180110T180000
DTSTAMP:20260424T071139
CREATED:20171228T062416Z
LAST-MODIFIED:20171228T062416Z
UID:4104-1515603600-1515607200@www.goodshepherdblm.org
SUMMARY:Confirmation Class
DESCRIPTION:
URL:https://www.goodshepherdblm.org/event/confirmation-class-37/
LOCATION:Good Shepherd Lutheran Church\, 3516 White Eagle Drive\, Bloomington\, IL\, 61704\, United States
CATEGORIES:Confirmation Class
END:VEVENT
BEGIN:VEVENT
DTSTART;TZID=America/New_York:20171220T170000
DTEND;TZID=America/New_York:20171220T180000
DTSTAMP:20260424T071139
CREATED:20171127T045856Z
LAST-MODIFIED:20171127T045856Z
UID:3864-1513789200-1513792800@www.goodshepherdblm.org
SUMMARY:Confirmation Class
DESCRIPTION:
URL:https://www.goodshepherdblm.org/event/confirmation-class-36/
LOCATION:Good Shepherd Lutheran Church\, 3516 White Eagle Drive\, Bloomington\, IL\, 61704\, United States
CATEGORIES:Confirmation Class
END:VEVENT
BEGIN:VEVENT
DTSTART;TZID=America/New_York:20171213T170000
DTEND;TZID=America/New_York:20171213T180000
DTSTAMP:20260424T071139
CREATED:20171127T045306Z
LAST-MODIFIED:20171127T045306Z
UID:3852-1513184400-1513188000@www.goodshepherdblm.org
SUMMARY:Confirmation Class
DESCRIPTION:
URL:https://www.goodshepherdblm.org/event/confirmation-class-35/
LOCATION:Good Shepherd Lutheran Church\, 3516 White Eagle Drive\, Bloomington\, IL\, 61704\, United States
CATEGORIES:Confirmation Class
END:VEVENT
BEGIN:VEVENT
DTSTART;TZID=America/New_York:20171206T170000
DTEND;TZID=America/New_York:20171206T180000
DTSTAMP:20260424T071139
CREATED:20171127T044723Z
LAST-MODIFIED:20171127T044723Z
UID:3840-1512579600-1512583200@www.goodshepherdblm.org
SUMMARY:Confirmation Class
DESCRIPTION:
URL:https://www.goodshepherdblm.org/event/confirmation-class-34/
LOCATION:Good Shepherd Lutheran Church\, 3516 White Eagle Drive\, Bloomington\, IL\, 61704\, United States
CATEGORIES:Confirmation Class
END:VEVENT
BEGIN:VEVENT
DTSTART;TZID=America/New_York:20171129T170000
DTEND;TZID=America/New_York:20171129T180000
DTSTAMP:20260424T071139
CREATED:20171029T031103Z
LAST-MODIFIED:20171029T031103Z
UID:3755-1511974800-1511978400@www.goodshepherdblm.org
SUMMARY:Confirmation Class
DESCRIPTION:
URL:https://www.goodshepherdblm.org/event/confirmation-class-33/
LOCATION:Good Shepherd Lutheran Church\, 3516 White Eagle Drive\, Bloomington\, IL\, 61704\, United States
CATEGORIES:Confirmation Class
END:VEVENT
BEGIN:VEVENT
DTSTART;TZID=America/New_York:20171115T170000
DTEND;TZID=America/New_York:20171115T180000
DTSTAMP:20260424T071139
CREATED:20171029T025040Z
LAST-MODIFIED:20171029T025040Z
UID:3744-1510765200-1510768800@www.goodshepherdblm.org
SUMMARY:Confirmation Class
DESCRIPTION:
URL:https://www.goodshepherdblm.org/event/confirmation-class-32/
LOCATION:Good Shepherd Lutheran Church\, 3516 White Eagle Drive\, Bloomington\, IL\, 61704\, United States
CATEGORIES:Confirmation Class
END:VEVENT
BEGIN:VEVENT
DTSTART;TZID=America/New_York:20171108T170000
DTEND;TZID=America/New_York:20171108T180000
DTSTAMP:20260424T071139
CREATED:20171029T024535Z
LAST-MODIFIED:20171029T024535Z
UID:3734-1510160400-1510164000@www.goodshepherdblm.org
SUMMARY:Confirmation Class
DESCRIPTION:
URL:https://www.goodshepherdblm.org/event/confirmation-class-31/
LOCATION:Good Shepherd Lutheran Church\, 3516 White Eagle Drive\, Bloomington\, IL\, 61704\, United States
CATEGORIES:Confirmation Class
END:VEVENT
BEGIN:VEVENT
DTSTART;TZID=America/New_York:20171101T170000
DTEND;TZID=America/New_York:20171101T180000
DTSTAMP:20260424T071139
CREATED:20171029T022143Z
LAST-MODIFIED:20171029T022143Z
UID:3714-1509555600-1509559200@www.goodshepherdblm.org
SUMMARY:Confirmation Class
DESCRIPTION:
URL:https://www.goodshepherdblm.org/event/confirmation-class-30/
LOCATION:Good Shepherd Lutheran Church\, 3516 White Eagle Drive\, Bloomington\, IL\, 61704\, United States
CATEGORIES:Confirmation Class
END:VEVENT
BEGIN:VEVENT
DTSTART;TZID=America/New_York:20171025T170000
DTEND;TZID=America/New_York:20171025T180000
DTSTAMP:20260424T071139
CREATED:20171009T173527Z
LAST-MODIFIED:20171009T173527Z
UID:3685-1508950800-1508954400@www.goodshepherdblm.org
SUMMARY:Confirmation Class
DESCRIPTION:
URL:https://www.goodshepherdblm.org/event/confirmation-class-29/
LOCATION:Good Shepherd Lutheran Church\, 3516 White Eagle Drive\, Bloomington\, IL\, 61704\, United States
CATEGORIES:Confirmation Class
END:VEVENT
BEGIN:VEVENT
DTSTART;TZID=America/New_York:20171018T170000
DTEND;TZID=America/New_York:20171018T180000
DTSTAMP:20260424T071139
CREATED:20171009T172203Z
LAST-MODIFIED:20171009T172203Z
UID:3672-1508346000-1508349600@www.goodshepherdblm.org
SUMMARY:Confirmation Class
DESCRIPTION:
URL:https://www.goodshepherdblm.org/event/confirmation-class-28/
LOCATION:Good Shepherd Lutheran Church\, 3516 White Eagle Drive\, Bloomington\, IL\, 61704\, United States
CATEGORIES:Confirmation Class
END:VEVENT
BEGIN:VEVENT
DTSTART;TZID=America/New_York:20171011T170000
DTEND;TZID=America/New_York:20171011T180000
DTSTAMP:20260424T071139
CREATED:20171009T171748Z
LAST-MODIFIED:20171009T171748Z
UID:3664-1507741200-1507744800@www.goodshepherdblm.org
SUMMARY:Confirmation Class
DESCRIPTION:
URL:https://www.goodshepherdblm.org/event/confirmation-class-27/
LOCATION:Good Shepherd Lutheran Church\, 3516 White Eagle Drive\, Bloomington\, IL\, 61704\, United States
CATEGORIES:Confirmation Class
END:VEVENT
BEGIN:VEVENT
DTSTART;TZID=America/New_York:20171004T170000
DTEND;TZID=America/New_York:20171004T180000
DTSTAMP:20260424T071139
CREATED:20171009T171110Z
LAST-MODIFIED:20171009T171110Z
UID:3654-1507136400-1507140000@www.goodshepherdblm.org
SUMMARY:Confirmation Class
DESCRIPTION:
URL:https://www.goodshepherdblm.org/event/confirmation-class-26/
LOCATION:Good Shepherd Lutheran Church\, 3516 White Eagle Drive\, Bloomington\, IL\, 61704\, United States
CATEGORIES:Confirmation Class
END:VEVENT
BEGIN:VEVENT
DTSTART;TZID=America/New_York:20170927T170000
DTEND;TZID=America/New_York:20170927T180000
DTSTAMP:20260424T071139
CREATED:20170911T022742Z
LAST-MODIFIED:20170911T022742Z
UID:3604-1506531600-1506535200@www.goodshepherdblm.org
SUMMARY:Confirmation Class
DESCRIPTION:
URL:https://www.goodshepherdblm.org/event/confirmation-class-25/
LOCATION:Good Shepherd Lutheran Church\, 3516 White Eagle Drive\, Bloomington\, IL\, 61704\, United States
CATEGORIES:Confirmation Class
END:VEVENT
BEGIN:VEVENT
DTSTART;TZID=America/New_York:20170920T170000
DTEND;TZID=America/New_York:20170920T180000
DTSTAMP:20260424T071139
CREATED:20170911T022458Z
LAST-MODIFIED:20170911T022458Z
UID:3600-1505926800-1505930400@www.goodshepherdblm.org
SUMMARY:Confirmation Class
DESCRIPTION:
URL:https://www.goodshepherdblm.org/event/confirmation-class-24/
LOCATION:Good Shepherd Lutheran Church\, 3516 White Eagle Drive\, Bloomington\, IL\, 61704\, United States
CATEGORIES:Confirmation Class
END:VEVENT
BEGIN:VEVENT
DTSTART;TZID=America/New_York:20170913T170000
DTEND;TZID=America/New_York:20170913T180000
DTSTAMP:20260424T071139
CREATED:20170911T021832Z
LAST-MODIFIED:20170911T021832Z
UID:3590-1505322000-1505325600@www.goodshepherdblm.org
SUMMARY:Confirmation Class
DESCRIPTION:
URL:https://www.goodshepherdblm.org/event/confirmation-class-23/
LOCATION:Good Shepherd Lutheran Church\, 3516 White Eagle Drive\, Bloomington\, IL\, 61704\, United States
CATEGORIES:Confirmation Class
END:VEVENT
BEGIN:VEVENT
DTSTART;TZID=America/New_York:20170906T170000
DTEND;TZID=America/New_York:20170906T180000
DTSTAMP:20260424T071139
CREATED:20170911T020656Z
LAST-MODIFIED:20170911T020656Z
UID:3579-1504717200-1504720800@www.goodshepherdblm.org
SUMMARY:Confirmation Class
DESCRIPTION:
URL:https://www.goodshepherdblm.org/event/confirmation-class-22/
LOCATION:Good Shepherd Lutheran Church\, 3516 White Eagle Drive\, Bloomington\, IL\, 61704\, United States
CATEGORIES:Confirmation Class
END:VEVENT
END:VCALENDAR