BEGIN:VCALENDAR
VERSION:2.0
PRODID:-//Good Shepherd Lutheran Church - ECPv6.15.13//NONSGML v1.0//EN
CALSCALE:GREGORIAN
METHOD:PUBLISH
X-WR-CALNAME:Good Shepherd Lutheran Church
X-ORIGINAL-URL:https://www.goodshepherdblm.org
X-WR-CALDESC:Events for Good Shepherd Lutheran Church
REFRESH-INTERVAL;VALUE=DURATION:PT1H
X-Robots-Tag:noindex
X-PUBLISHED-TTL:PT1H
BEGIN:VTIMEZONE
TZID:America/Chicago
BEGIN:DAYLIGHT
TZOFFSETFROM:-0600
TZOFFSETTO:-0500
TZNAME:CDT
DTSTART:20190310T080000
END:DAYLIGHT
BEGIN:STANDARD
TZOFFSETFROM:-0500
TZOFFSETTO:-0600
TZNAME:CST
DTSTART:20191103T070000
END:STANDARD
BEGIN:DAYLIGHT
TZOFFSETFROM:-0600
TZOFFSETTO:-0500
TZNAME:CDT
DTSTART:20200308T080000
END:DAYLIGHT
BEGIN:STANDARD
TZOFFSETFROM:-0500
TZOFFSETTO:-0600
TZNAME:CST
DTSTART:20201101T070000
END:STANDARD
BEGIN:DAYLIGHT
TZOFFSETFROM:-0600
TZOFFSETTO:-0500
TZNAME:CDT
DTSTART:20210314T080000
END:DAYLIGHT
BEGIN:STANDARD
TZOFFSETFROM:-0500
TZOFFSETTO:-0600
TZNAME:CST
DTSTART:20211107T070000
END:STANDARD
BEGIN:DAYLIGHT
TZOFFSETFROM:-0600
TZOFFSETTO:-0500
TZNAME:CDT
DTSTART:20220313T080000
END:DAYLIGHT
BEGIN:STANDARD
TZOFFSETFROM:-0500
TZOFFSETTO:-0600
TZNAME:CST
DTSTART:20221106T070000
END:STANDARD
BEGIN:DAYLIGHT
TZOFFSETFROM:-0600
TZOFFSETTO:-0500
TZNAME:CDT
DTSTART:20230312T080000
END:DAYLIGHT
BEGIN:STANDARD
TZOFFSETFROM:-0500
TZOFFSETTO:-0600
TZNAME:CST
DTSTART:20231105T070000
END:STANDARD
END:VTIMEZONE
BEGIN:VTIMEZONE
TZID:America/New_York
BEGIN:DAYLIGHT
TZOFFSETFROM:-0500
TZOFFSETTO:-0400
TZNAME:EDT
DTSTART:20160313T070000
END:DAYLIGHT
BEGIN:STANDARD
TZOFFSETFROM:-0400
TZOFFSETTO:-0500
TZNAME:EST
DTSTART:20161106T060000
END:STANDARD
BEGIN:DAYLIGHT
TZOFFSETFROM:-0500
TZOFFSETTO:-0400
TZNAME:EDT
DTSTART:20170312T070000
END:DAYLIGHT
BEGIN:STANDARD
TZOFFSETFROM:-0400
TZOFFSETTO:-0500
TZNAME:EST
DTSTART:20171105T060000
END:STANDARD
BEGIN:DAYLIGHT
TZOFFSETFROM:-0500
TZOFFSETTO:-0400
TZNAME:EDT
DTSTART:20180311T070000
END:DAYLIGHT
BEGIN:STANDARD
TZOFFSETFROM:-0400
TZOFFSETTO:-0500
TZNAME:EST
DTSTART:20181104T060000
END:STANDARD
BEGIN:DAYLIGHT
TZOFFSETFROM:-0500
TZOFFSETTO:-0400
TZNAME:EDT
DTSTART:20190310T070000
END:DAYLIGHT
BEGIN:STANDARD
TZOFFSETFROM:-0400
TZOFFSETTO:-0500
TZNAME:EST
DTSTART:20191103T060000
END:STANDARD
END:VTIMEZONE
BEGIN:VEVENT
DTSTART;TZID=America/Chicago:20220926T190000
DTEND;TZID=America/Chicago:20220926T190000
DTSTAMP:20260424T021251
CREATED:20220901T031855Z
LAST-MODIFIED:20220901T031855Z
UID:9245-1664218800-1664218800@www.goodshepherdblm.org
SUMMARY:Adult Instruction Class
DESCRIPTION:
URL:https://www.goodshepherdblm.org/event/adult-instruction-class-20/
LOCATION:Good Shepherd Lutheran Church\, 3516 White Eagle Drive\, Bloomington\, IL\, 61704\, United States
CATEGORIES:Confirmation Class
END:VEVENT
BEGIN:VEVENT
DTSTART;TZID=America/Chicago:20220919T190000
DTEND;TZID=America/Chicago:20220919T190000
DTSTAMP:20260424T021251
CREATED:20220901T030828Z
LAST-MODIFIED:20220901T030828Z
UID:9231-1663614000-1663614000@www.goodshepherdblm.org
SUMMARY:Adult Instruction Class
DESCRIPTION:
URL:https://www.goodshepherdblm.org/event/adult-instruction-class-19/
LOCATION:Good Shepherd Lutheran Church\, 3516 White Eagle Drive\, Bloomington\, IL\, 61704\, United States
CATEGORIES:Confirmation Class
END:VEVENT
BEGIN:VEVENT
DTSTART;TZID=America/Chicago:20220912T190000
DTEND;TZID=America/Chicago:20220912T190000
DTSTAMP:20260424T021251
CREATED:20220901T024131Z
LAST-MODIFIED:20220901T024131Z
UID:9223-1663009200-1663009200@www.goodshepherdblm.org
SUMMARY:Adult Instruction Class
DESCRIPTION:
URL:https://www.goodshepherdblm.org/event/adult-instruction-class-18/
LOCATION:Good Shepherd Lutheran Church\, 3516 White Eagle Drive\, Bloomington\, IL\, 61704\, United States
CATEGORIES:Confirmation Class
END:VEVENT
BEGIN:VEVENT
DTSTART;TZID=America/Chicago:20201028T170000
DTEND;TZID=America/Chicago:20201028T170000
DTSTAMP:20260424T021251
CREATED:20200929T164047Z
LAST-MODIFIED:20200929T164047Z
UID:7945-1603904400-1603904400@www.goodshepherdblm.org
SUMMARY:Confirmation Class
DESCRIPTION:
URL:https://www.goodshepherdblm.org/event/confirmation-class-56/
LOCATION:Good Shepherd Lutheran Church\, 3516 White Eagle Drive\, Bloomington\, IL\, 61704\, United States
CATEGORIES:Confirmation Class
END:VEVENT
BEGIN:VEVENT
DTSTART;TZID=America/Chicago:20201021T170000
DTEND;TZID=America/Chicago:20201021T170000
DTSTAMP:20260424T021251
CREATED:20200929T164004Z
LAST-MODIFIED:20200929T164004Z
UID:7943-1603299600-1603299600@www.goodshepherdblm.org
SUMMARY:Confirmation Class
DESCRIPTION:
URL:https://www.goodshepherdblm.org/event/confirmation-class-55/
LOCATION:Good Shepherd Lutheran Church\, 3516 White Eagle Drive\, Bloomington\, IL\, 61704\, United States
CATEGORIES:Confirmation Class
END:VEVENT
BEGIN:VEVENT
DTSTART;TZID=America/Chicago:20201014T170000
DTEND;TZID=America/Chicago:20201014T170000
DTSTAMP:20260424T021251
CREATED:20200929T163921Z
LAST-MODIFIED:20200929T163921Z
UID:7941-1602694800-1602694800@www.goodshepherdblm.org
SUMMARY:Confirmation Class
DESCRIPTION:
URL:https://www.goodshepherdblm.org/event/confirmation-class-54/
LOCATION:Good Shepherd Lutheran Church\, 3516 White Eagle Drive\, Bloomington\, IL\, 61704\, United States
CATEGORIES:Confirmation Class
END:VEVENT
BEGIN:VEVENT
DTSTART;TZID=America/Chicago:20201007T170000
DTEND;TZID=America/Chicago:20201007T170000
DTSTAMP:20260424T021251
CREATED:20200929T163837Z
LAST-MODIFIED:20200929T163837Z
UID:7939-1602090000-1602090000@www.goodshepherdblm.org
SUMMARY:Confirmation Class
DESCRIPTION:
URL:https://www.goodshepherdblm.org/event/confirmation-class-53/
LOCATION:Good Shepherd Lutheran Church\, 3516 White Eagle Drive\, Bloomington\, IL\, 61704\, United States
CATEGORIES:Confirmation Class
END:VEVENT
BEGIN:VEVENT
DTSTART;TZID=America/New_York:20180504T190000
DTEND;TZID=America/New_York:20180504T200000
DTSTAMP:20260424T021251
CREATED:20180430T141622Z
LAST-MODIFIED:20180430T141622Z
UID:4516-1525460400-1525464000@www.goodshepherdblm.org
SUMMARY:Confirmation Questioning
DESCRIPTION:
URL:https://www.goodshepherdblm.org/event/confirmation-questioning/
LOCATION:Good Shepherd Lutheran Church\, 3516 White Eagle Drive\, Bloomington\, IL\, 61704\, United States
CATEGORIES:Confirmation Class
END:VEVENT
BEGIN:VEVENT
DTSTART;TZID=America/New_York:20180502T170000
DTEND;TZID=America/New_York:20180502T180000
DTSTAMP:20260424T021251
CREATED:20180430T141019Z
LAST-MODIFIED:20180430T141019Z
UID:4509-1525280400-1525284000@www.goodshepherdblm.org
SUMMARY:Confirmation Class
DESCRIPTION:
URL:https://www.goodshepherdblm.org/event/confirmation-class-52/
LOCATION:Good Shepherd Lutheran Church\, 3516 White Eagle Drive\, Bloomington\, IL\, 61704\, United States
CATEGORIES:Confirmation Class
END:VEVENT
BEGIN:VEVENT
DTSTART;TZID=America/New_York:20180425T170000
DTEND;TZID=America/New_York:20180425T180000
DTSTAMP:20260424T021251
CREATED:20180326T215925Z
LAST-MODIFIED:20180326T215925Z
UID:4453-1524675600-1524679200@www.goodshepherdblm.org
SUMMARY:Confirmation Class
DESCRIPTION:
URL:https://www.goodshepherdblm.org/event/confirmation-class-51/
LOCATION:Good Shepherd Lutheran Church\, 3516 White Eagle Drive\, Bloomington\, IL\, 61704\, United States
CATEGORIES:Confirmation Class
END:VEVENT
BEGIN:VEVENT
DTSTART;TZID=America/New_York:20180418T170000
DTEND;TZID=America/New_York:20180418T180000
DTSTAMP:20260424T021251
CREATED:20180326T215338Z
LAST-MODIFIED:20180326T215338Z
UID:4445-1524070800-1524074400@www.goodshepherdblm.org
SUMMARY:Confirmation Class
DESCRIPTION:
URL:https://www.goodshepherdblm.org/event/confirmation-class-50/
LOCATION:Good Shepherd Lutheran Church\, 3516 White Eagle Drive\, Bloomington\, IL\, 61704\, United States
CATEGORIES:Confirmation Class
END:VEVENT
BEGIN:VEVENT
DTSTART;TZID=America/New_York:20180411T170000
DTEND;TZID=America/New_York:20180411T180000
DTSTAMP:20260424T021251
CREATED:20180326T213936Z
LAST-MODIFIED:20180326T213936Z
UID:4432-1523466000-1523469600@www.goodshepherdblm.org
SUMMARY:Confirmation Class
DESCRIPTION:
URL:https://www.goodshepherdblm.org/event/confirmation-class-49/
LOCATION:Good Shepherd Lutheran Church\, 3516 White Eagle Drive\, Bloomington\, IL\, 61704\, United States
CATEGORIES:Confirmation Class
END:VEVENT
BEGIN:VEVENT
DTSTART;TZID=America/New_York:20180404T170000
DTEND;TZID=America/New_York:20180404T180000
DTSTAMP:20260424T021251
CREATED:20180326T212929Z
LAST-MODIFIED:20180326T212929Z
UID:4419-1522861200-1522864800@www.goodshepherdblm.org
SUMMARY:Confirmation Class
DESCRIPTION:
URL:https://www.goodshepherdblm.org/event/confirmation-class-48/
LOCATION:Good Shepherd Lutheran Church\, 3516 White Eagle Drive\, Bloomington\, IL\, 61704\, United States
CATEGORIES:Confirmation Class
END:VEVENT
BEGIN:VEVENT
DTSTART;TZID=America/New_York:20180321T170000
DTEND;TZID=America/New_York:20180321T180000
DTSTAMP:20260424T021251
CREATED:20180303T031028Z
LAST-MODIFIED:20180303T031028Z
UID:4320-1521651600-1521655200@www.goodshepherdblm.org
SUMMARY:Confirmation Class
DESCRIPTION:
URL:https://www.goodshepherdblm.org/event/confirmation-class-47/
LOCATION:Good Shepherd Lutheran Church\, 3516 White Eagle Drive\, Bloomington\, IL\, 61704\, United States
CATEGORIES:Confirmation Class
END:VEVENT
BEGIN:VEVENT
DTSTART;TZID=America/New_York:20180314T170000
DTEND;TZID=America/New_York:20180314T180000
DTSTAMP:20260424T021251
CREATED:20180303T030938Z
LAST-MODIFIED:20180303T030938Z
UID:4318-1521046800-1521050400@www.goodshepherdblm.org
SUMMARY:Confirmation Class
DESCRIPTION:
URL:https://www.goodshepherdblm.org/event/confirmation-class-46/
LOCATION:Good Shepherd Lutheran Church\, 3516 White Eagle Drive\, Bloomington\, IL\, 61704\, United States
CATEGORIES:Confirmation Class
END:VEVENT
BEGIN:VEVENT
DTSTART;TZID=America/New_York:20180307T170000
DTEND;TZID=America/New_York:20180307T180000
DTSTAMP:20260424T021251
CREATED:20180303T030848Z
LAST-MODIFIED:20180303T030848Z
UID:4316-1520442000-1520445600@www.goodshepherdblm.org
SUMMARY:Confirmation Class
DESCRIPTION:
URL:https://www.goodshepherdblm.org/event/confirmation-class-45/
LOCATION:Good Shepherd Lutheran Church\, 3516 White Eagle Drive\, Bloomington\, IL\, 61704\, United States
CATEGORIES:Confirmation Class
END:VEVENT
BEGIN:VEVENT
DTSTART;TZID=America/New_York:20180228T170000
DTEND;TZID=America/New_York:20180228T180000
DTSTAMP:20260424T021251
CREATED:20180215T181048Z
LAST-MODIFIED:20180215T181048Z
UID:4262-1519837200-1519840800@www.goodshepherdblm.org
SUMMARY:Confirmation Class
DESCRIPTION:
URL:https://www.goodshepherdblm.org/event/confirmation-class-44/
LOCATION:Good Shepherd Lutheran Church\, 3516 White Eagle Drive\, Bloomington\, IL\, 61704\, United States
CATEGORIES:Confirmation Class
END:VEVENT
BEGIN:VEVENT
DTSTART;TZID=America/New_York:20180221T170000
DTEND;TZID=America/New_York:20180221T180000
DTSTAMP:20260424T021251
CREATED:20180215T180558Z
LAST-MODIFIED:20180215T180558Z
UID:4254-1519232400-1519236000@www.goodshepherdblm.org
SUMMARY:Confirmation Class
DESCRIPTION:
URL:https://www.goodshepherdblm.org/event/confirmation-class-43/
LOCATION:Good Shepherd Lutheran Church\, 3516 White Eagle Drive\, Bloomington\, IL\, 61704\, United States
CATEGORIES:Confirmation Class
END:VEVENT
BEGIN:VEVENT
DTSTART;TZID=America/New_York:20180214T170000
DTEND;TZID=America/New_York:20180214T180000
DTSTAMP:20260424T021251
CREATED:20180215T174342Z
LAST-MODIFIED:20180215T174342Z
UID:4236-1518627600-1518631200@www.goodshepherdblm.org
SUMMARY:Confirmation Class
DESCRIPTION:
URL:https://www.goodshepherdblm.org/event/confirmation-class-42/
LOCATION:Good Shepherd Lutheran Church\, 3516 White Eagle Drive\, Bloomington\, IL\, 61704\, United States
CATEGORIES:Confirmation Class
END:VEVENT
BEGIN:VEVENT
DTSTART;TZID=America/New_York:20180207T170000
DTEND;TZID=America/New_York:20180207T180000
DTSTAMP:20260424T021251
CREATED:20180215T174101Z
LAST-MODIFIED:20180215T174101Z
UID:4230-1518022800-1518026400@www.goodshepherdblm.org
SUMMARY:Confirmation Class
DESCRIPTION:
URL:https://www.goodshepherdblm.org/event/confirmation-class-41/
LOCATION:Good Shepherd Lutheran Church\, 3516 White Eagle Drive\, Bloomington\, IL\, 61704\, United States
CATEGORIES:Confirmation Class
END:VEVENT
BEGIN:VEVENT
DTSTART;TZID=America/New_York:20180131T170000
DTEND;TZID=America/New_York:20180131T180000
DTSTAMP:20260424T021251
CREATED:20171228T063207Z
LAST-MODIFIED:20171228T063207Z
UID:4120-1517418000-1517421600@www.goodshepherdblm.org
SUMMARY:Confirmation Class
DESCRIPTION:
URL:https://www.goodshepherdblm.org/event/confirmation-class-40/
LOCATION:Good Shepherd Lutheran Church\, 3516 White Eagle Drive\, Bloomington\, IL\, 61704\, United States
CATEGORIES:Confirmation Class
END:VEVENT
BEGIN:VEVENT
DTSTART;TZID=America/New_York:20180124T170000
DTEND;TZID=America/New_York:20180124T180000
DTSTAMP:20260424T021251
CREATED:20171228T063120Z
LAST-MODIFIED:20171228T063120Z
UID:4118-1516813200-1516816800@www.goodshepherdblm.org
SUMMARY:Confirmation Class
DESCRIPTION:
URL:https://www.goodshepherdblm.org/event/confirmation-class-39/
LOCATION:Good Shepherd Lutheran Church\, 3516 White Eagle Drive\, Bloomington\, IL\, 61704\, United States
CATEGORIES:Confirmation Class
END:VEVENT
BEGIN:VEVENT
DTSTART;TZID=America/New_York:20180117T170000
DTEND;TZID=America/New_York:20180117T180000
DTSTAMP:20260424T021251
CREATED:20171228T062810Z
LAST-MODIFIED:20171228T062810Z
UID:4112-1516208400-1516212000@www.goodshepherdblm.org
SUMMARY:Confirmation Class
DESCRIPTION:
URL:https://www.goodshepherdblm.org/event/confirmation-class-38/
LOCATION:Good Shepherd Lutheran Church\, 3516 White Eagle Drive\, Bloomington\, IL\, 61704\, United States
CATEGORIES:Confirmation Class
END:VEVENT
BEGIN:VEVENT
DTSTART;TZID=America/New_York:20180110T170000
DTEND;TZID=America/New_York:20180110T180000
DTSTAMP:20260424T021251
CREATED:20171228T062416Z
LAST-MODIFIED:20171228T062416Z
UID:4104-1515603600-1515607200@www.goodshepherdblm.org
SUMMARY:Confirmation Class
DESCRIPTION:
URL:https://www.goodshepherdblm.org/event/confirmation-class-37/
LOCATION:Good Shepherd Lutheran Church\, 3516 White Eagle Drive\, Bloomington\, IL\, 61704\, United States
CATEGORIES:Confirmation Class
END:VEVENT
BEGIN:VEVENT
DTSTART;TZID=America/New_York:20171220T170000
DTEND;TZID=America/New_York:20171220T180000
DTSTAMP:20260424T021251
CREATED:20171127T045856Z
LAST-MODIFIED:20171127T045856Z
UID:3864-1513789200-1513792800@www.goodshepherdblm.org
SUMMARY:Confirmation Class
DESCRIPTION:
URL:https://www.goodshepherdblm.org/event/confirmation-class-36/
LOCATION:Good Shepherd Lutheran Church\, 3516 White Eagle Drive\, Bloomington\, IL\, 61704\, United States
CATEGORIES:Confirmation Class
END:VEVENT
BEGIN:VEVENT
DTSTART;TZID=America/New_York:20171213T170000
DTEND;TZID=America/New_York:20171213T180000
DTSTAMP:20260424T021251
CREATED:20171127T045306Z
LAST-MODIFIED:20171127T045306Z
UID:3852-1513184400-1513188000@www.goodshepherdblm.org
SUMMARY:Confirmation Class
DESCRIPTION:
URL:https://www.goodshepherdblm.org/event/confirmation-class-35/
LOCATION:Good Shepherd Lutheran Church\, 3516 White Eagle Drive\, Bloomington\, IL\, 61704\, United States
CATEGORIES:Confirmation Class
END:VEVENT
BEGIN:VEVENT
DTSTART;TZID=America/New_York:20171206T170000
DTEND;TZID=America/New_York:20171206T180000
DTSTAMP:20260424T021251
CREATED:20171127T044723Z
LAST-MODIFIED:20171127T044723Z
UID:3840-1512579600-1512583200@www.goodshepherdblm.org
SUMMARY:Confirmation Class
DESCRIPTION:
URL:https://www.goodshepherdblm.org/event/confirmation-class-34/
LOCATION:Good Shepherd Lutheran Church\, 3516 White Eagle Drive\, Bloomington\, IL\, 61704\, United States
CATEGORIES:Confirmation Class
END:VEVENT
BEGIN:VEVENT
DTSTART;TZID=America/New_York:20171129T170000
DTEND;TZID=America/New_York:20171129T180000
DTSTAMP:20260424T021251
CREATED:20171029T031103Z
LAST-MODIFIED:20171029T031103Z
UID:3755-1511974800-1511978400@www.goodshepherdblm.org
SUMMARY:Confirmation Class
DESCRIPTION:
URL:https://www.goodshepherdblm.org/event/confirmation-class-33/
LOCATION:Good Shepherd Lutheran Church\, 3516 White Eagle Drive\, Bloomington\, IL\, 61704\, United States
CATEGORIES:Confirmation Class
END:VEVENT
BEGIN:VEVENT
DTSTART;TZID=America/New_York:20171115T170000
DTEND;TZID=America/New_York:20171115T180000
DTSTAMP:20260424T021251
CREATED:20171029T025040Z
LAST-MODIFIED:20171029T025040Z
UID:3744-1510765200-1510768800@www.goodshepherdblm.org
SUMMARY:Confirmation Class
DESCRIPTION:
URL:https://www.goodshepherdblm.org/event/confirmation-class-32/
LOCATION:Good Shepherd Lutheran Church\, 3516 White Eagle Drive\, Bloomington\, IL\, 61704\, United States
CATEGORIES:Confirmation Class
END:VEVENT
BEGIN:VEVENT
DTSTART;TZID=America/New_York:20171108T170000
DTEND;TZID=America/New_York:20171108T180000
DTSTAMP:20260424T021251
CREATED:20171029T024535Z
LAST-MODIFIED:20171029T024535Z
UID:3734-1510160400-1510164000@www.goodshepherdblm.org
SUMMARY:Confirmation Class
DESCRIPTION:
URL:https://www.goodshepherdblm.org/event/confirmation-class-31/
LOCATION:Good Shepherd Lutheran Church\, 3516 White Eagle Drive\, Bloomington\, IL\, 61704\, United States
CATEGORIES:Confirmation Class
END:VEVENT
END:VCALENDAR