BEGIN:VCALENDAR
VERSION:2.0
PRODID:-//Good Shepherd Lutheran Church - ECPv6.15.13//NONSGML v1.0//EN
CALSCALE:GREGORIAN
METHOD:PUBLISH
X-ORIGINAL-URL:https://www.goodshepherdblm.org
X-WR-CALDESC:Events for Good Shepherd Lutheran Church
REFRESH-INTERVAL;VALUE=DURATION:PT1H
X-Robots-Tag:noindex
X-PUBLISHED-TTL:PT1H
BEGIN:VTIMEZONE
TZID:America/Chicago
BEGIN:DAYLIGHT
TZOFFSETFROM:-0600
TZOFFSETTO:-0500
TZNAME:CDT
DTSTART:20130310T080000
END:DAYLIGHT
BEGIN:STANDARD
TZOFFSETFROM:-0500
TZOFFSETTO:-0600
TZNAME:CST
DTSTART:20131103T070000
END:STANDARD
BEGIN:DAYLIGHT
TZOFFSETFROM:-0600
TZOFFSETTO:-0500
TZNAME:CDT
DTSTART:20140309T080000
END:DAYLIGHT
BEGIN:STANDARD
TZOFFSETFROM:-0500
TZOFFSETTO:-0600
TZNAME:CST
DTSTART:20141102T070000
END:STANDARD
BEGIN:DAYLIGHT
TZOFFSETFROM:-0600
TZOFFSETTO:-0500
TZNAME:CDT
DTSTART:20150308T080000
END:DAYLIGHT
BEGIN:STANDARD
TZOFFSETFROM:-0500
TZOFFSETTO:-0600
TZNAME:CST
DTSTART:20151101T070000
END:STANDARD
END:VTIMEZONE
BEGIN:VEVENT
DTSTART;TZID=America/Chicago:20140830T190000
DTEND;TZID=America/Chicago:20140830T210000
DTSTAMP:20260424T060757
CREATED:20140829T051510Z
LAST-MODIFIED:20140829T051510Z
UID:169-1409425200-1409432400@www.goodshepherdblm.org
SUMMARY:Movie Night
DESCRIPTION:laksdjfljasdfljasldjfkasldjf;ladfkljadskfjadsf
URL:https://www.goodshepherdblm.org/event/movie-night/
LOCATION:Good Shepherd Lutheran Church\, 3516 White Eagle Drive\, Bloomington\, IL\, 61704\, United States
CATEGORIES:Church Picnic
END:VEVENT
BEGIN:VEVENT
DTSTART;TZID=America/Chicago:20140824T113000
DTEND;TZID=America/Chicago:20140824T164500
DTSTAMP:20260424T060757
CREATED:20140818T015555Z
LAST-MODIFIED:20140818T015555Z
UID:41-1408879800-1408898700@www.goodshepherdblm.org
SUMMARY:2014 Annual Church Picnic
DESCRIPTION:It’s time for our 8th annual church picnic!  So come join us for an afternoon of fellowship\, food\, fun\, and games for all! \nTipton Park is a spray park for children to enjoy\, softball fields for adults and comfortable shade under the pavilion\, perfect for a relaxing afternoon with your church family. \nThe church will be providing the hotdogs and drinks\, bring your favorite dish to share with everyone. \nPlease sign up for this event\, there is a sign-up sheet for it in the narthex at church. \nSee you there!!
URL:https://www.goodshepherdblm.org/event/2014-annual-church-picnic/
LOCATION:Tipton Park Pavilion\, 2201 Stone Mountain Blvd\, Bloomington\, IL\, United States
CATEGORIES:Church Picnic
END:VEVENT
END:VCALENDAR