BEGIN:VCALENDAR
VERSION:2.0
PRODID:-//Good Shepherd Lutheran Church - ECPv6.15.13//NONSGML v1.0//EN
CALSCALE:GREGORIAN
METHOD:PUBLISH
X-WR-CALNAME:Good Shepherd Lutheran Church
X-ORIGINAL-URL:https://www.goodshepherdblm.org
X-WR-CALDESC:Events for Good Shepherd Lutheran Church
REFRESH-INTERVAL;VALUE=DURATION:PT1H
X-Robots-Tag:noindex
X-PUBLISHED-TTL:PT1H
BEGIN:VTIMEZONE
TZID:America/Chicago
BEGIN:DAYLIGHT
TZOFFSETFROM:-0600
TZOFFSETTO:-0500
TZNAME:CDT
DTSTART:20130310T080000
END:DAYLIGHT
BEGIN:STANDARD
TZOFFSETFROM:-0500
TZOFFSETTO:-0600
TZNAME:CST
DTSTART:20131103T070000
END:STANDARD
BEGIN:DAYLIGHT
TZOFFSETFROM:-0600
TZOFFSETTO:-0500
TZNAME:CDT
DTSTART:20140309T080000
END:DAYLIGHT
BEGIN:STANDARD
TZOFFSETFROM:-0500
TZOFFSETTO:-0600
TZNAME:CST
DTSTART:20141102T070000
END:STANDARD
BEGIN:DAYLIGHT
TZOFFSETFROM:-0600
TZOFFSETTO:-0500
TZNAME:CDT
DTSTART:20150308T080000
END:DAYLIGHT
BEGIN:STANDARD
TZOFFSETFROM:-0500
TZOFFSETTO:-0600
TZNAME:CST
DTSTART:20151101T070000
END:STANDARD
BEGIN:DAYLIGHT
TZOFFSETFROM:-0600
TZOFFSETTO:-0500
TZNAME:CDT
DTSTART:20160313T080000
END:DAYLIGHT
BEGIN:STANDARD
TZOFFSETFROM:-0500
TZOFFSETTO:-0600
TZNAME:CST
DTSTART:20161106T070000
END:STANDARD
END:VTIMEZONE
BEGIN:VEVENT
DTSTART;TZID=America/Chicago:20150721T180000
DTEND;TZID=America/Chicago:20150721T190000
DTSTAMP:20260424T132048
CREATED:20150802T160322Z
LAST-MODIFIED:20150802T160322Z
UID:1303-1437501600-1437505200@www.goodshepherdblm.org
SUMMARY:Board of Trustees
DESCRIPTION:
URL:https://www.goodshepherdblm.org/event/board-of-trustees-4/
LOCATION:Good Shepherd Lutheran Church\, 3516 White Eagle Drive\, Bloomington\, IL\, 61704\, United States
CATEGORIES:Board of Trustees
END:VEVENT
BEGIN:VEVENT
DTSTART;TZID=America/Chicago:20150616T180000
DTEND;TZID=America/Chicago:20150616T190000
DTSTAMP:20260424T132048
CREATED:20150531T064700Z
LAST-MODIFIED:20150531T064700Z
UID:1204-1434477600-1434481200@www.goodshepherdblm.org
SUMMARY:Trustees Meeting
DESCRIPTION:
URL:https://www.goodshepherdblm.org/event/trustees-meeting/
LOCATION:Good Shepherd Lutheran Church\, 3516 White Eagle Drive\, Bloomington\, IL\, 61704\, United States
CATEGORIES:Board of Trustees
END:VEVENT
BEGIN:VEVENT
DTSTART;TZID=America/Chicago:20150519T180000
DTEND;TZID=America/Chicago:20150519T190000
DTSTAMP:20260424T132048
CREATED:20150427T002239Z
LAST-MODIFIED:20150427T002239Z
UID:1045-1432058400-1432062000@www.goodshepherdblm.org
SUMMARY:Board of Trustees
DESCRIPTION:
URL:https://www.goodshepherdblm.org/event/board-of-trustees-3/
LOCATION:Good Shepherd Lutheran Church\, 3516 White Eagle Drive\, Bloomington\, IL\, 61704\, United States
CATEGORIES:Board of Trustees
END:VEVENT
BEGIN:VEVENT
DTSTART;TZID=America/Chicago:20150421T180000
DTEND;TZID=America/Chicago:20150421T190000
DTSTAMP:20260424T132048
CREATED:20150328T190234Z
LAST-MODIFIED:20150328T190234Z
UID:969-1429639200-1429642800@www.goodshepherdblm.org
SUMMARY:Trustees
DESCRIPTION:
URL:https://www.goodshepherdblm.org/event/trustees/
LOCATION:Good Shepherd Lutheran Church\, 3516 White Eagle Drive\, Bloomington\, IL\, 61704\, United States
CATEGORIES:Board of Trustees
END:VEVENT
BEGIN:VEVENT
DTSTART;TZID=America/Chicago:20150317T180000
DTEND;TZID=America/Chicago:20150317T190000
DTSTAMP:20260424T132048
CREATED:20150211T205127Z
LAST-MODIFIED:20150211T205127Z
UID:848-1426615200-1426618800@www.goodshepherdblm.org
SUMMARY:Board of Trustees
DESCRIPTION:
URL:https://www.goodshepherdblm.org/event/board-of-trustees-2/
LOCATION:Good Shepherd Lutheran Church\, 3516 White Eagle Drive\, Bloomington\, IL\, 61704\, United States
CATEGORIES:Board of Trustees
END:VEVENT
BEGIN:VEVENT
DTSTART;TZID=America/Chicago:20150217T180000
DTEND;TZID=America/Chicago:20150217T190000
DTSTAMP:20260424T132048
CREATED:20150127T001019Z
LAST-MODIFIED:20150127T001019Z
UID:735-1424196000-1424199600@www.goodshepherdblm.org
SUMMARY:Board of Trustees
DESCRIPTION:
URL:https://www.goodshepherdblm.org/event/board-of-trustees/
LOCATION:Good Shepherd Lutheran Church\, 3516 White Eagle Drive\, Bloomington\, IL\, 61704\, United States
CATEGORIES:Board of Trustees
END:VEVENT
BEGIN:VEVENT
DTSTART;TZID=America/Chicago:20150120T180000
DTEND;TZID=America/Chicago:20150120T190000
DTSTAMP:20260424T132048
CREATED:20150108T061011Z
LAST-MODIFIED:20150108T061011Z
UID:681-1421776800-1421780400@www.goodshepherdblm.org
SUMMARY:Board of Trustees Meeting
DESCRIPTION:
URL:https://www.goodshepherdblm.org/event/board-of-trustees-meeting-2/
LOCATION:Good Shepherd Lutheran Church\, 3516 White Eagle Drive\, Bloomington\, IL\, 61704\, United States
CATEGORIES:Board of Trustees
END:VEVENT
BEGIN:VEVENT
DTSTART;TZID=America/Chicago:20141118T180000
DTEND;TZID=America/Chicago:20141118T190000
DTSTAMP:20260424T132048
CREATED:20141030T225219Z
LAST-MODIFIED:20141030T225219Z
UID:486-1416333600-1416337200@www.goodshepherdblm.org
SUMMARY:Board of Trustees Meeting
DESCRIPTION:
URL:https://www.goodshepherdblm.org/event/board-of-trustees-meeting-4/
LOCATION:Good Shepherd Lutheran Church\, 3516 White Eagle Drive\, Bloomington\, IL\, 61704\, United States
CATEGORIES:Board Meetings,Board of Trustees
END:VEVENT
BEGIN:VEVENT
DTSTART;TZID=America/Chicago:20141021T180000
DTEND;TZID=America/Chicago:20141021T190000
DTSTAMP:20260424T132048
CREATED:20141012T203206Z
LAST-MODIFIED:20141012T203206Z
UID:391-1413914400-1413918000@www.goodshepherdblm.org
SUMMARY:Board of Trustees Meeting
DESCRIPTION:
URL:https://www.goodshepherdblm.org/event/board-of-trustees-meeting-3/
LOCATION:Good Shepherd Lutheran Church\, 3516 White Eagle Drive\, Bloomington\, IL\, 61704\, United States
CATEGORIES:Board Meetings,Board of Trustees
END:VEVENT
BEGIN:VEVENT
DTSTART;TZID=America/Chicago:20140916T180000
DTEND;TZID=America/Chicago:20140916T190000
DTSTAMP:20260424T132048
CREATED:20140908T010850Z
LAST-MODIFIED:20140908T010850Z
UID:229-1410890400-1410894000@www.goodshepherdblm.org
SUMMARY:Board of Trustees Meeting
DESCRIPTION:
URL:https://www.goodshepherdblm.org/event/board-of-trustees-meeting/
LOCATION:Good Shepherd Lutheran Church\, 3516 White Eagle Drive\, Bloomington\, IL\, 61704\, United States
CATEGORIES:Board of Trustees
END:VEVENT
END:VCALENDAR