BEGIN:VCALENDAR
VERSION:2.0
PRODID:-//Good Shepherd Lutheran Church - ECPv6.15.13//NONSGML v1.0//EN
CALSCALE:GREGORIAN
METHOD:PUBLISH
X-WR-CALNAME:Good Shepherd Lutheran Church
X-ORIGINAL-URL:https://www.goodshepherdblm.org
X-WR-CALDESC:Events for Good Shepherd Lutheran Church
REFRESH-INTERVAL;VALUE=DURATION:PT1H
X-Robots-Tag:noindex
X-PUBLISHED-TTL:PT1H
BEGIN:VTIMEZONE
TZID:America/Chicago
BEGIN:DAYLIGHT
TZOFFSETFROM:-0600
TZOFFSETTO:-0500
TZNAME:CDT
DTSTART:20180311T080000
END:DAYLIGHT
BEGIN:STANDARD
TZOFFSETFROM:-0500
TZOFFSETTO:-0600
TZNAME:CST
DTSTART:20181104T070000
END:STANDARD
BEGIN:DAYLIGHT
TZOFFSETFROM:-0600
TZOFFSETTO:-0500
TZNAME:CDT
DTSTART:20190310T080000
END:DAYLIGHT
BEGIN:STANDARD
TZOFFSETFROM:-0500
TZOFFSETTO:-0600
TZNAME:CST
DTSTART:20191103T070000
END:STANDARD
BEGIN:DAYLIGHT
TZOFFSETFROM:-0600
TZOFFSETTO:-0500
TZNAME:CDT
DTSTART:20200308T080000
END:DAYLIGHT
BEGIN:STANDARD
TZOFFSETFROM:-0500
TZOFFSETTO:-0600
TZNAME:CST
DTSTART:20201101T070000
END:STANDARD
BEGIN:DAYLIGHT
TZOFFSETFROM:-0600
TZOFFSETTO:-0500
TZNAME:CDT
DTSTART:20210314T080000
END:DAYLIGHT
BEGIN:STANDARD
TZOFFSETFROM:-0500
TZOFFSETTO:-0600
TZNAME:CST
DTSTART:20211107T070000
END:STANDARD
BEGIN:DAYLIGHT
TZOFFSETFROM:-0600
TZOFFSETTO:-0500
TZNAME:CDT
DTSTART:20220313T080000
END:DAYLIGHT
BEGIN:STANDARD
TZOFFSETFROM:-0500
TZOFFSETTO:-0600
TZNAME:CST
DTSTART:20221106T070000
END:STANDARD
BEGIN:DAYLIGHT
TZOFFSETFROM:-0600
TZOFFSETTO:-0500
TZNAME:CDT
DTSTART:20230312T080000
END:DAYLIGHT
BEGIN:STANDARD
TZOFFSETFROM:-0500
TZOFFSETTO:-0600
TZNAME:CST
DTSTART:20231105T070000
END:STANDARD
END:VTIMEZONE
BEGIN:VEVENT
DTSTART;TZID=America/Chicago:20220210T183000
DTEND;TZID=America/Chicago:20220210T183000
DTSTAMP:20260424T022423
CREATED:20220302T235314Z
LAST-MODIFIED:20220302T235314Z
UID:8721-1644517800-1644517800@www.goodshepherdblm.org
SUMMARY:Trustees Meeting
DESCRIPTION:
URL:https://www.goodshepherdblm.org/event/trustees-meeting-9/
LOCATION:Good Shepherd Lutheran Church\, 3516 White Eagle Drive\, Bloomington\, IL\, 61704\, United States
CATEGORIES:Board of Trustees
END:VEVENT
BEGIN:VEVENT
DTSTART;TZID=America/Chicago:20220118T180000
DTEND;TZID=America/Chicago:20220118T180000
DTSTAMP:20260424T022423
CREATED:20220112T173256Z
LAST-MODIFIED:20220112T173256Z
UID:8665-1642528800-1642528800@www.goodshepherdblm.org
SUMMARY:Church Council Meeting
DESCRIPTION:
URL:https://www.goodshepherdblm.org/event/church-council-meeting-29/
LOCATION:Good Shepherd Lutheran Church\, 3516 White Eagle Drive\, Bloomington\, IL\, 61704\, United States
CATEGORIES:Church Council
END:VEVENT
BEGIN:VEVENT
DTSTART;TZID=America/Chicago:20220113T183000
DTEND;TZID=America/Chicago:20220113T183000
DTSTAMP:20260424T022423
CREATED:20220112T172614Z
LAST-MODIFIED:20220112T174236Z
UID:8657-1642098600-1642098600@www.goodshepherdblm.org
SUMMARY:Trustees' Meeting
DESCRIPTION:
URL:https://www.goodshepherdblm.org/event/trustees-meeting-8/
LOCATION:Good Shepherd Lutheran Church\, 3516 White Eagle Drive\, Bloomington\, IL\, 61704\, United States
CATEGORIES:Board of Trustees
END:VEVENT
BEGIN:VEVENT
DTSTART;TZID=America/Chicago:20220110T183000
DTEND;TZID=America/Chicago:20220110T183000
DTSTAMP:20260424T022423
CREATED:20220112T172423Z
LAST-MODIFIED:20220112T172423Z
UID:8653-1641839400-1641839400@www.goodshepherdblm.org
SUMMARY:Elders' Meeting
DESCRIPTION:
URL:https://www.goodshepherdblm.org/event/elders-meeting-7/
LOCATION:Good Shepherd Lutheran Church\, 3516 White Eagle Drive\, Bloomington\, IL\, 61704\, United States
CATEGORIES:Board of Elders
END:VEVENT
BEGIN:VEVENT
DTSTART;TZID=America/Chicago:20211116T180000
DTEND;TZID=America/Chicago:20211116T180000
DTSTAMP:20260424T022423
CREATED:20211110T194901Z
LAST-MODIFIED:20211110T194901Z
UID:8492-1637085600-1637085600@www.goodshepherdblm.org
SUMMARY:Church Council
DESCRIPTION:
URL:https://www.goodshepherdblm.org/event/church-council-36/
LOCATION:Good Shepherd Lutheran Church\, 3516 White Eagle Drive\, Bloomington\, IL\, 61704\, United States
CATEGORIES:Church Council
END:VEVENT
BEGIN:VEVENT
DTSTART;TZID=America/Chicago:20211111T183000
DTEND;TZID=America/Chicago:20211111T183000
DTSTAMP:20260424T022423
CREATED:20211110T195135Z
LAST-MODIFIED:20211110T195135Z
UID:8494-1636655400-1636655400@www.goodshepherdblm.org
SUMMARY:Trustees Meeting
DESCRIPTION:
URL:https://www.goodshepherdblm.org/event/trustees-meeting-7/
LOCATION:Good Shepherd Lutheran Church\, 3516 White Eagle Drive\, Bloomington\, IL\, 61704\, United States
CATEGORIES:Board of Trustees
END:VEVENT
BEGIN:VEVENT
DTSTART;TZID=America/Chicago:20211108T190000
DTEND;TZID=America/Chicago:20211108T190000
DTSTAMP:20260424T022423
CREATED:20211110T192805Z
LAST-MODIFIED:20211110T192805Z
UID:8461-1636398000-1636398000@www.goodshepherdblm.org
SUMMARY:Elders Meeting
DESCRIPTION:
URL:https://www.goodshepherdblm.org/event/elders-meeting-6/
LOCATION:Good Shepherd Lutheran Church\, 3516 White Eagle Drive\, Bloomington\, IL\, 61704\, United States
CATEGORIES:Board of Elders
END:VEVENT
BEGIN:VEVENT
DTSTART;TZID=America/Chicago:20211026T180000
DTEND;TZID=America/Chicago:20211026T180000
DTSTAMP:20260424T022423
CREATED:20210930T162354Z
LAST-MODIFIED:20210930T162354Z
UID:8426-1635271200-1635271200@www.goodshepherdblm.org
SUMMARY:Evangelism Stewardship Meeting
DESCRIPTION:
URL:https://www.goodshepherdblm.org/event/evangelism-stewardship-meeting-5/
LOCATION:Good Shepherd Lutheran Church\, 3516 White Eagle Drive\, Bloomington\, IL\, 61704\, United States
CATEGORIES:Board of Evangelism,Board of Stewardship
END:VEVENT
BEGIN:VEVENT
DTSTART;TZID=America/Chicago:20211019T180000
DTEND;TZID=America/Chicago:20211019T180000
DTSTAMP:20260424T022423
CREATED:20210930T162257Z
LAST-MODIFIED:20210930T162257Z
UID:8424-1634666400-1634666400@www.goodshepherdblm.org
SUMMARY:Church Council Meeting
DESCRIPTION:
URL:https://www.goodshepherdblm.org/event/church-council-meeting-28/
LOCATION:Good Shepherd Lutheran Church\, 3516 White Eagle Drive\, Bloomington\, IL\, 61704\, United States
CATEGORIES:Church Council
END:VEVENT
BEGIN:VEVENT
DTSTART;TZID=America/Chicago:20211014T183000
DTEND;TZID=America/Chicago:20211014T183000
DTSTAMP:20260424T022423
CREATED:20210930T162643Z
LAST-MODIFIED:20210930T163454Z
UID:8430-1634236200-1634236200@www.goodshepherdblm.org
SUMMARY:Trustees' Meeting
DESCRIPTION:
URL:https://www.goodshepherdblm.org/event/trustees-meeting-6/
LOCATION:Good Shepherd Lutheran Church\, 3516 White Eagle Drive\, Bloomington\, IL\, 61704\, United States
CATEGORIES:Board of Trustees
END:VEVENT
BEGIN:VEVENT
DTSTART;TZID=America/Chicago:20211011T183000
DTEND;TZID=America/Chicago:20211011T183000
DTSTAMP:20260424T022423
CREATED:20210930T161813Z
LAST-MODIFIED:20210930T161813Z
UID:8416-1633977000-1633977000@www.goodshepherdblm.org
SUMMARY:Elders' Meeting
DESCRIPTION:
URL:https://www.goodshepherdblm.org/event/elders-meeting-5/
LOCATION:Good Shepherd Lutheran Church\, 3516 White Eagle Drive\, Bloomington\, IL\, 61704\, United States
CATEGORIES:Board of Elders
END:VEVENT
BEGIN:VEVENT
DTSTART;TZID=America/Chicago:20210817T180000
DTEND;TZID=America/Chicago:20210817T180000
DTSTAMP:20260424T022423
CREATED:20210728T174611Z
LAST-MODIFIED:20210728T174611Z
UID:8326-1629223200-1629223200@www.goodshepherdblm.org
SUMMARY:Church Council
DESCRIPTION:
URL:https://www.goodshepherdblm.org/event/church-council-35/
LOCATION:Good Shepherd Lutheran Church\, 3516 White Eagle Drive\, Bloomington\, IL\, 61704\, United States
CATEGORIES:Church Council
END:VEVENT
BEGIN:VEVENT
DTSTART;TZID=America/Chicago:20210812T183000
DTEND;TZID=America/Chicago:20210812T183000
DTSTAMP:20260424T022423
CREATED:20210728T174447Z
LAST-MODIFIED:20210728T174447Z
UID:8324-1628793000-1628793000@www.goodshepherdblm.org
SUMMARY:Trustees Meeting
DESCRIPTION:
URL:https://www.goodshepherdblm.org/event/trustees-meeting-5/
LOCATION:Good Shepherd Lutheran Church\, 3516 White Eagle Drive\, Bloomington\, IL\, 61704\, United States
CATEGORIES:Board of Trustees
END:VEVENT
BEGIN:VEVENT
DTSTART;TZID=America/Chicago:20210809T183000
DTEND;TZID=America/Chicago:20210809T183000
DTSTAMP:20260424T022423
CREATED:20210728T174335Z
LAST-MODIFIED:20210728T174335Z
UID:8322-1628533800-1628533800@www.goodshepherdblm.org
SUMMARY:Elders Meeting
DESCRIPTION:
URL:https://www.goodshepherdblm.org/event/elders-meeting-4/
LOCATION:Good Shepherd Lutheran Church\, 3516 White Eagle Drive\, Bloomington\, IL\, 61704\, United States
CATEGORIES:Board of Elders
END:VEVENT
BEGIN:VEVENT
DTSTART;TZID=America/Chicago:20210804T180000
DTEND;TZID=America/Chicago:20210804T180000
DTSTAMP:20260424T022423
CREATED:20210728T173801Z
LAST-MODIFIED:20210728T174104Z
UID:8316-1628100000-1628100000@www.goodshepherdblm.org
SUMMARY:Evangelism/Stewardship Meeting
DESCRIPTION:
URL:https://www.goodshepherdblm.org/event/evangelism-stewardship-meeting-4/
LOCATION:Good Shepherd Lutheran Church\, 3516 White Eagle Drive\, Bloomington\, IL\, 61704\, United States
CATEGORIES:Board of Evangelism,Board of Stewardship
END:VEVENT
BEGIN:VEVENT
DTSTART;TZID=America/Chicago:20201020T180000
DTEND;TZID=America/Chicago:20201020T180000
DTSTAMP:20260424T022423
CREATED:20200929T161422Z
LAST-MODIFIED:20200929T161422Z
UID:7937-1603216800-1603216800@www.goodshepherdblm.org
SUMMARY:Church Council Meeting
DESCRIPTION:
URL:https://www.goodshepherdblm.org/event/church-council-meeting-26/
LOCATION:Good Shepherd Lutheran Church\, 3516 White Eagle Drive\, Bloomington\, IL\, 61704\, United States
CATEGORIES:Church Council
END:VEVENT
BEGIN:VEVENT
DTSTART;TZID=America/Chicago:20201013T190000
DTEND;TZID=America/Chicago:20201013T190000
DTSTAMP:20260424T022423
CREATED:20200929T161306Z
LAST-MODIFIED:20200929T161306Z
UID:7935-1602615600-1602615600@www.goodshepherdblm.org
SUMMARY:Board of Elders Meeting
DESCRIPTION:
URL:https://www.goodshepherdblm.org/event/board-of-elders-meeting-25/
LOCATION:Good Shepherd Lutheran Church\, 3516 White Eagle Drive\, Bloomington\, IL\, 61704\, United States
CATEGORIES:Board of Elders
END:VEVENT
BEGIN:VEVENT
DTSTART;TZID=America/Chicago:20200317T180000
DTEND;TZID=America/Chicago:20200317T190000
DTSTAMP:20260424T022423
CREATED:20200303T174639Z
LAST-MODIFIED:20200303T174639Z
UID:7050-1584468000-1584471600@www.goodshepherdblm.org
SUMMARY:Church Council Meeting
DESCRIPTION:
URL:https://www.goodshepherdblm.org/event/church-council-meeting-25/
LOCATION:Good Shepherd Lutheran Church\, 3516 White Eagle Drive\, Bloomington\, IL\, 61704\, United States
CATEGORIES:Church Council
END:VEVENT
BEGIN:VEVENT
DTSTART;TZID=America/Chicago:20200312T183000
DTEND;TZID=America/Chicago:20200312T193000
DTSTAMP:20260424T022423
CREATED:20200303T173923Z
LAST-MODIFIED:20200303T173923Z
UID:7044-1584037800-1584041400@www.goodshepherdblm.org
SUMMARY:Board of Trustees Meeting
DESCRIPTION:
URL:https://www.goodshepherdblm.org/event/board-of-trustees-meeting-24/
LOCATION:Good Shepherd Lutheran Church\, 3516 White Eagle Drive\, Bloomington\, IL\, 61704\, United States
CATEGORIES:Board of Trustees
END:VEVENT
BEGIN:VEVENT
DTSTART;TZID=America/Chicago:20200310T190000
DTEND;TZID=America/Chicago:20200310T200000
DTSTAMP:20260424T022423
CREATED:20200303T173615Z
LAST-MODIFIED:20200303T173615Z
UID:7038-1583866800-1583870400@www.goodshepherdblm.org
SUMMARY:Board of Elders Meeting
DESCRIPTION:
URL:https://www.goodshepherdblm.org/event/board-of-elders-meeting-24/
LOCATION:Good Shepherd Lutheran Church\, 3516 White Eagle Drive\, Bloomington\, IL\, 61704\, United States
CATEGORIES:Board of Elders
END:VEVENT
BEGIN:VEVENT
DTSTART;TZID=America/Chicago:20200218T180000
DTEND;TZID=America/Chicago:20200218T190000
DTSTAMP:20260424T022423
CREATED:20200203T163355Z
LAST-MODIFIED:20200203T163355Z
UID:6811-1582048800-1582052400@www.goodshepherdblm.org
SUMMARY:Church Council Meeting
DESCRIPTION:
URL:https://www.goodshepherdblm.org/event/church-council-meeting-24/
LOCATION:Good Shepherd Lutheran Church\, 3516 White Eagle Drive\, Bloomington\, IL\, 61704\, United States
CATEGORIES:Church Council
END:VEVENT
BEGIN:VEVENT
DTSTART;TZID=America/Chicago:20200213T183000
DTEND;TZID=America/Chicago:20200213T193000
DTSTAMP:20260424T022423
CREATED:20200127T171123Z
LAST-MODIFIED:20200127T171123Z
UID:6586-1581618600-1581622200@www.goodshepherdblm.org
SUMMARY:Board of Trustees Meeting
DESCRIPTION:
URL:https://www.goodshepherdblm.org/event/board-of-trustees-meeting-23/
LOCATION:Good Shepherd Lutheran Church\, 3516 White Eagle Drive\, Bloomington\, IL\, 61704\, United States
CATEGORIES:Board of Trustees
END:VEVENT
BEGIN:VEVENT
DTSTART;TZID=America/Chicago:20200211T190000
DTEND;TZID=America/Chicago:20200211T200000
DTSTAMP:20260424T022423
CREATED:20200127T170858Z
LAST-MODIFIED:20200127T170858Z
UID:6583-1581447600-1581451200@www.goodshepherdblm.org
SUMMARY:Board of Elders Meeting
DESCRIPTION:
URL:https://www.goodshepherdblm.org/event/board-of-elders-meeting-23/
LOCATION:Good Shepherd Lutheran Church\, 3516 White Eagle Drive\, Bloomington\, IL\, 61704\, United States
CATEGORIES:Board of Elders
END:VEVENT
BEGIN:VEVENT
DTSTART;TZID=America/Chicago:20200211T180000
DTEND;TZID=America/Chicago:20200211T190000
DTSTAMP:20260424T022423
CREATED:20200127T170814Z
LAST-MODIFIED:20200127T171005Z
UID:6581-1581444000-1581447600@www.goodshepherdblm.org
SUMMARY:Boards of Evangelism/Stewardship Meeting
DESCRIPTION:
URL:https://www.goodshepherdblm.org/event/boards-of-evangelism-stewardship-4/
LOCATION:Good Shepherd Lutheran Church\, 3516 White Eagle Drive\, Bloomington\, IL\, 61704\, United States
CATEGORIES:Board of Evangelism,Board of Stewardship
END:VEVENT
BEGIN:VEVENT
DTSTART;TZID=America/Chicago:20200121T180000
DTEND;TZID=America/Chicago:20200121T190000
DTSTAMP:20260424T022423
CREATED:20191226T161059Z
LAST-MODIFIED:20191226T161059Z
UID:6492-1579629600-1579633200@www.goodshepherdblm.org
SUMMARY:Church Council Meeting
DESCRIPTION:
URL:https://www.goodshepherdblm.org/event/church-council-meeting-23/
LOCATION:Good Shepherd Lutheran Church\, 3516 White Eagle Drive\, Bloomington\, IL\, 61704\, United States
CATEGORIES:Church Council
END:VEVENT
BEGIN:VEVENT
DTSTART;TZID=America/Chicago:20200114T190000
DTEND;TZID=America/Chicago:20200114T200000
DTSTAMP:20260424T022423
CREATED:20191226T160406Z
LAST-MODIFIED:20191226T160406Z
UID:6484-1579028400-1579032000@www.goodshepherdblm.org
SUMMARY:Board of Elders Meeting
DESCRIPTION:
URL:https://www.goodshepherdblm.org/event/board-of-elders-meeting-22/
LOCATION:Good Shepherd Lutheran Church\, 3516 White Eagle Drive\, Bloomington\, IL\, 61704\, United States
CATEGORIES:Board of Elders
END:VEVENT
BEGIN:VEVENT
DTSTART;TZID=America/Chicago:20200109T183000
DTEND;TZID=America/Chicago:20200109T193000
DTSTAMP:20260424T022423
CREATED:20191226T155701Z
LAST-MODIFIED:20191226T155701Z
UID:6472-1578594600-1578598200@www.goodshepherdblm.org
SUMMARY:Board of Trustees Meeting
DESCRIPTION:
URL:https://www.goodshepherdblm.org/event/board-of-trustees-meeting-22/
LOCATION:Good Shepherd Lutheran Church\, 3516 White Eagle Drive\, Bloomington\, IL\, 61704\, United States
CATEGORIES:Board of Trustees
END:VEVENT
BEGIN:VEVENT
DTSTART;VALUE=DATE:20200105
DTEND;VALUE=DATE:20200106
DTSTAMP:20260424T022423
CREATED:20191226T155402Z
LAST-MODIFIED:20191226T155402Z
UID:6466-1578182400-1578268799@www.goodshepherdblm.org
SUMMARY:Installation of Officers (both services)
DESCRIPTION:
URL:https://www.goodshepherdblm.org/event/installation-of-officers-both-services-2/
LOCATION:Good Shepherd Lutheran Church\, 3516 White Eagle Drive\, Bloomington\, IL\, 61704\, United States
CATEGORIES:Board Meetings
END:VEVENT
BEGIN:VEVENT
DTSTART;TZID=America/Chicago:20191119T180000
DTEND;TZID=America/Chicago:20191119T190000
DTSTAMP:20260424T022423
CREATED:20191024T144525Z
LAST-MODIFIED:20191024T144525Z
UID:6275-1574186400-1574190000@www.goodshepherdblm.org
SUMMARY:Church Council Meeting
DESCRIPTION:
URL:https://www.goodshepherdblm.org/event/church-council-meeting-22/
LOCATION:Good Shepherd Lutheran Church\, 3516 White Eagle Drive\, Bloomington\, IL\, 61704\, United States
CATEGORIES:Church Council
END:VEVENT
BEGIN:VEVENT
DTSTART;TZID=America/Chicago:20191112T190000
DTEND;TZID=America/Chicago:20191112T200000
DTSTAMP:20260424T022423
CREATED:20191024T143816Z
LAST-MODIFIED:20191024T143816Z
UID:6265-1573585200-1573588800@www.goodshepherdblm.org
SUMMARY:Board of Elders Meeting
DESCRIPTION:
URL:https://www.goodshepherdblm.org/event/board-of-elders-meeting-21/
LOCATION:Good Shepherd Lutheran Church\, 3516 White Eagle Drive\, Bloomington\, IL\, 61704\, United States
CATEGORIES:Board of Elders
END:VEVENT
END:VCALENDAR