BEGIN:VCALENDAR
VERSION:2.0
PRODID:-//Good Shepherd Lutheran Church - ECPv6.15.13//NONSGML v1.0//EN
CALSCALE:GREGORIAN
METHOD:PUBLISH
X-WR-CALNAME:Good Shepherd Lutheran Church
X-ORIGINAL-URL:https://www.goodshepherdblm.org
X-WR-CALDESC:Events for Good Shepherd Lutheran Church
REFRESH-INTERVAL;VALUE=DURATION:PT1H
X-Robots-Tag:noindex
X-PUBLISHED-TTL:PT1H
BEGIN:VTIMEZONE
TZID:America/New_York
BEGIN:DAYLIGHT
TZOFFSETFROM:-0500
TZOFFSETTO:-0400
TZNAME:EDT
DTSTART:20150308T070000
END:DAYLIGHT
BEGIN:STANDARD
TZOFFSETFROM:-0400
TZOFFSETTO:-0500
TZNAME:EST
DTSTART:20151101T060000
END:STANDARD
BEGIN:DAYLIGHT
TZOFFSETFROM:-0500
TZOFFSETTO:-0400
TZNAME:EDT
DTSTART:20160313T070000
END:DAYLIGHT
BEGIN:STANDARD
TZOFFSETFROM:-0400
TZOFFSETTO:-0500
TZNAME:EST
DTSTART:20161106T060000
END:STANDARD
BEGIN:DAYLIGHT
TZOFFSETFROM:-0500
TZOFFSETTO:-0400
TZNAME:EDT
DTSTART:20170312T070000
END:DAYLIGHT
BEGIN:STANDARD
TZOFFSETFROM:-0400
TZOFFSETTO:-0500
TZNAME:EST
DTSTART:20171105T060000
END:STANDARD
END:VTIMEZONE
BEGIN:VEVENT
DTSTART;TZID=America/New_York:20161101T180000
DTEND;TZID=America/New_York:20161101T190000
DTSTAMP:20260425T232549
CREATED:20161030T192506Z
LAST-MODIFIED:20161030T193735Z
UID:2515-1478023200-1478026800@www.goodshepherdblm.org
SUMMARY:Board of Evangelism Stewardship
DESCRIPTION:
URL:https://www.goodshepherdblm.org/event/evangelismstewardship-3/
LOCATION:Good Shepherd Lutheran Church\, 3516 White Eagle Drive\, Bloomington\, IL\, 61704\, United States
CATEGORIES:Board of Evangelism,Board of Stewardship
END:VEVENT
BEGIN:VEVENT
DTSTART;TZID=America/New_York:20161018T190000
DTEND;TZID=America/New_York:20161018T200000
DTSTAMP:20260425T232549
CREATED:20161006T151954Z
LAST-MODIFIED:20161006T151954Z
UID:2478-1476817200-1476820800@www.goodshepherdblm.org
SUMMARY:Church Council
DESCRIPTION:
URL:https://www.goodshepherdblm.org/event/church-council-19/
LOCATION:Good Shepherd Lutheran Church\, 3516 White Eagle Drive\, Bloomington\, IL\, 61704\, United States
CATEGORIES:Church Council
END:VEVENT
BEGIN:VEVENT
DTSTART;TZID=America/New_York:20161013T183000
DTEND;TZID=America/New_York:20161013T193000
DTSTAMP:20260425T232549
CREATED:20161006T152159Z
LAST-MODIFIED:20161006T152159Z
UID:2482-1476383400-1476387000@www.goodshepherdblm.org
SUMMARY:Board of Trustees
DESCRIPTION:
URL:https://www.goodshepherdblm.org/event/board-of-trustees-16/
LOCATION:Good Shepherd Lutheran Church\, 3516 White Eagle Drive\, Bloomington\, IL\, 61704\, United States
CATEGORIES:Board of Trustees
END:VEVENT
BEGIN:VEVENT
DTSTART;TZID=America/New_York:20161011T190000
DTEND;TZID=America/New_York:20161011T200000
DTSTAMP:20260425T232549
CREATED:20161006T151754Z
LAST-MODIFIED:20161006T151754Z
UID:2474-1476212400-1476216000@www.goodshepherdblm.org
SUMMARY:Board of Elders
DESCRIPTION:
URL:https://www.goodshepherdblm.org/event/board-of-elders-17/
LOCATION:Good Shepherd Lutheran Church\, 3516 White Eagle Drive\, Bloomington\, IL\, 61704\, United States
CATEGORIES:Board of Elders
END:VEVENT
BEGIN:VEVENT
DTSTART;TZID=America/New_York:20160920T190000
DTEND;TZID=America/New_York:20160920T200000
DTSTAMP:20260425T232549
CREATED:20160825T040055Z
LAST-MODIFIED:20160825T040055Z
UID:2378-1474398000-1474401600@www.goodshepherdblm.org
SUMMARY:Church Council
DESCRIPTION:
URL:https://www.goodshepherdblm.org/event/church-council-18/
LOCATION:Good Shepherd Lutheran Church\, 3516 White Eagle Drive\, Bloomington\, IL\, 61704\, United States
CATEGORIES:Church Council
END:VEVENT
BEGIN:VEVENT
DTSTART;TZID=America/New_York:20160913T190000
DTEND;TZID=America/New_York:20160913T200000
DTSTAMP:20260425T232549
CREATED:20160825T035641Z
LAST-MODIFIED:20160825T035641Z
UID:2375-1473793200-1473796800@www.goodshepherdblm.org
SUMMARY:Board of Elders
DESCRIPTION:
URL:https://www.goodshepherdblm.org/event/board-of-elders-16/
LOCATION:Good Shepherd Lutheran Church\, 3516 White Eagle Drive\, Bloomington\, IL\, 61704\, United States
CATEGORIES:Board of Elders
END:VEVENT
BEGIN:VEVENT
DTSTART;TZID=America/New_York:20160913T180000
DTEND;TZID=America/New_York:20160913T190000
DTSTAMP:20260425T232549
CREATED:20160825T035527Z
LAST-MODIFIED:20160825T040735Z
UID:2374-1473789600-1473793200@www.goodshepherdblm.org
SUMMARY:Board of Evangelism/Stewardship
DESCRIPTION:
URL:https://www.goodshepherdblm.org/event/board-of-evangelismstewardship-4/
LOCATION:Good Shepherd Lutheran Church\, 3516 White Eagle Drive\, Bloomington\, IL\, 61704\, United States
CATEGORIES:Board of Evangelism
END:VEVENT
BEGIN:VEVENT
DTSTART;VALUE=DATE:20160911
DTEND;VALUE=DATE:20160912
DTSTAMP:20260425T232549
CREATED:20160831T161127Z
LAST-MODIFIED:20160831T161127Z
UID:2388-1473552000-1473638399@www.goodshepherdblm.org
SUMMARY:Christian Education Rally Sunday
DESCRIPTION:
URL:https://www.goodshepherdblm.org/event/christian-education-rally-sunday/
LOCATION:Good Shepherd Lutheran Church\, 3516 White Eagle Drive\, Bloomington\, IL\, 61704\, United States
CATEGORIES:Board of Education
END:VEVENT
BEGIN:VEVENT
DTSTART;TZID=America/New_York:20160908T183000
DTEND;TZID=America/New_York:20160908T193000
DTSTAMP:20260425T232549
CREATED:20160825T035216Z
LAST-MODIFIED:20160825T035216Z
UID:2372-1473359400-1473363000@www.goodshepherdblm.org
SUMMARY:Board of Trustees
DESCRIPTION:
URL:https://www.goodshepherdblm.org/event/board-of-trustees-15/
LOCATION:Good Shepherd Lutheran Church\, 3516 White Eagle Drive\, Bloomington\, IL\, 61704\, United States
CATEGORIES:Board of Trustees
END:VEVENT
BEGIN:VEVENT
DTSTART;TZID=America/New_York:20160907T183000
DTEND;TZID=America/New_York:20160907T193000
DTSTAMP:20260425T232549
CREATED:20160901T151204Z
LAST-MODIFIED:20160901T151204Z
UID:2389-1473273000-1473276600@www.goodshepherdblm.org
SUMMARY:Board of Education
DESCRIPTION:
URL:https://www.goodshepherdblm.org/event/board-of-education-5/
LOCATION:Good Shepherd Lutheran Church\, 3516 White Eagle Drive\, Bloomington\, IL\, 61704\, United States
CATEGORIES:Board of Education
END:VEVENT
BEGIN:VEVENT
DTSTART;TZID=America/New_York:20160816T190000
DTEND;TZID=America/New_York:20160816T200000
DTSTAMP:20260425T232549
CREATED:20160816T145247Z
LAST-MODIFIED:20160816T145247Z
UID:2361-1471374000-1471377600@www.goodshepherdblm.org
SUMMARY:Church Council
DESCRIPTION:
URL:https://www.goodshepherdblm.org/event/church-council-17/
LOCATION:Good Shepherd Lutheran Church\, 3516 White Eagle Drive\, Bloomington\, IL\, 61704\, United States
CATEGORIES:Church Council
END:VEVENT
BEGIN:VEVENT
DTSTART;TZID=America/New_York:20160811T063000
DTEND;TZID=America/New_York:20160811T193000
DTSTAMP:20260425T232549
CREATED:20160816T145133Z
LAST-MODIFIED:20160816T145133Z
UID:2360-1470897000-1470943800@www.goodshepherdblm.org
SUMMARY:Trustees Meeting
DESCRIPTION:
URL:https://www.goodshepherdblm.org/event/trustees-meeting-2/
LOCATION:Good Shepherd Lutheran Church\, 3516 White Eagle Drive\, Bloomington\, IL\, 61704\, United States
CATEGORIES:Board of Trustees
END:VEVENT
BEGIN:VEVENT
DTSTART;TZID=America/New_York:20160809T190000
DTEND;TZID=America/New_York:20160809T200000
DTSTAMP:20260425T232549
CREATED:20160816T145015Z
LAST-MODIFIED:20160816T145015Z
UID:2359-1470769200-1470772800@www.goodshepherdblm.org
SUMMARY:Board of Elders
DESCRIPTION:
URL:https://www.goodshepherdblm.org/event/board-of-elders-15/
LOCATION:Good Shepherd Lutheran Church\, 3516 White Eagle Drive\, Bloomington\, IL\, 61704\, United States
CATEGORIES:Board of Elders
END:VEVENT
BEGIN:VEVENT
DTSTART;TZID=America/New_York:20160809T180000
DTEND;TZID=America/New_York:20160809T190000
DTSTAMP:20260425T232549
CREATED:20160816T144926Z
LAST-MODIFIED:20160816T144926Z
UID:2358-1470765600-1470769200@www.goodshepherdblm.org
SUMMARY:Evangelism/Stewardship Meeting
DESCRIPTION:
URL:https://www.goodshepherdblm.org/event/evangelismstewardship-meeting-2/
LOCATION:Good Shepherd Lutheran Church\, 3516 White Eagle Drive\, Bloomington\, IL\, 61704\, United States
CATEGORIES:Board of Evangelism,Board of Stewardship
END:VEVENT
BEGIN:VEVENT
DTSTART;TZID=America/New_York:20160719T190000
DTEND;TZID=America/New_York:20160719T200000
DTSTAMP:20260425T232549
CREATED:20160625T003851Z
LAST-MODIFIED:20160625T003851Z
UID:2284-1468954800-1468958400@www.goodshepherdblm.org
SUMMARY:Church Council
DESCRIPTION:
URL:https://www.goodshepherdblm.org/event/church-council-16/
LOCATION:Good Shepherd Lutheran Church\, 3516 White Eagle Drive\, Bloomington\, IL\, 61704\, United States
CATEGORIES:Church Council
END:VEVENT
BEGIN:VEVENT
DTSTART;TZID=America/New_York:20160714T183000
DTEND;TZID=America/New_York:20160714T193000
DTSTAMP:20260425T232549
CREATED:20160625T003748Z
LAST-MODIFIED:20160625T003748Z
UID:2283-1468521000-1468524600@www.goodshepherdblm.org
SUMMARY:Board of Trustees
DESCRIPTION:
URL:https://www.goodshepherdblm.org/event/board-of-trustees-14/
LOCATION:Good Shepherd Lutheran Church\, 3516 White Eagle Drive\, Bloomington\, IL\, 61704\, United States
CATEGORIES:Board of Trustees
END:VEVENT
BEGIN:VEVENT
DTSTART;TZID=America/New_York:20160712T190000
DTEND;TZID=America/New_York:20160712T200000
DTSTAMP:20260425T232549
CREATED:20160625T002845Z
LAST-MODIFIED:20160625T003653Z
UID:2282-1468350000-1468353600@www.goodshepherdblm.org
SUMMARY:Board of Elders
DESCRIPTION:
URL:https://www.goodshepherdblm.org/event/board-of-elders-14/
LOCATION:Good Shepherd Lutheran Church\, 3516 White Eagle Drive\, Bloomington\, IL\, 61704\, United States
CATEGORIES:Board of Elders
END:VEVENT
BEGIN:VEVENT
DTSTART;TZID=America/New_York:20160712T180000
DTEND;TZID=America/New_York:20160712T190000
DTSTAMP:20260425T232549
CREATED:20160625T002751Z
LAST-MODIFIED:20160625T002751Z
UID:2281-1468346400-1468350000@www.goodshepherdblm.org
SUMMARY:Evangelism\, Stewardship Meeting
DESCRIPTION:
URL:https://www.goodshepherdblm.org/event/evangelism-stewardship-meeting/
LOCATION:Good Shepherd Lutheran Church\, 3516 White Eagle Drive\, Bloomington\, IL\, 61704\, United States
CATEGORIES:Board of Evangelism,Board of Stewardship
END:VEVENT
BEGIN:VEVENT
DTSTART;TZID=America/New_York:20160621T190000
DTEND;TZID=America/New_York:20160621T200000
DTSTAMP:20260425T232549
CREATED:20160605T001716Z
LAST-MODIFIED:20160605T001716Z
UID:2229-1466535600-1466539200@www.goodshepherdblm.org
SUMMARY:Church Council
DESCRIPTION:
URL:https://www.goodshepherdblm.org/event/church-council-15/
LOCATION:Good Shepherd Lutheran Church\, 3516 White Eagle Drive\, Bloomington\, IL\, 61704\, United States
CATEGORIES:Church Council
END:VEVENT
BEGIN:VEVENT
DTSTART;TZID=America/New_York:20160614T190000
DTEND;TZID=America/New_York:20160614T200000
DTSTAMP:20260425T232549
CREATED:20160605T001229Z
LAST-MODIFIED:20160605T001229Z
UID:2225-1465930800-1465934400@www.goodshepherdblm.org
SUMMARY:Board of Elders
DESCRIPTION:
URL:https://www.goodshepherdblm.org/event/board-of-elders-13/
LOCATION:Good Shepherd Lutheran Church\, 3516 White Eagle Drive\, Bloomington\, IL\, 61704\, United States
CATEGORIES:Board of Elders
END:VEVENT
BEGIN:VEVENT
DTSTART;TZID=America/New_York:20160609T183000
DTEND;TZID=America/New_York:20160609T193000
DTSTAMP:20260425T232549
CREATED:20160605T001130Z
LAST-MODIFIED:20160605T001130Z
UID:2224-1465497000-1465500600@www.goodshepherdblm.org
SUMMARY:Board of Trustees
DESCRIPTION:
URL:https://www.goodshepherdblm.org/event/board-of-trustees-13/
LOCATION:Good Shepherd Lutheran Church\, 3516 White Eagle Drive\, Bloomington\, IL\, 61704\, United States
CATEGORIES:Board of Trustees
END:VEVENT
BEGIN:VEVENT
DTSTART;TZID=America/New_York:20160517T190000
DTEND;TZID=America/New_York:20160517T200000
DTSTAMP:20260425T232549
CREATED:20160422T031422Z
LAST-MODIFIED:20160422T031422Z
UID:2166-1463511600-1463515200@www.goodshepherdblm.org
SUMMARY:Church Council
DESCRIPTION:
URL:https://www.goodshepherdblm.org/event/church-council-14/
LOCATION:Good Shepherd Lutheran Church\, 3516 White Eagle Drive\, Bloomington\, IL\, 61704\, United States
CATEGORIES:Church Council
END:VEVENT
BEGIN:VEVENT
DTSTART;TZID=America/New_York:20160512T183000
DTEND;TZID=America/New_York:20160512T193000
DTSTAMP:20260425T232549
CREATED:20160422T031203Z
LAST-MODIFIED:20160422T031203Z
UID:2164-1463077800-1463081400@www.goodshepherdblm.org
SUMMARY:Board of Trustees
DESCRIPTION:
URL:https://www.goodshepherdblm.org/event/board-of-trustees-12/
LOCATION:Good Shepherd Lutheran Church\, 3516 White Eagle Drive\, Bloomington\, IL\, 61704\, United States
CATEGORIES:Board of Trustees
END:VEVENT
BEGIN:VEVENT
DTSTART;TZID=America/New_York:20160510T190000
DTEND;TZID=America/New_York:20160510T200000
DTSTAMP:20260425T232549
CREATED:20160422T031105Z
LAST-MODIFIED:20160422T031105Z
UID:2163-1462906800-1462910400@www.goodshepherdblm.org
SUMMARY:Board of Elders
DESCRIPTION:
URL:https://www.goodshepherdblm.org/event/board-of-elders-12/
LOCATION:Good Shepherd Lutheran Church\, 3516 White Eagle Drive\, Bloomington\, IL\, 61704\, United States
CATEGORIES:Board of Elders
END:VEVENT
BEGIN:VEVENT
DTSTART;TZID=America/New_York:20160419T190000
DTEND;TZID=America/New_York:20160419T200000
DTSTAMP:20260425T232549
CREATED:20160309T175852Z
LAST-MODIFIED:20160309T175852Z
UID:2069-1461092400-1461096000@www.goodshepherdblm.org
SUMMARY:Church Council
DESCRIPTION:
URL:https://www.goodshepherdblm.org/event/church-council-13/
LOCATION:Good Shepherd Lutheran Church\, 3516 White Eagle Drive\, Bloomington\, IL\, 61704\, United States
CATEGORIES:Church Council
END:VEVENT
BEGIN:VEVENT
DTSTART;TZID=America/New_York:20160414T183000
DTEND;TZID=America/New_York:20160414T193000
DTSTAMP:20260425T232549
CREATED:20160309T175304Z
LAST-MODIFIED:20160309T175304Z
UID:2067-1460658600-1460662200@www.goodshepherdblm.org
SUMMARY:Board of Trustees
DESCRIPTION:
URL:https://www.goodshepherdblm.org/event/board-of-trustees-11/
LOCATION:Good Shepherd Lutheran Church\, 3516 White Eagle Drive\, Bloomington\, IL\, 61704\, United States
CATEGORIES:Board of Trustees
END:VEVENT
BEGIN:VEVENT
DTSTART;TZID=America/New_York:20160412T190000
DTEND;TZID=America/New_York:20160412T200000
DTSTAMP:20260425T232549
CREATED:20160309T175106Z
LAST-MODIFIED:20160309T175106Z
UID:2066-1460487600-1460491200@www.goodshepherdblm.org
SUMMARY:Board of Elders
DESCRIPTION:
URL:https://www.goodshepherdblm.org/event/board-of-elders-11/
LOCATION:Good Shepherd Lutheran Church\, 3516 White Eagle Drive\, Bloomington\, IL\, 61704\, United States
CATEGORIES:Board of Elders
END:VEVENT
BEGIN:VEVENT
DTSTART;TZID=America/New_York:20160412T180000
DTEND;TZID=America/New_York:20160412T190000
DTSTAMP:20260425T232549
CREATED:20160309T174848Z
LAST-MODIFIED:20160309T174848Z
UID:2065-1460484000-1460487600@www.goodshepherdblm.org
SUMMARY:Boards of Evangelism/Stewardship
DESCRIPTION:
URL:https://www.goodshepherdblm.org/event/boards-of-evangelismstewardship-3/
LOCATION:Good Shepherd Lutheran Church\, 3516 White Eagle Drive\, Bloomington\, IL\, 61704\, United States
CATEGORIES:Board of Evangelism,Board of Stewardship
END:VEVENT
BEGIN:VEVENT
DTSTART;TZID=America/New_York:20160315T190000
DTEND;TZID=America/New_York:20160315T200000
DTSTAMP:20260425T232549
CREATED:20160301T002147Z
LAST-MODIFIED:20160301T002147Z
UID:2029-1458068400-1458072000@www.goodshepherdblm.org
SUMMARY:Church Council
DESCRIPTION:
URL:https://www.goodshepherdblm.org/event/church-council-12/
LOCATION:Good Shepherd Lutheran Church\, 3516 White Eagle Drive\, Bloomington\, IL\, 61704\, United States
CATEGORIES:Church Council
END:VEVENT
BEGIN:VEVENT
DTSTART;TZID=America/New_York:20160314T183000
DTEND;TZID=America/New_York:20160314T193000
DTSTAMP:20260425T232549
CREATED:20160301T001849Z
LAST-MODIFIED:20160301T001849Z
UID:2027-1457980200-1457983800@www.goodshepherdblm.org
SUMMARY:Board of Christian Education
DESCRIPTION:
URL:https://www.goodshepherdblm.org/event/board-of-christian-education-6/
LOCATION:Good Shepherd Lutheran Church\, 3516 White Eagle Drive\, Bloomington\, IL\, 61704\, United States
CATEGORIES:Board of Education
END:VEVENT
END:VCALENDAR