BEGIN:VCALENDAR
VERSION:2.0
PRODID:-//Good Shepherd Lutheran Church - ECPv6.15.13//NONSGML v1.0//EN
CALSCALE:GREGORIAN
METHOD:PUBLISH
X-WR-CALNAME:Good Shepherd Lutheran Church
X-ORIGINAL-URL:https://www.goodshepherdblm.org
X-WR-CALDESC:Events for Good Shepherd Lutheran Church
REFRESH-INTERVAL;VALUE=DURATION:PT1H
X-Robots-Tag:noindex
X-PUBLISHED-TTL:PT1H
BEGIN:VTIMEZONE
TZID:America/New_York
BEGIN:DAYLIGHT
TZOFFSETFROM:-0500
TZOFFSETTO:-0400
TZNAME:EDT
DTSTART:20150308T070000
END:DAYLIGHT
BEGIN:STANDARD
TZOFFSETFROM:-0400
TZOFFSETTO:-0500
TZNAME:EST
DTSTART:20151101T060000
END:STANDARD
BEGIN:DAYLIGHT
TZOFFSETFROM:-0500
TZOFFSETTO:-0400
TZNAME:EDT
DTSTART:20160313T070000
END:DAYLIGHT
BEGIN:STANDARD
TZOFFSETFROM:-0400
TZOFFSETTO:-0500
TZNAME:EST
DTSTART:20161106T060000
END:STANDARD
BEGIN:DAYLIGHT
TZOFFSETFROM:-0500
TZOFFSETTO:-0400
TZNAME:EDT
DTSTART:20170312T070000
END:DAYLIGHT
BEGIN:STANDARD
TZOFFSETFROM:-0400
TZOFFSETTO:-0500
TZNAME:EST
DTSTART:20171105T060000
END:STANDARD
BEGIN:DAYLIGHT
TZOFFSETFROM:-0500
TZOFFSETTO:-0400
TZNAME:EDT
DTSTART:20180311T070000
END:DAYLIGHT
BEGIN:STANDARD
TZOFFSETFROM:-0400
TZOFFSETTO:-0500
TZNAME:EST
DTSTART:20181104T060000
END:STANDARD
END:VTIMEZONE
BEGIN:VEVENT
DTSTART;TZID=America/New_York:20170608T183000
DTEND;TZID=America/New_York:20170608T193000
DTSTAMP:20260425T160728
CREATED:20170526T153201Z
LAST-MODIFIED:20170526T153201Z
UID:3324-1496946600-1496950200@www.goodshepherdblm.org
SUMMARY:Board of Trustees
DESCRIPTION:
URL:https://www.goodshepherdblm.org/event/board-of-trustees-20/
LOCATION:Good Shepherd Lutheran Church\, 3516 White Eagle Drive\, Bloomington\, IL\, 61704\, United States
CATEGORIES:Board of Trustees
END:VEVENT
BEGIN:VEVENT
DTSTART;TZID=America/New_York:20170524T140000
DTEND;TZID=America/New_York:20170524T210000
DTSTAMP:20260425T160728
CREATED:20170214T184157Z
LAST-MODIFIED:20170214T184157Z
UID:2989-1495634400-1495659600@www.goodshepherdblm.org
SUMMARY:Pictures Taken for Church Directory
DESCRIPTION:SMILE!
URL:https://www.goodshepherdblm.org/event/pictures-taken-for-church-directory-2/
LOCATION:Good Shepherd Lutheran Church\, 3516 White Eagle Drive\, Bloomington\, IL\, 61704\, United States
CATEGORIES:Board of Evangelism,Board of Stewardship
END:VEVENT
BEGIN:VEVENT
DTSTART;TZID=America/New_York:20170523T140000
DTEND;TZID=America/New_York:20170523T210000
DTSTAMP:20260425T160728
CREATED:20170214T184009Z
LAST-MODIFIED:20170214T184414Z
UID:2987-1495548000-1495573200@www.goodshepherdblm.org
SUMMARY:Pictures Taken for Church Directory
DESCRIPTION:SMILE!
URL:https://www.goodshepherdblm.org/event/pictures-taken-for-church-directory/
LOCATION:Good Shepherd Lutheran Church\, 3516 White Eagle Drive\, Bloomington\, IL\, 61704\, United States
CATEGORIES:Board of Evangelism,Board of Stewardship
END:VEVENT
BEGIN:VEVENT
DTSTART;TZID=America/New_York:20170516T190000
DTEND;TZID=America/New_York:20170516T200000
DTSTAMP:20260425T160728
CREATED:20170429T162759Z
LAST-MODIFIED:20170429T162759Z
UID:3256-1494961200-1494964800@www.goodshepherdblm.org
SUMMARY:Church Council Meeting
DESCRIPTION:
URL:https://www.goodshepherdblm.org/event/church-council-meeting-7/
LOCATION:Good Shepherd Lutheran Church\, 3516 White Eagle Drive\, Bloomington\, IL\, 61704\, United States
CATEGORIES:Church Council
END:VEVENT
BEGIN:VEVENT
DTSTART;TZID=America/New_York:20170511T183000
DTEND;TZID=America/New_York:20170511T193000
DTSTAMP:20260425T160728
CREATED:20170429T162453Z
LAST-MODIFIED:20170429T162453Z
UID:3252-1494527400-1494531000@www.goodshepherdblm.org
SUMMARY:Board of Trustees Meeting
DESCRIPTION:
URL:https://www.goodshepherdblm.org/event/board-of-trustees-meeting-8/
LOCATION:Good Shepherd Lutheran Church\, 3516 White Eagle Drive\, Bloomington\, IL\, 61704\, United States
CATEGORIES:Board of Trustees
END:VEVENT
BEGIN:VEVENT
DTSTART;TZID=America/New_York:20170509T190000
DTEND;TZID=America/New_York:20170509T200000
DTSTAMP:20260425T160728
CREATED:20170429T162350Z
LAST-MODIFIED:20170429T162350Z
UID:3250-1494356400-1494360000@www.goodshepherdblm.org
SUMMARY:Board of Elders Meeting
DESCRIPTION:
URL:https://www.goodshepherdblm.org/event/board-of-elders-meeting-7/
LOCATION:Good Shepherd Lutheran Church\, 3516 White Eagle Drive\, Bloomington\, IL\, 61704\, United States
CATEGORIES:Board of Elders
END:VEVENT
BEGIN:VEVENT
DTSTART;TZID=America/New_York:20170509T180000
DTEND;TZID=America/New_York:20170509T190000
DTSTAMP:20260425T160728
CREATED:20170429T162226Z
LAST-MODIFIED:20170429T162226Z
UID:3248-1494352800-1494356400@www.goodshepherdblm.org
SUMMARY:Board of Evangelism/Stewardship Meeting
DESCRIPTION:
URL:https://www.goodshepherdblm.org/event/board-of-evangelismstewardship-meeting-2/
LOCATION:Good Shepherd Lutheran Church\, 3516 White Eagle Drive\, Bloomington\, IL\, 61704\, United States
CATEGORIES:Board of Evangelism,Board of Stewardship
END:VEVENT
BEGIN:VEVENT
DTSTART;TZID=America/New_York:20170418T190000
DTEND;TZID=America/New_York:20170418T200000
DTSTAMP:20260425T160728
CREATED:20170328T010525Z
LAST-MODIFIED:20170328T010525Z
UID:3176-1492542000-1492545600@www.goodshepherdblm.org
SUMMARY:Church Council
DESCRIPTION:
URL:https://www.goodshepherdblm.org/event/church-council-23/
LOCATION:Good Shepherd Lutheran Church\, 3516 White Eagle Drive\, Bloomington\, IL\, 61704\, United States
CATEGORIES:Church Council
END:VEVENT
BEGIN:VEVENT
DTSTART;TZID=America/New_York:20170411T190000
DTEND;TZID=America/New_York:20170411T200000
DTSTAMP:20260425T160728
CREATED:20170328T005439Z
LAST-MODIFIED:20170328T005439Z
UID:3156-1491937200-1491940800@www.goodshepherdblm.org
SUMMARY:Board of Elders
DESCRIPTION:
URL:https://www.goodshepherdblm.org/event/board-of-elders-21/
LOCATION:Good Shepherd Lutheran Church\, 3516 White Eagle Drive\, Bloomington\, IL\, 61704\, United States
CATEGORIES:Board of Elders
END:VEVENT
BEGIN:VEVENT
DTSTART;TZID=America/New_York:20170403T180000
DTEND;TZID=America/New_York:20170403T190000
DTSTAMP:20260425T160728
CREATED:20170328T004055Z
LAST-MODIFIED:20170328T004055Z
UID:3135-1491242400-1491246000@www.goodshepherdblm.org
SUMMARY:Board of Education
DESCRIPTION:
URL:https://www.goodshepherdblm.org/event/board-of-education-6/
LOCATION:Good Shepherd Lutheran Church\, 3516 White Eagle Drive\, Bloomington\, IL\, 61704\, United States
CATEGORIES:Board of Education
END:VEVENT
BEGIN:VEVENT
DTSTART;TZID=America/New_York:20170321T190000
DTEND;TZID=America/New_York:20170321T200000
DTSTAMP:20260425T160728
CREATED:20170303T204432Z
LAST-MODIFIED:20170303T204432Z
UID:3057-1490122800-1490126400@www.goodshepherdblm.org
SUMMARY:Church Council Meeting
DESCRIPTION:
URL:https://www.goodshepherdblm.org/event/church-council-meeting-6/
LOCATION:Good Shepherd Lutheran Church\, 3516 White Eagle Drive\, Bloomington\, IL\, 61704\, United States
CATEGORIES:Church Council
END:VEVENT
BEGIN:VEVENT
DTSTART;TZID=America/New_York:20170314T190000
DTEND;TZID=America/New_York:20170314T200000
DTSTAMP:20260425T160728
CREATED:20170303T204120Z
LAST-MODIFIED:20170303T204348Z
UID:3053-1489518000-1489521600@www.goodshepherdblm.org
SUMMARY:Board of Elders Meeting
DESCRIPTION:
URL:https://www.goodshepherdblm.org/event/board-of-elders-meeting-6/
LOCATION:Good Shepherd Lutheran Church\, 3516 White Eagle Drive\, Bloomington\, IL\, 61704\, United States
CATEGORIES:Board of Elders
END:VEVENT
BEGIN:VEVENT
DTSTART;TZID=America/New_York:20170314T180000
DTEND;TZID=America/New_York:20170314T190000
DTSTAMP:20260425T160728
CREATED:20170303T204035Z
LAST-MODIFIED:20170303T204035Z
UID:3051-1489514400-1489518000@www.goodshepherdblm.org
SUMMARY:Board of Evangelism/Stewardship
DESCRIPTION:
URL:https://www.goodshepherdblm.org/event/board-of-evangelismstewardship-5/
LOCATION:Good Shepherd Lutheran Church\, 3516 White Eagle Drive\, Bloomington\, IL\, 61704\, United States
CATEGORIES:Board of Evangelism,Board of Stewardship
END:VEVENT
BEGIN:VEVENT
DTSTART;TZID=America/New_York:20170309T183000
DTEND;TZID=America/New_York:20170309T190000
DTSTAMP:20260425T160728
CREATED:20170303T205536Z
LAST-MODIFIED:20170303T205536Z
UID:3083-1489084200-1489086000@www.goodshepherdblm.org
SUMMARY:Board of Trustees Meeting
DESCRIPTION:
URL:https://www.goodshepherdblm.org/event/board-of-trustees-meeting-7/
LOCATION:Good Shepherd Lutheran Church\, 3516 White Eagle Drive\, Bloomington\, IL\, 61704\, United States
CATEGORIES:Board of Trustees
END:VEVENT
BEGIN:VEVENT
DTSTART;TZID=America/New_York:20170221T190000
DTEND;TZID=America/New_York:20170221T200000
DTSTAMP:20260425T160728
CREATED:20170208T161216Z
LAST-MODIFIED:20170208T161216Z
UID:2974-1487703600-1487707200@www.goodshepherdblm.org
SUMMARY:Church Council
DESCRIPTION:
URL:https://www.goodshepherdblm.org/event/church-council-22/
LOCATION:Good Shepherd Lutheran Church\, 3516 White Eagle Drive\, Bloomington\, IL\, 61704\, United States
CATEGORIES:Church Council
END:VEVENT
BEGIN:VEVENT
DTSTART;TZID=America/New_York:20170214T190000
DTEND;TZID=America/New_York:20170214T200000
DTSTAMP:20260425T160728
CREATED:20170208T160027Z
LAST-MODIFIED:20170208T160027Z
UID:2966-1487098800-1487102400@www.goodshepherdblm.org
SUMMARY:Board of Elders
DESCRIPTION:
URL:https://www.goodshepherdblm.org/event/board-of-elders-20/
LOCATION:Good Shepherd Lutheran Church\, 3516 White Eagle Drive\, Bloomington\, IL\, 61704\, United States
CATEGORIES:Board of Elders
END:VEVENT
BEGIN:VEVENT
DTSTART;TZID=America/New_York:20170214T180000
DTEND;TZID=America/New_York:20170214T190000
DTSTAMP:20260425T160728
CREATED:20170208T155758Z
LAST-MODIFIED:20170208T155758Z
UID:2961-1487095200-1487098800@www.goodshepherdblm.org
SUMMARY:Evangelism/Stewardship
DESCRIPTION:
URL:https://www.goodshepherdblm.org/event/evangelismstewardship-4/
LOCATION:Good Shepherd Lutheran Church\, 3516 White Eagle Drive\, Bloomington\, IL\, 61704\, United States
CATEGORIES:Board of Evangelism,Board of Stewardship
END:VEVENT
BEGIN:VEVENT
DTSTART;TZID=America/New_York:20170209T183000
DTEND;TZID=America/New_York:20170209T193000
DTSTAMP:20260425T160728
CREATED:20170208T155412Z
LAST-MODIFIED:20170208T155412Z
UID:2956-1486665000-1486668600@www.goodshepherdblm.org
SUMMARY:Board of Trustees
DESCRIPTION:
URL:https://www.goodshepherdblm.org/event/board-of-trustees-19/
LOCATION:Good Shepherd Lutheran Church\, 3516 White Eagle Drive\, Bloomington\, IL\, 61704\, United States
CATEGORIES:Board of Trustees
END:VEVENT
BEGIN:VEVENT
DTSTART;TZID=America/New_York:20170117T190000
DTEND;TZID=America/New_York:20170117T200000
DTSTAMP:20260425T160728
CREATED:20170108T053457Z
LAST-MODIFIED:20170108T053457Z
UID:2658-1484679600-1484683200@www.goodshepherdblm.org
SUMMARY:Church Council
DESCRIPTION:
URL:https://www.goodshepherdblm.org/event/church-council-21/
LOCATION:Good Shepherd Lutheran Church\, 3516 White Eagle Drive\, Bloomington\, IL\, 61704\, United States
CATEGORIES:Church Council
END:VEVENT
BEGIN:VEVENT
DTSTART;TZID=America/New_York:20170112T183000
DTEND;TZID=America/New_York:20170112T193000
DTSTAMP:20260425T160728
CREATED:20170108T053232Z
LAST-MODIFIED:20170108T053232Z
UID:2654-1484245800-1484249400@www.goodshepherdblm.org
SUMMARY:Board of Trustees
DESCRIPTION:
URL:https://www.goodshepherdblm.org/event/board-of-trustees-18/
LOCATION:Good Shepherd Lutheran Church\, 3516 White Eagle Drive\, Bloomington\, IL\, 61704\, United States
CATEGORIES:Board of Trustees
END:VEVENT
BEGIN:VEVENT
DTSTART;TZID=America/New_York:20170110T190000
DTEND;TZID=America/New_York:20170110T200000
DTSTAMP:20260425T160728
CREATED:20170108T053139Z
LAST-MODIFIED:20170108T053139Z
UID:2652-1484074800-1484078400@www.goodshepherdblm.org
SUMMARY:Board of Elders
DESCRIPTION:
URL:https://www.goodshepherdblm.org/event/board-of-elders-19/
LOCATION:Good Shepherd Lutheran Church\, 3516 White Eagle Drive\, Bloomington\, IL\, 61704\, United States
CATEGORIES:Board of Elders
END:VEVENT
BEGIN:VEVENT
DTSTART;TZID=America/New_York:20161115T190000
DTEND;TZID=America/New_York:20161115T200000
DTSTAMP:20260425T160728
CREATED:20161030T195215Z
LAST-MODIFIED:20161030T195215Z
UID:2541-1479236400-1479240000@www.goodshepherdblm.org
SUMMARY:Church Council
DESCRIPTION:
URL:https://www.goodshepherdblm.org/event/church-council-20/
LOCATION:Good Shepherd Lutheran Church\, 3516 White Eagle Drive\, Bloomington\, IL\, 61704\, United States
CATEGORIES:Church Council
END:VEVENT
BEGIN:VEVENT
DTSTART;TZID=America/New_York:20161110T183000
DTEND;TZID=America/New_York:20161110T193000
DTSTAMP:20260425T160728
CREATED:20161030T194559Z
LAST-MODIFIED:20161030T194559Z
UID:2535-1478802600-1478806200@www.goodshepherdblm.org
SUMMARY:Board of Trustees
DESCRIPTION:
URL:https://www.goodshepherdblm.org/event/board-of-trustees-17/
LOCATION:Good Shepherd Lutheran Church\, 3516 White Eagle Drive\, Bloomington\, IL\, 61704\, United States
CATEGORIES:Board of Trustees
END:VEVENT
BEGIN:VEVENT
DTSTART;TZID=America/New_York:20161101T190000
DTEND;TZID=America/New_York:20161101T200000
DTSTAMP:20260425T160728
CREATED:20161030T192619Z
LAST-MODIFIED:20161030T192619Z
UID:2517-1478026800-1478030400@www.goodshepherdblm.org
SUMMARY:Board of Elders
DESCRIPTION:
URL:https://www.goodshepherdblm.org/event/board-of-elders-18/
LOCATION:Good Shepherd Lutheran Church\, 3516 White Eagle Drive\, Bloomington\, IL\, 61704\, United States
CATEGORIES:Board of Elders
END:VEVENT
BEGIN:VEVENT
DTSTART;TZID=America/New_York:20161101T180000
DTEND;TZID=America/New_York:20161101T190000
DTSTAMP:20260425T160728
CREATED:20161030T192506Z
LAST-MODIFIED:20161030T193735Z
UID:2515-1478023200-1478026800@www.goodshepherdblm.org
SUMMARY:Board of Evangelism Stewardship
DESCRIPTION:
URL:https://www.goodshepherdblm.org/event/evangelismstewardship-3/
LOCATION:Good Shepherd Lutheran Church\, 3516 White Eagle Drive\, Bloomington\, IL\, 61704\, United States
CATEGORIES:Board of Evangelism,Board of Stewardship
END:VEVENT
BEGIN:VEVENT
DTSTART;TZID=America/New_York:20161018T190000
DTEND;TZID=America/New_York:20161018T200000
DTSTAMP:20260425T160728
CREATED:20161006T151954Z
LAST-MODIFIED:20161006T151954Z
UID:2478-1476817200-1476820800@www.goodshepherdblm.org
SUMMARY:Church Council
DESCRIPTION:
URL:https://www.goodshepherdblm.org/event/church-council-19/
LOCATION:Good Shepherd Lutheran Church\, 3516 White Eagle Drive\, Bloomington\, IL\, 61704\, United States
CATEGORIES:Church Council
END:VEVENT
BEGIN:VEVENT
DTSTART;TZID=America/New_York:20161013T183000
DTEND;TZID=America/New_York:20161013T193000
DTSTAMP:20260425T160728
CREATED:20161006T152159Z
LAST-MODIFIED:20161006T152159Z
UID:2482-1476383400-1476387000@www.goodshepherdblm.org
SUMMARY:Board of Trustees
DESCRIPTION:
URL:https://www.goodshepherdblm.org/event/board-of-trustees-16/
LOCATION:Good Shepherd Lutheran Church\, 3516 White Eagle Drive\, Bloomington\, IL\, 61704\, United States
CATEGORIES:Board of Trustees
END:VEVENT
BEGIN:VEVENT
DTSTART;TZID=America/New_York:20161011T190000
DTEND;TZID=America/New_York:20161011T200000
DTSTAMP:20260425T160728
CREATED:20161006T151754Z
LAST-MODIFIED:20161006T151754Z
UID:2474-1476212400-1476216000@www.goodshepherdblm.org
SUMMARY:Board of Elders
DESCRIPTION:
URL:https://www.goodshepherdblm.org/event/board-of-elders-17/
LOCATION:Good Shepherd Lutheran Church\, 3516 White Eagle Drive\, Bloomington\, IL\, 61704\, United States
CATEGORIES:Board of Elders
END:VEVENT
BEGIN:VEVENT
DTSTART;TZID=America/New_York:20160920T190000
DTEND;TZID=America/New_York:20160920T200000
DTSTAMP:20260425T160728
CREATED:20160825T040055Z
LAST-MODIFIED:20160825T040055Z
UID:2378-1474398000-1474401600@www.goodshepherdblm.org
SUMMARY:Church Council
DESCRIPTION:
URL:https://www.goodshepherdblm.org/event/church-council-18/
LOCATION:Good Shepherd Lutheran Church\, 3516 White Eagle Drive\, Bloomington\, IL\, 61704\, United States
CATEGORIES:Church Council
END:VEVENT
BEGIN:VEVENT
DTSTART;TZID=America/New_York:20160913T190000
DTEND;TZID=America/New_York:20160913T200000
DTSTAMP:20260425T160728
CREATED:20160825T035641Z
LAST-MODIFIED:20160825T035641Z
UID:2375-1473793200-1473796800@www.goodshepherdblm.org
SUMMARY:Board of Elders
DESCRIPTION:
URL:https://www.goodshepherdblm.org/event/board-of-elders-16/
LOCATION:Good Shepherd Lutheran Church\, 3516 White Eagle Drive\, Bloomington\, IL\, 61704\, United States
CATEGORIES:Board of Elders
END:VEVENT
END:VCALENDAR