BEGIN:VCALENDAR
VERSION:2.0
PRODID:-//Good Shepherd Lutheran Church - ECPv6.15.13//NONSGML v1.0//EN
CALSCALE:GREGORIAN
METHOD:PUBLISH
X-WR-CALNAME:Good Shepherd Lutheran Church
X-ORIGINAL-URL:https://www.goodshepherdblm.org
X-WR-CALDESC:Events for Good Shepherd Lutheran Church
REFRESH-INTERVAL;VALUE=DURATION:PT1H
X-Robots-Tag:noindex
X-PUBLISHED-TTL:PT1H
BEGIN:VTIMEZONE
TZID:America/New_York
BEGIN:DAYLIGHT
TZOFFSETFROM:-0500
TZOFFSETTO:-0400
TZNAME:EDT
DTSTART:20160313T070000
END:DAYLIGHT
BEGIN:STANDARD
TZOFFSETFROM:-0400
TZOFFSETTO:-0500
TZNAME:EST
DTSTART:20161106T060000
END:STANDARD
BEGIN:DAYLIGHT
TZOFFSETFROM:-0500
TZOFFSETTO:-0400
TZNAME:EDT
DTSTART:20170312T070000
END:DAYLIGHT
BEGIN:STANDARD
TZOFFSETFROM:-0400
TZOFFSETTO:-0500
TZNAME:EST
DTSTART:20171105T060000
END:STANDARD
BEGIN:DAYLIGHT
TZOFFSETFROM:-0500
TZOFFSETTO:-0400
TZNAME:EDT
DTSTART:20180311T070000
END:DAYLIGHT
BEGIN:STANDARD
TZOFFSETFROM:-0400
TZOFFSETTO:-0500
TZNAME:EST
DTSTART:20181104T060000
END:STANDARD
BEGIN:DAYLIGHT
TZOFFSETFROM:-0500
TZOFFSETTO:-0400
TZNAME:EDT
DTSTART:20190310T070000
END:DAYLIGHT
BEGIN:STANDARD
TZOFFSETFROM:-0400
TZOFFSETTO:-0500
TZNAME:EST
DTSTART:20191103T060000
END:STANDARD
END:VTIMEZONE
BEGIN:VEVENT
DTSTART;TZID=America/New_York:20180308T183000
DTEND;TZID=America/New_York:20180308T193000
DTSTAMP:20260425T072152
CREATED:20180303T032008Z
LAST-MODIFIED:20180303T034557Z
UID:4340-1520533800-1520537400@www.goodshepherdblm.org
SUMMARY:Board of Trustees
DESCRIPTION:
URL:https://www.goodshepherdblm.org/event/board-of-trustees-26/
LOCATION:Good Shepherd Lutheran Church\, 3516 White Eagle Drive\, Bloomington\, IL\, 61704\, United States
CATEGORIES:Board of Trustees
END:VEVENT
BEGIN:VEVENT
DTSTART;TZID=America/New_York:20180220T190000
DTEND;TZID=America/New_York:20180220T200000
DTSTAMP:20260425T072152
CREATED:20180215T180312Z
LAST-MODIFIED:20180215T180312Z
UID:4248-1519153200-1519156800@www.goodshepherdblm.org
SUMMARY:Church Council
DESCRIPTION:
URL:https://www.goodshepherdblm.org/event/church-council-27/
LOCATION:Good Shepherd Lutheran Church\, 3516 White Eagle Drive\, Bloomington\, IL\, 61704\, United States
CATEGORIES:Church Council
END:VEVENT
BEGIN:VEVENT
DTSTART;TZID=America/New_York:20180215T183000
DTEND;TZID=America/New_York:20180215T193000
DTSTAMP:20260425T072152
CREATED:20180215T174546Z
LAST-MODIFIED:20180215T174546Z
UID:4240-1518719400-1518723000@www.goodshepherdblm.org
SUMMARY:Board of Trustees
DESCRIPTION:
URL:https://www.goodshepherdblm.org/event/board-of-trustees-25/
LOCATION:Good Shepherd Lutheran Church\, 3516 White Eagle Drive\, Bloomington\, IL\, 61704\, United States
CATEGORIES:Board of Trustees
END:VEVENT
BEGIN:VEVENT
DTSTART;TZID=America/New_York:20180213T190000
DTEND;TZID=America/New_York:20180213T200000
DTSTAMP:20260425T072152
CREATED:20180215T180500Z
LAST-MODIFIED:20180215T180500Z
UID:4252-1518548400-1518552000@www.goodshepherdblm.org
SUMMARY:Board of Elders
DESCRIPTION:
URL:https://www.goodshepherdblm.org/event/board-of-elders-25/
LOCATION:Good Shepherd Lutheran Church\, 3516 White Eagle Drive\, Bloomington\, IL\, 61704\, United States
CATEGORIES:Board of Elders
END:VEVENT
BEGIN:VEVENT
DTSTART;TZID=America/New_York:20180213T180000
DTEND;TZID=America/New_York:20180213T190000
DTSTAMP:20260425T072152
CREATED:20180215T180411Z
LAST-MODIFIED:20180215T180411Z
UID:4250-1518544800-1518548400@www.goodshepherdblm.org
SUMMARY:Board of Evangelism/Stewardship
DESCRIPTION:
URL:https://www.goodshepherdblm.org/event/board-of-evangelism-stewardship/
LOCATION:Good Shepherd Lutheran Church\, 3516 White Eagle Drive\, Bloomington\, IL\, 61704\, United States
CATEGORIES:Board of Evangelism,Board of Stewardship
END:VEVENT
BEGIN:VEVENT
DTSTART;TZID=America/New_York:20180116T190000
DTEND;TZID=America/New_York:20180116T200000
DTSTAMP:20260425T072152
CREATED:20171228T062715Z
LAST-MODIFIED:20171228T062715Z
UID:4110-1516129200-1516132800@www.goodshepherdblm.org
SUMMARY:Church Council Meeting
DESCRIPTION:
URL:https://www.goodshepherdblm.org/event/church-council-meeting-10/
LOCATION:Good Shepherd Lutheran Church\, 3516 White Eagle Drive\, Bloomington\, IL\, 61704\, United States
CATEGORIES:Church Council
END:VEVENT
BEGIN:VEVENT
DTSTART;TZID=America/New_York:20180111T183000
DTEND;TZID=America/New_York:20180111T193000
DTSTAMP:20260425T072152
CREATED:20171228T062516Z
LAST-MODIFIED:20171228T062516Z
UID:4106-1515695400-1515699000@www.goodshepherdblm.org
SUMMARY:Board of Trustees
DESCRIPTION:
URL:https://www.goodshepherdblm.org/event/board-of-trustees-24/
LOCATION:Good Shepherd Lutheran Church\, 3516 White Eagle Drive\, Bloomington\, IL\, 61704\, United States
CATEGORIES:Board of Trustees
END:VEVENT
BEGIN:VEVENT
DTSTART;TZID=America/New_York:20180109T190000
DTEND;TZID=America/New_York:20180109T200000
DTSTAMP:20260425T072152
CREATED:20171228T062310Z
LAST-MODIFIED:20171228T062310Z
UID:4102-1515524400-1515528000@www.goodshepherdblm.org
SUMMARY:Board of Elders Meeting
DESCRIPTION:
URL:https://www.goodshepherdblm.org/event/board-of-elders-meeting-10/
LOCATION:Good Shepherd Lutheran Church\, 3516 White Eagle Drive\, Bloomington\, IL\, 61704\, United States
CATEGORIES:Board of Elders
END:VEVENT
BEGIN:VEVENT
DTSTART;TZID=America/New_York:20180109T180000
DTEND;TZID=America/New_York:20180109T190000
DTSTAMP:20260425T072152
CREATED:20171228T062214Z
LAST-MODIFIED:20171228T062214Z
UID:4100-1515520800-1515524400@www.goodshepherdblm.org
SUMMARY:Boards Evangelism/Stewardship Meeting
DESCRIPTION:
URL:https://www.goodshepherdblm.org/event/boards-evangelism-stewardship-meeting/
LOCATION:Good Shepherd Lutheran Church\, 3516 White Eagle Drive\, Bloomington\, IL\, 61704\, United States
CATEGORIES:Board of Evangelism,Board of Stewardship
END:VEVENT
BEGIN:VEVENT
DTSTART;TZID=America/New_York:20171114T190000
DTEND;TZID=America/New_York:20171114T200000
DTSTAMP:20260425T072152
CREATED:20171029T024952Z
LAST-MODIFIED:20171029T024952Z
UID:3742-1510686000-1510689600@www.goodshepherdblm.org
SUMMARY:Board of Elders
DESCRIPTION:
URL:https://www.goodshepherdblm.org/event/board-of-elders-24/
LOCATION:Good Shepherd Lutheran Church\, 3516 White Eagle Drive\, Bloomington\, IL\, 61704\, United States
CATEGORIES:Board of Elders
END:VEVENT
BEGIN:VEVENT
DTSTART;TZID=America/New_York:20171114T180000
DTEND;TZID=America/New_York:20171114T190000
DTSTAMP:20260425T072152
CREATED:20171029T024907Z
LAST-MODIFIED:20171029T024907Z
UID:3740-1510682400-1510686000@www.goodshepherdblm.org
SUMMARY:Boards of Evangelism/Stewardship
DESCRIPTION:
URL:https://www.goodshepherdblm.org/event/boards-of-evangelismstewardship-6/
LOCATION:Good Shepherd Lutheran Church\, 3516 White Eagle Drive\, Bloomington\, IL\, 61704\, United States
CATEGORIES:Board of Evangelism,Board of Stewardship
END:VEVENT
BEGIN:VEVENT
DTSTART;TZID=America/New_York:20171109T183000
DTEND;TZID=America/New_York:20171109T193000
DTSTAMP:20260425T072152
CREATED:20171029T024631Z
LAST-MODIFIED:20171029T024631Z
UID:3736-1510252200-1510255800@www.goodshepherdblm.org
SUMMARY:Board of Trustees
DESCRIPTION:
URL:https://www.goodshepherdblm.org/event/board-of-trustees-23/
LOCATION:Good Shepherd Lutheran Church\, 3516 White Eagle Drive\, Bloomington\, IL\, 61704\, United States
CATEGORIES:Board of Trustees
END:VEVENT
BEGIN:VEVENT
DTSTART;TZID=America/New_York:20171017T190000
DTEND;TZID=America/New_York:20171017T200000
DTSTAMP:20260425T072152
CREATED:20171009T172113Z
LAST-MODIFIED:20171009T172113Z
UID:3670-1508266800-1508270400@www.goodshepherdblm.org
SUMMARY:Church Council
DESCRIPTION:
URL:https://www.goodshepherdblm.org/event/church-council-26/
LOCATION:Good Shepherd Lutheran Church\, 3516 White Eagle Drive\, Bloomington\, IL\, 61704\, United States
CATEGORIES:Church Council
END:VEVENT
BEGIN:VEVENT
DTSTART;TZID=America/New_York:20171012T183000
DTEND;TZID=America/New_York:20171012T193000
DTSTAMP:20260425T072152
CREATED:20171009T171855Z
LAST-MODIFIED:20171009T171855Z
UID:3666-1507833000-1507836600@www.goodshepherdblm.org
SUMMARY:Board of Trustees
DESCRIPTION:
URL:https://www.goodshepherdblm.org/event/board-of-trustees-22/
LOCATION:Good Shepherd Lutheran Church\, 3516 White Eagle Drive\, Bloomington\, IL\, 61704\, United States
CATEGORIES:Board of Trustees
END:VEVENT
BEGIN:VEVENT
DTSTART;TZID=America/New_York:20171010T190000
DTEND;TZID=America/New_York:20171010T200000
DTSTAMP:20260425T072152
CREATED:20171009T171647Z
LAST-MODIFIED:20171009T171647Z
UID:3662-1507662000-1507665600@www.goodshepherdblm.org
SUMMARY:Board of Elders
DESCRIPTION:
URL:https://www.goodshepherdblm.org/event/board-of-elders-23/
LOCATION:Good Shepherd Lutheran Church\, 3516 White Eagle Drive\, Bloomington\, IL\, 61704\, United States
CATEGORIES:Board of Elders
END:VEVENT
BEGIN:VEVENT
DTSTART;TZID=America/New_York:20171010T180000
DTEND;TZID=America/New_York:20171010T190000
DTSTAMP:20260425T072152
CREATED:20171009T171551Z
LAST-MODIFIED:20171009T171551Z
UID:3660-1507658400-1507662000@www.goodshepherdblm.org
SUMMARY:Boards of Evangelism/Stewardship
DESCRIPTION:
URL:https://www.goodshepherdblm.org/event/boards-of-evangelismstewardship-5/
LOCATION:Good Shepherd Lutheran Church\, 3516 White Eagle Drive\, Bloomington\, IL\, 61704\, United States
CATEGORIES:Board of Evangelism,Board of Stewardship
END:VEVENT
BEGIN:VEVENT
DTSTART;TZID=America/New_York:20170919T190000
DTEND;TZID=America/New_York:20170919T200000
DTSTAMP:20260425T072152
CREATED:20170911T022351Z
LAST-MODIFIED:20170911T022351Z
UID:3598-1505847600-1505851200@www.goodshepherdblm.org
SUMMARY:Church Council Meeting
DESCRIPTION:
URL:https://www.goodshepherdblm.org/event/church-council-meeting-9/
LOCATION:Good Shepherd Lutheran Church\, 3516 White Eagle Drive\, Bloomington\, IL\, 61704\, United States
CATEGORIES:Church Council
END:VEVENT
BEGIN:VEVENT
DTSTART;TZID=America/New_York:20170914T183000
DTEND;TZID=America/New_York:20170914T193000
DTSTAMP:20260425T072152
CREATED:20170911T021947Z
LAST-MODIFIED:20170911T021947Z
UID:3592-1505413800-1505417400@www.goodshepherdblm.org
SUMMARY:Board of Trustees Meeting
DESCRIPTION:
URL:https://www.goodshepherdblm.org/event/board-of-trustees-meeting-10/
LOCATION:Good Shepherd Lutheran Church\, 3516 White Eagle Drive\, Bloomington\, IL\, 61704\, United States
CATEGORIES:Board of Trustees
END:VEVENT
BEGIN:VEVENT
DTSTART;TZID=America/New_York:20170912T190000
DTEND;TZID=America/New_York:20170912T200000
DTSTAMP:20260425T072152
CREATED:20170911T021716Z
LAST-MODIFIED:20170911T021716Z
UID:3588-1505242800-1505246400@www.goodshepherdblm.org
SUMMARY:Board of Elders Meeting
DESCRIPTION:
URL:https://www.goodshepherdblm.org/event/board-of-elders-meeting-9/
LOCATION:Good Shepherd Lutheran Church\, 3516 White Eagle Drive\, Bloomington\, IL\, 61704\, United States
CATEGORIES:Board of Elders
END:VEVENT
BEGIN:VEVENT
DTSTART;TZID=America/New_York:20170912T180000
DTEND;TZID=America/New_York:20170912T190000
DTSTAMP:20260425T072152
CREATED:20170911T021332Z
LAST-MODIFIED:20170911T021332Z
UID:3586-1505239200-1505242800@www.goodshepherdblm.org
SUMMARY:Boards of Evangelism/Stewardship Meeting
DESCRIPTION:
URL:https://www.goodshepherdblm.org/event/boards-of-evangelismstewardship-meeting/
LOCATION:Good Shepherd Lutheran Church\, 3516 White Eagle Drive\, Bloomington\, IL\, 61704\, United States
CATEGORIES:Board of Evangelism,Board of Stewardship
END:VEVENT
BEGIN:VEVENT
DTSTART;TZID=America/New_York:20170823T183000
DTEND;TZID=America/New_York:20170823T193000
DTSTAMP:20260425T072152
CREATED:20170815T163751Z
LAST-MODIFIED:20170815T163751Z
UID:3523-1503513000-1503516600@www.goodshepherdblm.org
SUMMARY:Special Trustees Meeting
DESCRIPTION:
URL:https://www.goodshepherdblm.org/event/special-trustees-meeting/
LOCATION:Good Shepherd Lutheran Church\, 3516 White Eagle Drive\, Bloomington\, IL\, 61704\, United States
CATEGORIES:Board of Trustees
END:VEVENT
BEGIN:VEVENT
DTSTART;TZID=America/New_York:20170815T190000
DTEND;TZID=America/New_York:20170815T200000
DTSTAMP:20260425T072152
CREATED:20170802T205656Z
LAST-MODIFIED:20170802T205656Z
UID:3482-1502823600-1502827200@www.goodshepherdblm.org
SUMMARY:Church Council Meeting
DESCRIPTION:
URL:https://www.goodshepherdblm.org/event/church-council-meeting-8/
LOCATION:Good Shepherd Lutheran Church\, 3516 White Eagle Drive\, Bloomington\, IL\, 61704\, United States
CATEGORIES:Church Council
END:VEVENT
BEGIN:VEVENT
DTSTART;TZID=America/New_York:20170810T183000
DTEND;TZID=America/New_York:20170810T193000
DTSTAMP:20260425T072152
CREATED:20170802T205547Z
LAST-MODIFIED:20170802T205547Z
UID:3479-1502389800-1502393400@www.goodshepherdblm.org
SUMMARY:Board of Trustees Meeting
DESCRIPTION:
URL:https://www.goodshepherdblm.org/event/board-of-trustees-meeting-9/
LOCATION:Good Shepherd Lutheran Church\, 3516 White Eagle Drive\, Bloomington\, IL\, 61704\, United States
CATEGORIES:Board of Trustees
END:VEVENT
BEGIN:VEVENT
DTSTART;TZID=America/New_York:20170808T190000
DTEND;TZID=America/New_York:20170808T200000
DTSTAMP:20260425T072152
CREATED:20170802T205405Z
LAST-MODIFIED:20170802T205405Z
UID:3475-1502218800-1502222400@www.goodshepherdblm.org
SUMMARY:Board of Elders Meeting
DESCRIPTION:
URL:https://www.goodshepherdblm.org/event/board-of-elders-meeting-8/
LOCATION:Good Shepherd Lutheran Church\, 3516 White Eagle Drive\, Bloomington\, IL\, 61704\, United States
CATEGORIES:Board of Elders
END:VEVENT
BEGIN:VEVENT
DTSTART;TZID=America/New_York:20170808T180000
DTEND;TZID=America/New_York:20170808T190000
DTSTAMP:20260425T072152
CREATED:20170802T205308Z
LAST-MODIFIED:20170802T205308Z
UID:3473-1502215200-1502218800@www.goodshepherdblm.org
SUMMARY:Evangelism/Stewardship Meeting
DESCRIPTION:
URL:https://www.goodshepherdblm.org/event/evangelismstewardship-meeting-3/
LOCATION:Good Shepherd Lutheran Church\, 3516 White Eagle Drive\, Bloomington\, IL\, 61704\, United States
CATEGORIES:Board of Evangelism,Board of Stewardship
END:VEVENT
BEGIN:VEVENT
DTSTART;TZID=America/New_York:20170718T190000
DTEND;TZID=America/New_York:20170718T200000
DTSTAMP:20260425T072152
CREATED:20170611T124908Z
LAST-MODIFIED:20170611T124908Z
UID:3375-1500404400-1500408000@www.goodshepherdblm.org
SUMMARY:Church Council
DESCRIPTION:
URL:https://www.goodshepherdblm.org/event/church-council-25/
LOCATION:Good Shepherd Lutheran Church\, 3516 White Eagle Drive\, Bloomington\, IL\, 61704\, United States
CATEGORIES:Church Council
END:VEVENT
BEGIN:VEVENT
DTSTART;TZID=America/New_York:20170713T183000
DTEND;TZID=America/New_York:20170713T193000
DTSTAMP:20260425T072152
CREATED:20170611T124753Z
LAST-MODIFIED:20170611T124753Z
UID:3373-1499970600-1499974200@www.goodshepherdblm.org
SUMMARY:Board of Trustees
DESCRIPTION:
URL:https://www.goodshepherdblm.org/event/board-of-trustees-21/
LOCATION:Good Shepherd Lutheran Church\, 3516 White Eagle Drive\, Bloomington\, IL\, 61704\, United States
CATEGORIES:Board of Trustees
END:VEVENT
BEGIN:VEVENT
DTSTART;TZID=America/New_York:20170620T190000
DTEND;TZID=America/New_York:20170620T200000
DTSTAMP:20260425T072152
CREATED:20170526T153455Z
LAST-MODIFIED:20170526T153455Z
UID:3330-1497985200-1497988800@www.goodshepherdblm.org
SUMMARY:Church Council
DESCRIPTION:
URL:https://www.goodshepherdblm.org/event/church-council-24/
LOCATION:Good Shepherd Lutheran Church\, 3516 White Eagle Drive\, Bloomington\, IL\, 61704\, United States
CATEGORIES:Church Council
END:VEVENT
BEGIN:VEVENT
DTSTART;TZID=America/New_York:20170613T190000
DTEND;TZID=America/New_York:20170613T200000
DTSTAMP:20260425T072152
CREATED:20170526T153404Z
LAST-MODIFIED:20170526T153404Z
UID:3328-1497380400-1497384000@www.goodshepherdblm.org
SUMMARY:Board of Elders
DESCRIPTION:
URL:https://www.goodshepherdblm.org/event/board-of-elders-22/
LOCATION:Good Shepherd Lutheran Church\, 3516 White Eagle Drive\, Bloomington\, IL\, 61704\, United States
CATEGORIES:Board of Elders
END:VEVENT
BEGIN:VEVENT
DTSTART;TZID=America/New_York:20170613T180000
DTEND;TZID=America/New_York:20170613T190000
DTSTAMP:20260425T072152
CREATED:20170526T153313Z
LAST-MODIFIED:20170526T153313Z
UID:3326-1497376800-1497380400@www.goodshepherdblm.org
SUMMARY:Boards of Evangelism/Stewardship
DESCRIPTION:
URL:https://www.goodshepherdblm.org/event/boards-of-evangelismstewardship-4/
LOCATION:Good Shepherd Lutheran Church\, 3516 White Eagle Drive\, Bloomington\, IL\, 61704\, United States
CATEGORIES:Board of Evangelism,Board of Stewardship
END:VEVENT
END:VCALENDAR