BEGIN:VCALENDAR
VERSION:2.0
PRODID:-//Good Shepherd Lutheran Church - ECPv6.15.13//NONSGML v1.0//EN
CALSCALE:GREGORIAN
METHOD:PUBLISH
X-ORIGINAL-URL:https://www.goodshepherdblm.org
X-WR-CALDESC:Events for Good Shepherd Lutheran Church
REFRESH-INTERVAL;VALUE=DURATION:PT1H
X-Robots-Tag:noindex
X-PUBLISHED-TTL:PT1H
BEGIN:VTIMEZONE
TZID:America/New_York
BEGIN:DAYLIGHT
TZOFFSETFROM:-0500
TZOFFSETTO:-0400
TZNAME:EDT
DTSTART:20170312T070000
END:DAYLIGHT
BEGIN:STANDARD
TZOFFSETFROM:-0400
TZOFFSETTO:-0500
TZNAME:EST
DTSTART:20171105T060000
END:STANDARD
BEGIN:DAYLIGHT
TZOFFSETFROM:-0500
TZOFFSETTO:-0400
TZNAME:EDT
DTSTART:20180311T070000
END:DAYLIGHT
BEGIN:STANDARD
TZOFFSETFROM:-0400
TZOFFSETTO:-0500
TZNAME:EST
DTSTART:20181104T060000
END:STANDARD
BEGIN:DAYLIGHT
TZOFFSETFROM:-0500
TZOFFSETTO:-0400
TZNAME:EDT
DTSTART:20190310T070000
END:DAYLIGHT
BEGIN:STANDARD
TZOFFSETFROM:-0400
TZOFFSETTO:-0500
TZNAME:EST
DTSTART:20191103T060000
END:STANDARD
END:VTIMEZONE
BEGIN:VEVENT
DTSTART;TZID=America/New_York:20181108T183000
DTEND;TZID=America/New_York:20181108T193000
DTSTAMP:20260424T230758
CREATED:20181031T160259Z
LAST-MODIFIED:20181031T160259Z
UID:5027-1541701800-1541705400@www.goodshepherdblm.org
SUMMARY:Board of Trustees Meeting
DESCRIPTION:
URL:https://www.goodshepherdblm.org/event/board-of-trustees-meeting-14/
LOCATION:Good Shepherd Lutheran Church\, 3516 White Eagle Drive\, Bloomington\, IL\, 61704\, United States
CATEGORIES:Board of Trustees
END:VEVENT
BEGIN:VEVENT
DTSTART;TZID=America/New_York:20181016T190000
DTEND;TZID=America/New_York:20181016T200000
DTSTAMP:20260424T230758
CREATED:20181003T043855Z
LAST-MODIFIED:20181003T043855Z
UID:4963-1539716400-1539720000@www.goodshepherdblm.org
SUMMARY:Church Council Meeting
DESCRIPTION:
URL:https://www.goodshepherdblm.org/event/church-council-meeting-15/
LOCATION:Good Shepherd Lutheran Church\, 3516 White Eagle Drive\, Bloomington\, IL\, 61704\, United States
CATEGORIES:Church Council
END:VEVENT
BEGIN:VEVENT
DTSTART;TZID=America/New_York:20181011T183000
DTEND;TZID=America/New_York:20181011T193000
DTSTAMP:20260424T230758
CREATED:20181003T043609Z
LAST-MODIFIED:20181003T043609Z
UID:4957-1539282600-1539286200@www.goodshepherdblm.org
SUMMARY:Trustees Meeting
DESCRIPTION:
URL:https://www.goodshepherdblm.org/event/trustees-meeting-3/
LOCATION:Good Shepherd Lutheran Church\, 3516 White Eagle Drive\, Bloomington\, IL\, 61704\, United States
CATEGORIES:Board of Trustees
END:VEVENT
BEGIN:VEVENT
DTSTART;TZID=America/New_York:20181009T190000
DTEND;TZID=America/New_York:20181009T200000
DTSTAMP:20260424T230758
CREATED:20181003T043528Z
LAST-MODIFIED:20181003T043528Z
UID:4955-1539111600-1539115200@www.goodshepherdblm.org
SUMMARY:Elders Meeting
DESCRIPTION:
URL:https://www.goodshepherdblm.org/event/elders-meeting/
LOCATION:Good Shepherd Lutheran Church\, 3516 White Eagle Drive\, Bloomington\, IL\, 61704\, United States
CATEGORIES:Board of Elders
END:VEVENT
BEGIN:VEVENT
DTSTART;TZID=America/New_York:20181009T180000
DTEND;TZID=America/New_York:20181009T190000
DTSTAMP:20260424T230758
CREATED:20181003T043444Z
LAST-MODIFIED:20181003T043444Z
UID:4953-1539108000-1539111600@www.goodshepherdblm.org
SUMMARY:Evangelism\, Stewardship Meeting
DESCRIPTION:
URL:https://www.goodshepherdblm.org/event/evangelism-stewardship-meeting-2/
LOCATION:Good Shepherd Lutheran Church\, 3516 White Eagle Drive\, Bloomington\, IL\, 61704\, United States
CATEGORIES:Board of Evangelism,Board of Stewardship
END:VEVENT
BEGIN:VEVENT
DTSTART;TZID=America/New_York:20180918T190000
DTEND;TZID=America/New_York:20180918T200000
DTSTAMP:20260424T230758
CREATED:20180909T070920Z
LAST-MODIFIED:20180909T070920Z
UID:4879-1537297200-1537300800@www.goodshepherdblm.org
SUMMARY:Church Council Meeting
DESCRIPTION:
URL:https://www.goodshepherdblm.org/event/church-council-meeting-14/
LOCATION:Good Shepherd Lutheran Church\, 3516 White Eagle Drive\, Bloomington\, IL\, 61704\, United States
CATEGORIES:Church Council
END:VEVENT
BEGIN:VEVENT
DTSTART;TZID=America/New_York:20180913T183000
DTEND;TZID=America/New_York:20180913T193000
DTSTAMP:20260424T230758
CREATED:20180909T065236Z
LAST-MODIFIED:20180909T065236Z
UID:4873-1536863400-1536867000@www.goodshepherdblm.org
SUMMARY:Board of Trustees Meeting
DESCRIPTION:
URL:https://www.goodshepherdblm.org/event/board-of-trustees-meeting-13/
LOCATION:Good Shepherd Lutheran Church\, 3516 White Eagle Drive\, Bloomington\, IL\, 61704\, United States
CATEGORIES:Board of Trustees
END:VEVENT
BEGIN:VEVENT
DTSTART;TZID=America/New_York:20180911T190000
DTEND;TZID=America/New_York:20180911T200000
DTSTAMP:20260424T230758
CREATED:20180909T065132Z
LAST-MODIFIED:20180909T065132Z
UID:4871-1536692400-1536696000@www.goodshepherdblm.org
SUMMARY:Board of Elders Meeting
DESCRIPTION:
URL:https://www.goodshepherdblm.org/event/board-of-elders-meeting-13/
LOCATION:Good Shepherd Lutheran Church\, 3516 White Eagle Drive\, Bloomington\, IL\, 61704\, United States
CATEGORIES:Board of Elders
END:VEVENT
BEGIN:VEVENT
DTSTART;TZID=America/New_York:20180821T190000
DTEND;TZID=America/New_York:20180821T200000
DTSTAMP:20260424T230758
CREATED:20180814T161125Z
LAST-MODIFIED:20180814T161125Z
UID:4801-1534878000-1534881600@www.goodshepherdblm.org
SUMMARY:Church Council
DESCRIPTION:
URL:https://www.goodshepherdblm.org/event/church-council-30/
LOCATION:Good Shepherd Lutheran Church\, 3516 White Eagle Drive\, Bloomington\, IL\, 61704\, United States
CATEGORIES:Church Council
END:VEVENT
BEGIN:VEVENT
DTSTART;TZID=America/New_York:20180814T190000
DTEND;TZID=America/New_York:20180814T200000
DTSTAMP:20260424T230758
CREATED:20180814T160354Z
LAST-MODIFIED:20180814T160354Z
UID:4795-1534273200-1534276800@www.goodshepherdblm.org
SUMMARY:Board of Elders
DESCRIPTION:
URL:https://www.goodshepherdblm.org/event/board-of-elders-29/
LOCATION:Good Shepherd Lutheran Church\, 3516 White Eagle Drive\, Bloomington\, IL\, 61704\, United States
CATEGORIES:Board of Elders
END:VEVENT
BEGIN:VEVENT
DTSTART;TZID=America/New_York:20180814T180000
DTEND;TZID=America/New_York:20180814T190000
DTSTAMP:20260424T230758
CREATED:20180814T160310Z
LAST-MODIFIED:20180814T160310Z
UID:4793-1534269600-1534273200@www.goodshepherdblm.org
SUMMARY:Boards of Evangelism\, Stewardship
DESCRIPTION:
URL:https://www.goodshepherdblm.org/event/boards-of-evangelism-stewardship-2/
LOCATION:Good Shepherd Lutheran Church\, 3516 White Eagle Drive\, Bloomington\, IL\, 61704\, United States
CATEGORIES:Board of Evangelism,Board of Stewardship
END:VEVENT
BEGIN:VEVENT
DTSTART;TZID=America/New_York:20180809T183000
DTEND;TZID=America/New_York:20180809T193000
DTSTAMP:20260424T230758
CREATED:20180814T162329Z
LAST-MODIFIED:20180814T162329Z
UID:4812-1533839400-1533843000@www.goodshepherdblm.org
SUMMARY:Board of Trustees
DESCRIPTION:
URL:https://www.goodshepherdblm.org/event/board-of-trustees-29/
LOCATION:Good Shepherd Lutheran Church\, 3516 White Eagle Drive\, Bloomington\, IL\, 61704\, United States
CATEGORIES:Board of Trustees
END:VEVENT
BEGIN:VEVENT
DTSTART;TZID=America/New_York:20180717T190000
DTEND;TZID=America/New_York:20180717T200000
DTSTAMP:20260424T230758
CREATED:20180703T165424Z
LAST-MODIFIED:20180703T165424Z
UID:4733-1531854000-1531857600@www.goodshepherdblm.org
SUMMARY:Church Council
DESCRIPTION:
URL:https://www.goodshepherdblm.org/event/church-council-29/
LOCATION:Good Shepherd Lutheran Church\, 3516 White Eagle Drive\, Bloomington\, IL\, 61704\, United States
CATEGORIES:Church Council
END:VEVENT
BEGIN:VEVENT
DTSTART;TZID=America/New_York:20180712T183000
DTEND;TZID=America/New_York:20180712T193000
DTSTAMP:20260424T230758
CREATED:20180703T162841Z
LAST-MODIFIED:20180703T164532Z
UID:4719-1531420200-1531423800@www.goodshepherdblm.org
SUMMARY:Board of Trustees
DESCRIPTION:
URL:https://www.goodshepherdblm.org/event/board-of-trustees-28/
LOCATION:Good Shepherd Lutheran Church\, 3516 White Eagle Drive\, Bloomington\, IL\, 61704\, United States
CATEGORIES:Board of Trustees
END:VEVENT
BEGIN:VEVENT
DTSTART;TZID=America/New_York:20180710T190000
DTEND;TZID=America/New_York:20180710T200000
DTSTAMP:20260424T230758
CREATED:20180703T162717Z
LAST-MODIFIED:20180703T162717Z
UID:4717-1531249200-1531252800@www.goodshepherdblm.org
SUMMARY:Board of Elders
DESCRIPTION:
URL:https://www.goodshepherdblm.org/event/board-of-elders-28/
LOCATION:Good Shepherd Lutheran Church\, 3516 White Eagle Drive\, Bloomington\, IL\, 61704\, United States
CATEGORIES:Board of Elders
END:VEVENT
BEGIN:VEVENT
DTSTART;TZID=America/New_York:20180710T180000
DTEND;TZID=America/New_York:20180710T190000
DTSTAMP:20260424T230758
CREATED:20180703T162556Z
LAST-MODIFIED:20180703T162556Z
UID:4715-1531245600-1531249200@www.goodshepherdblm.org
SUMMARY:Boards of Evangelism/Stewardship
DESCRIPTION:
URL:https://www.goodshepherdblm.org/event/boards-of-evangelism-stewardship/
LOCATION:IL
CATEGORIES:Board of Evangelism,Board of Stewardship
END:VEVENT
BEGIN:VEVENT
DTSTART;TZID=America/New_York:20180619T190000
DTEND;TZID=America/New_York:20180619T200000
DTSTAMP:20260424T230758
CREATED:20180530T215120Z
LAST-MODIFIED:20180530T215120Z
UID:4616-1529434800-1529438400@www.goodshepherdblm.org
SUMMARY:Church Council Meeting
DESCRIPTION:
URL:https://www.goodshepherdblm.org/event/church-council-meeting-13/
LOCATION:Good Shepherd Lutheran Church\, 3516 White Eagle Drive\, Bloomington\, IL\, 61704\, United States
CATEGORIES:Church Council
END:VEVENT
BEGIN:VEVENT
DTSTART;TZID=America/New_York:20180614T183000
DTEND;TZID=America/New_York:20180614T193000
DTSTAMP:20260424T230758
CREATED:20180530T214738Z
LAST-MODIFIED:20180530T214738Z
UID:4610-1529001000-1529004600@www.goodshepherdblm.org
SUMMARY:Board of Trustees Meeting
DESCRIPTION:
URL:https://www.goodshepherdblm.org/event/board-of-trustees-meeting-12/
LOCATION:Good Shepherd Lutheran Church\, 3516 White Eagle Drive\, Bloomington\, IL\, 61704\, United States
CATEGORIES:Board of Trustees
END:VEVENT
BEGIN:VEVENT
DTSTART;TZID=America/New_York:20180612T190000
DTEND;TZID=America/New_York:20180612T200000
DTSTAMP:20260424T230758
CREATED:20180530T214618Z
LAST-MODIFIED:20180530T214618Z
UID:4608-1528830000-1528833600@www.goodshepherdblm.org
SUMMARY:Board of Elders Meeting
DESCRIPTION:
URL:https://www.goodshepherdblm.org/event/board-of-elders-meeting-12/
LOCATION:Good Shepherd Lutheran Church\, 3516 White Eagle Drive\, Bloomington\, IL\, 61704\, United States
CATEGORIES:Board of Elders
END:VEVENT
BEGIN:VEVENT
DTSTART;TZID=America/New_York:20180612T180000
DTEND;TZID=America/New_York:20180612T190000
DTSTAMP:20260424T230758
CREATED:20180530T214521Z
LAST-MODIFIED:20180530T221255Z
UID:4606-1528826400-1528830000@www.goodshepherdblm.org
SUMMARY:Boards of Evangelism & Stewardship Meeting
DESCRIPTION:
URL:https://www.goodshepherdblm.org/event/boards-of-evangelism-stewardship-meeting-2/
LOCATION:Good Shepherd Lutheran Church\, 3516 White Eagle Drive\, Bloomington\, IL\, 61704\, United States
CATEGORIES:Board of Evangelism,Board of Stewardship
END:VEVENT
BEGIN:VEVENT
DTSTART;TZID=America/New_York:20180515T190000
DTEND;TZID=America/New_York:20180515T200000
DTSTAMP:20260424T230758
CREATED:20180430T150349Z
LAST-MODIFIED:20180430T150349Z
UID:4542-1526410800-1526414400@www.goodshepherdblm.org
SUMMARY:Church Council Meeting
DESCRIPTION:
URL:https://www.goodshepherdblm.org/event/church-council-meeting-12/
LOCATION:Good Shepherd Lutheran Church\, 3516 White Eagle Drive\, Bloomington\, IL\, 61704\, United States
CATEGORIES:Church Council
END:VEVENT
BEGIN:VEVENT
DTSTART;TZID=America/New_York:20180510T183000
DTEND;TZID=America/New_York:20180510T190000
DTSTAMP:20260424T230758
CREATED:20180430T150535Z
LAST-MODIFIED:20180430T150535Z
UID:4544-1525977000-1525978800@www.goodshepherdblm.org
SUMMARY:Board of Trustees
DESCRIPTION:
URL:https://www.goodshepherdblm.org/event/board-of-trustees-27/
LOCATION:Good Shepherd Lutheran Church\, 3516 White Eagle Drive\, Bloomington\, IL\, 61704\, United States
CATEGORIES:Board of Trustees
END:VEVENT
BEGIN:VEVENT
DTSTART;TZID=America/New_York:20180508T190000
DTEND;TZID=America/New_York:20180508T200000
DTSTAMP:20260424T230758
CREATED:20180430T145435Z
LAST-MODIFIED:20180430T145435Z
UID:4530-1525806000-1525809600@www.goodshepherdblm.org
SUMMARY:Board of Elders
DESCRIPTION:
URL:https://www.goodshepherdblm.org/event/board-of-elders-27/
LOCATION:Good Shepherd Lutheran Church\, 3516 White Eagle Drive\, Bloomington\, IL\, 61704\, United States
CATEGORIES:Board of Elders
END:VEVENT
BEGIN:VEVENT
DTSTART;TZID=America/New_York:20180417T190000
DTEND;TZID=America/New_York:20180417T200000
DTSTAMP:20260424T230758
CREATED:20180326T215149Z
LAST-MODIFIED:20180326T215149Z
UID:4443-1523991600-1523995200@www.goodshepherdblm.org
SUMMARY:Church Council Meeting
DESCRIPTION:
URL:https://www.goodshepherdblm.org/event/church-council-meeting-11/
LOCATION:Good Shepherd Lutheran Church\, 3516 White Eagle Drive\, Bloomington\, IL\, 61704\, United States
CATEGORIES:Church Council
END:VEVENT
BEGIN:VEVENT
DTSTART;TZID=America/New_York:20180412T183000
DTEND;TZID=America/New_York:20180412T193000
DTSTAMP:20260424T230758
CREATED:20180326T214037Z
LAST-MODIFIED:20180326T214037Z
UID:4434-1523557800-1523561400@www.goodshepherdblm.org
SUMMARY:Board of Trustees Meeting
DESCRIPTION:
URL:https://www.goodshepherdblm.org/event/board-of-trustees-meeting-11/
LOCATION:Good Shepherd Lutheran Church\, 3516 White Eagle Drive\, Bloomington\, IL\, 61704\, United States
CATEGORIES:Board of Trustees
END:VEVENT
BEGIN:VEVENT
DTSTART;TZID=America/New_York:20180410T190000
DTEND;TZID=America/New_York:20180410T200000
DTSTAMP:20260424T230758
CREATED:20180326T213845Z
LAST-MODIFIED:20180326T213845Z
UID:4429-1523386800-1523390400@www.goodshepherdblm.org
SUMMARY:Board of Elders Meeting
DESCRIPTION:
URL:https://www.goodshepherdblm.org/event/board-of-elders-meeting-11/
LOCATION:Good Shepherd Lutheran Church\, 3516 White Eagle Drive\, Bloomington\, IL\, 61704\, United States
CATEGORIES:Board of Elders
END:VEVENT
BEGIN:VEVENT
DTSTART;TZID=America/New_York:20180410T180000
DTEND;TZID=America/New_York:20180410T190000
DTSTAMP:20260424T230758
CREATED:20180326T213747Z
LAST-MODIFIED:20180326T220209Z
UID:4427-1523383200-1523386800@www.goodshepherdblm.org
SUMMARY:Boards of Evangelism & Stewardship Meeting
DESCRIPTION:
URL:https://www.goodshepherdblm.org/event/boards-of-evangelism-stewardship-meeting/
LOCATION:Good Shepherd Lutheran Church\, 3516 White Eagle Drive\, Bloomington\, IL\, 61704\, United States
CATEGORIES:Board of Evangelism,Board of Stewardship
END:VEVENT
BEGIN:VEVENT
DTSTART;TZID=America/New_York:20180320T190000
DTEND;TZID=America/New_York:20180320T200000
DTSTAMP:20260424T230758
CREATED:20180303T033524Z
LAST-MODIFIED:20180303T033524Z
UID:4361-1521572400-1521576000@www.goodshepherdblm.org
SUMMARY:Church Council
DESCRIPTION:
URL:https://www.goodshepherdblm.org/event/church-council-28/
LOCATION:Good Shepherd Lutheran Church\, 3516 White Eagle Drive\, Bloomington\, IL\, 61704\, United States
CATEGORIES:Church Council
END:VEVENT
BEGIN:VEVENT
DTSTART;TZID=America/New_York:20180313T190000
DTEND;TZID=America/New_York:20180313T200000
DTSTAMP:20260424T230758
CREATED:20180303T033223Z
LAST-MODIFIED:20180303T033223Z
UID:4355-1520967600-1520971200@www.goodshepherdblm.org
SUMMARY:Board of Elders
DESCRIPTION:
URL:https://www.goodshepherdblm.org/event/board-of-elders-26/
LOCATION:Good Shepherd Lutheran Church\, 3516 White Eagle Drive\, Bloomington\, IL\, 61704\, United States
CATEGORIES:Board of Elders
END:VEVENT
BEGIN:VEVENT
DTSTART;TZID=America/New_York:20180313T180000
DTEND;TZID=America/New_York:20180313T190000
DTSTAMP:20260424T230758
CREATED:20180303T033130Z
LAST-MODIFIED:20180303T033130Z
UID:4353-1520964000-1520967600@www.goodshepherdblm.org
SUMMARY:Board of Evangelism/Stewardship
DESCRIPTION:
URL:https://www.goodshepherdblm.org/event/board-of-evangelism-stewardship-2/
LOCATION:Good Shepherd Lutheran Church\, 3516 White Eagle Drive\, Bloomington\, IL\, 61704\, United States
CATEGORIES:Board of Evangelism,Board of Stewardship
END:VEVENT
END:VCALENDAR