BEGIN:VCALENDAR
VERSION:2.0
PRODID:-//Good Shepherd Lutheran Church - ECPv6.15.13//NONSGML v1.0//EN
CALSCALE:GREGORIAN
METHOD:PUBLISH
X-WR-CALNAME:Good Shepherd Lutheran Church
X-ORIGINAL-URL:https://www.goodshepherdblm.org
X-WR-CALDESC:Events for Good Shepherd Lutheran Church
REFRESH-INTERVAL;VALUE=DURATION:PT1H
X-Robots-Tag:noindex
X-PUBLISHED-TTL:PT1H
BEGIN:VTIMEZONE
TZID:America/Chicago
BEGIN:DAYLIGHT
TZOFFSETFROM:-0600
TZOFFSETTO:-0500
TZNAME:CDT
DTSTART:20180311T080000
END:DAYLIGHT
BEGIN:STANDARD
TZOFFSETFROM:-0500
TZOFFSETTO:-0600
TZNAME:CST
DTSTART:20181104T070000
END:STANDARD
BEGIN:DAYLIGHT
TZOFFSETFROM:-0600
TZOFFSETTO:-0500
TZNAME:CDT
DTSTART:20190310T080000
END:DAYLIGHT
BEGIN:STANDARD
TZOFFSETFROM:-0500
TZOFFSETTO:-0600
TZNAME:CST
DTSTART:20191103T070000
END:STANDARD
BEGIN:DAYLIGHT
TZOFFSETFROM:-0600
TZOFFSETTO:-0500
TZNAME:CDT
DTSTART:20200308T080000
END:DAYLIGHT
BEGIN:STANDARD
TZOFFSETFROM:-0500
TZOFFSETTO:-0600
TZNAME:CST
DTSTART:20201101T070000
END:STANDARD
END:VTIMEZONE
BEGIN:VTIMEZONE
TZID:America/New_York
BEGIN:DAYLIGHT
TZOFFSETFROM:-0500
TZOFFSETTO:-0400
TZNAME:EDT
DTSTART:20180311T070000
END:DAYLIGHT
BEGIN:STANDARD
TZOFFSETFROM:-0400
TZOFFSETTO:-0500
TZNAME:EST
DTSTART:20181104T060000
END:STANDARD
BEGIN:DAYLIGHT
TZOFFSETFROM:-0500
TZOFFSETTO:-0400
TZNAME:EDT
DTSTART:20190310T070000
END:DAYLIGHT
BEGIN:STANDARD
TZOFFSETFROM:-0400
TZOFFSETTO:-0500
TZNAME:EST
DTSTART:20191103T060000
END:STANDARD
BEGIN:DAYLIGHT
TZOFFSETFROM:-0500
TZOFFSETTO:-0400
TZNAME:EDT
DTSTART:20200308T070000
END:DAYLIGHT
BEGIN:STANDARD
TZOFFSETFROM:-0400
TZOFFSETTO:-0500
TZNAME:EST
DTSTART:20201101T060000
END:STANDARD
END:VTIMEZONE
BEGIN:VEVENT
DTSTART;TZID=America/Chicago:20191015T180000
DTEND;TZID=America/Chicago:20191015T190000
DTSTAMP:20260424T111812
CREATED:20190925T143226Z
LAST-MODIFIED:20190925T143226Z
UID:6184-1571162400-1571166000@www.goodshepherdblm.org
SUMMARY:Church Council
DESCRIPTION:
URL:https://www.goodshepherdblm.org/event/church-council-34/
LOCATION:Good Shepherd Lutheran Church\, 3516 White Eagle Drive\, Bloomington\, IL\, 61704\, United States
CATEGORIES:Church Council
END:VEVENT
BEGIN:VEVENT
DTSTART;TZID=America/Chicago:20191010T183000
DTEND;TZID=America/Chicago:20191010T193000
DTSTAMP:20260424T111812
CREATED:20190924T174125Z
LAST-MODIFIED:20190924T174125Z
UID:6178-1570732200-1570735800@www.goodshepherdblm.org
SUMMARY:Board of Trustees Meeting
DESCRIPTION:
URL:https://www.goodshepherdblm.org/event/board-of-trustees-meeting-21/
LOCATION:Good Shepherd Lutheran Church\, 3516 White Eagle Drive\, Bloomington\, IL\, 61704\, United States
CATEGORIES:Board of Trustees
END:VEVENT
BEGIN:VEVENT
DTSTART;TZID=America/Chicago:20191008T190000
DTEND;TZID=America/Chicago:20191008T200000
DTSTAMP:20260424T111812
CREATED:20190924T173952Z
LAST-MODIFIED:20190924T174211Z
UID:6176-1570561200-1570564800@www.goodshepherdblm.org
SUMMARY:Board of Elders Meeting
DESCRIPTION:
URL:https://www.goodshepherdblm.org/event/board-of-elders-31/
LOCATION:IL
CATEGORIES:Board of Elders
END:VEVENT
BEGIN:VEVENT
DTSTART;TZID=America/Chicago:20191008T180000
DTEND;TZID=America/Chicago:20191008T190000
DTSTAMP:20260424T111812
CREATED:20190924T173912Z
LAST-MODIFIED:20190924T173912Z
UID:6174-1570557600-1570561200@www.goodshepherdblm.org
SUMMARY:Evangelism/Stewardship Meeting
DESCRIPTION:
URL:https://www.goodshepherdblm.org/event/evangelism-stewardship-meeting-3/
LOCATION:Good Shepherd Lutheran Church\, 3516 White Eagle Drive\, Bloomington\, IL\, 61704\, United States
CATEGORIES:Board of Evangelism,Board of Stewardship
END:VEVENT
BEGIN:VEVENT
DTSTART;TZID=America/Chicago:20190917T180000
DTEND;TZID=America/Chicago:20190917T190000
DTSTAMP:20260424T111812
CREATED:20190819T160232Z
LAST-MODIFIED:20190819T160232Z
UID:6060-1568743200-1568746800@www.goodshepherdblm.org
SUMMARY:Church Council
DESCRIPTION:
URL:https://www.goodshepherdblm.org/event/church-council-33/
LOCATION:Good Shepherd Lutheran Church\, 3516 White Eagle Drive\, Bloomington\, IL\, 61704\, United States
CATEGORIES:Church Council
END:VEVENT
BEGIN:VEVENT
DTSTART;TZID=America/Chicago:20190912T183000
DTEND;TZID=America/Chicago:20190912T193000
DTSTAMP:20260424T111812
CREATED:20190819T155746Z
LAST-MODIFIED:20190819T155746Z
UID:6055-1568313000-1568316600@www.goodshepherdblm.org
SUMMARY:Board of Trustees Meeting
DESCRIPTION:
URL:https://www.goodshepherdblm.org/event/board-of-trustees-meeting-20/
LOCATION:Good Shepherd Lutheran Church\, 3516 White Eagle Drive\, Bloomington\, IL\, 61704\, United States
CATEGORIES:Board of Trustees
END:VEVENT
BEGIN:VEVENT
DTSTART;TZID=America/Chicago:20190910T190000
DTEND;TZID=America/Chicago:20190910T200000
DTSTAMP:20260424T111812
CREATED:20190819T155639Z
LAST-MODIFIED:20190819T155639Z
UID:6053-1568142000-1568145600@www.goodshepherdblm.org
SUMMARY:Board of Elders Meeting
DESCRIPTION:
URL:https://www.goodshepherdblm.org/event/board-of-elders-meeting-20/
LOCATION:Good Shepherd Lutheran Church\, 3516 White Eagle Drive\, Bloomington\, IL\, 61704\, United States
CATEGORIES:Board of Elders
END:VEVENT
BEGIN:VEVENT
DTSTART;TZID=America/Chicago:20190910T180000
DTEND;TZID=America/Chicago:20190910T190000
DTSTAMP:20260424T111812
CREATED:20190819T155517Z
LAST-MODIFIED:20190819T155951Z
UID:6051-1568138400-1568142000@www.goodshepherdblm.org
SUMMARY:Board of Evangelism & Stewardship Meeting
DESCRIPTION:
URL:https://www.goodshepherdblm.org/event/board-of-evangelism-stewardship-meeting-2/
LOCATION:Good Shepherd Lutheran Church\, 3516 White Eagle Drive\, Bloomington\, IL\, 61704\, United States
CATEGORIES:Board of Evangelism,Board of Stewardship
END:VEVENT
BEGIN:VEVENT
DTSTART;TZID=America/Chicago:20190820T180000
DTEND;TZID=America/Chicago:20190820T190000
DTSTAMP:20260424T111812
CREATED:20190812T174210Z
LAST-MODIFIED:20190812T174210Z
UID:6023-1566324000-1566327600@www.goodshepherdblm.org
SUMMARY:Church Council
DESCRIPTION:
URL:https://www.goodshepherdblm.org/event/church-council-32/
LOCATION:Good Shepherd Lutheran Church\, 3516 White Eagle Drive\, Bloomington\, IL\, 61704\, United States
CATEGORIES:Church Council
END:VEVENT
BEGIN:VEVENT
DTSTART;TZID=America/Chicago:20190813T190000
DTEND;TZID=America/Chicago:20190813T200000
DTSTAMP:20260424T111812
CREATED:20190812T173340Z
LAST-MODIFIED:20190812T173340Z
UID:6015-1565722800-1565726400@www.goodshepherdblm.org
SUMMARY:Elders Meeting
DESCRIPTION:
URL:https://www.goodshepherdblm.org/event/elders-meeting-2/
LOCATION:Good Shepherd Lutheran Church\, 3516 White Eagle Drive\, Bloomington\, IL\, 61704\, United States
CATEGORIES:Board of Elders
END:VEVENT
BEGIN:VEVENT
DTSTART;TZID=America/Chicago:20190813T180000
DTEND;TZID=America/Chicago:20190813T190000
DTSTAMP:20260424T111812
CREATED:20190812T173247Z
LAST-MODIFIED:20190812T173535Z
UID:6013-1565719200-1565722800@www.goodshepherdblm.org
SUMMARY:Evangelism/Stewardship
DESCRIPTION:
URL:https://www.goodshepherdblm.org/event/evangelism-stewardship/
LOCATION:Good Shepherd Lutheran Church\, 3516 White Eagle Drive\, Bloomington\, IL\, 61704\, United States
CATEGORIES:Board of Evangelism,Board of Stewardship
END:VEVENT
BEGIN:VEVENT
DTSTART;TZID=America/New_York:20190618T180000
DTEND;TZID=America/New_York:20190618T190000
DTSTAMP:20260424T111812
CREATED:20190528T154553Z
LAST-MODIFIED:20190528T154553Z
UID:5865-1560880800-1560884400@www.goodshepherdblm.org
SUMMARY:Church Council
DESCRIPTION:
URL:https://www.goodshepherdblm.org/event/church-council-31/
LOCATION:Good Shepherd Lutheran Church\, 3516 White Eagle Drive\, Bloomington\, IL\, 61704\, United States
CATEGORIES:Church Council
END:VEVENT
BEGIN:VEVENT
DTSTART;TZID=America/New_York:20190613T183000
DTEND;TZID=America/New_York:20190613T193000
DTSTAMP:20260424T111812
CREATED:20190528T154452Z
LAST-MODIFIED:20190528T154452Z
UID:5863-1560450600-1560454200@www.goodshepherdblm.org
SUMMARY:Board of Trustees
DESCRIPTION:
URL:https://www.goodshepherdblm.org/event/board-of-trustees-30/
LOCATION:Good Shepherd Lutheran Church\, 3516 White Eagle Drive\, Bloomington\, IL\, 61704\, United States
CATEGORIES:Board of Trustees
END:VEVENT
BEGIN:VEVENT
DTSTART;TZID=America/New_York:20190611T190000
DTEND;TZID=America/New_York:20190611T200000
DTSTAMP:20260424T111812
CREATED:20190528T154354Z
LAST-MODIFIED:20190528T154354Z
UID:5861-1560279600-1560283200@www.goodshepherdblm.org
SUMMARY:Board of Elders
DESCRIPTION:
URL:https://www.goodshepherdblm.org/event/board-of-elders-30/
LOCATION:Good Shepherd Lutheran Church\, 3516 White Eagle Drive\, Bloomington\, IL\, 61704\, United States
CATEGORIES:Board of Elders
END:VEVENT
BEGIN:VEVENT
DTSTART;TZID=America/New_York:20190611T180000
DTEND;TZID=America/New_York:20190611T190000
DTSTAMP:20260424T111812
CREATED:20190528T154157Z
LAST-MODIFIED:20190528T154157Z
UID:5859-1560276000-1560279600@www.goodshepherdblm.org
SUMMARY:Boards of Evangelism/Stewardship
DESCRIPTION:
URL:https://www.goodshepherdblm.org/event/boards-of-evangelism-stewardship-3/
LOCATION:Good Shepherd Lutheran Church\, 3516 White Eagle Drive\, Bloomington\, IL\, 61704\, United States
CATEGORIES:Board of Evangelism,Board of Stewardship
END:VEVENT
BEGIN:VEVENT
DTSTART;TZID=America/New_York:20190521T180000
DTEND;TZID=America/New_York:20190521T190000
DTSTAMP:20260424T111812
CREATED:20190507T150045Z
LAST-MODIFIED:20190507T150045Z
UID:5808-1558461600-1558465200@www.goodshepherdblm.org
SUMMARY:Church Council Meeting
DESCRIPTION:
URL:https://www.goodshepherdblm.org/event/church-council-meeting-21/
LOCATION:Good Shepherd Lutheran Church\, 3516 White Eagle Drive\, Bloomington\, IL\, 61704\, United States
CATEGORIES:Church Council
END:VEVENT
BEGIN:VEVENT
DTSTART;TZID=America/New_York:20190514T190000
DTEND;TZID=America/New_York:20190514T200000
DTSTAMP:20260424T111812
CREATED:20190507T145321Z
LAST-MODIFIED:20190507T145321Z
UID:5801-1557860400-1557864000@www.goodshepherdblm.org
SUMMARY:Board of Elders Meeting
DESCRIPTION:
URL:https://www.goodshepherdblm.org/event/board-of-elders-meeting-19/
LOCATION:Good Shepherd Lutheran Church\, 3516 White Eagle Drive\, Bloomington\, IL\, 61704\, United States
CATEGORIES:Board of Elders
END:VEVENT
BEGIN:VEVENT
DTSTART;TZID=America/Chicago:20190509T183000
DTEND;TZID=America/Chicago:20190509T183000
DTSTAMP:20260424T111812
CREATED:20190507T145220Z
LAST-MODIFIED:20190507T145220Z
UID:5799-1557426600-1557426600@www.goodshepherdblm.org
SUMMARY:Board of Trustees Meeting
DESCRIPTION:
URL:https://www.goodshepherdblm.org/event/board-of-trustees-meeting-19/
LOCATION:Good Shepherd Lutheran Church\, 3516 White Eagle Drive\, Bloomington\, IL\, 61704\, United States
CATEGORIES:Board of Trustees
END:VEVENT
BEGIN:VEVENT
DTSTART;TZID=America/New_York:20190416T180000
DTEND;TZID=America/New_York:20190416T180000
DTSTAMP:20260424T111812
CREATED:20190329T163253Z
LAST-MODIFIED:20190329T163253Z
UID:5675-1555437600-1555437600@www.goodshepherdblm.org
SUMMARY:Church Council Meeting
DESCRIPTION:
URL:https://www.goodshepherdblm.org/event/church-council-meeting-20/
LOCATION:Good Shepherd Lutheran Church\, 3516 White Eagle Drive\, Bloomington\, IL\, 61704\, United States
CATEGORIES:Church Council
END:VEVENT
BEGIN:VEVENT
DTSTART;TZID=America/New_York:20190411T183000
DTEND;TZID=America/New_York:20190411T193000
DTSTAMP:20260424T111812
CREATED:20190329T162649Z
LAST-MODIFIED:20190329T162649Z
UID:5668-1555007400-1555011000@www.goodshepherdblm.org
SUMMARY:Board of Trustees Meeting
DESCRIPTION:
URL:https://www.goodshepherdblm.org/event/board-of-trustees-meeting-18/
LOCATION:Good Shepherd Lutheran Church\, 3516 White Eagle Drive\, Bloomington\, IL\, 61704\, United States
CATEGORIES:Board of Trustees
END:VEVENT
BEGIN:VEVENT
DTSTART;TZID=America/New_York:20190409T190000
DTEND;TZID=America/New_York:20190409T200000
DTSTAMP:20260424T111812
CREATED:20190329T162333Z
LAST-MODIFIED:20190329T162333Z
UID:5662-1554836400-1554840000@www.goodshepherdblm.org
SUMMARY:Board of Elders Meeting
DESCRIPTION:
URL:https://www.goodshepherdblm.org/event/board-of-elders-meeting-18/
LOCATION:Good Shepherd Lutheran Church\, 3516 White Eagle Drive\, Bloomington\, IL\, 61704\, United States
CATEGORIES:Board of Elders
END:VEVENT
BEGIN:VEVENT
DTSTART;TZID=America/New_York:20190409T180000
DTEND;TZID=America/New_York:20190409T190000
DTSTAMP:20260424T111812
CREATED:20190329T162243Z
LAST-MODIFIED:20190329T162243Z
UID:5660-1554832800-1554836400@www.goodshepherdblm.org
SUMMARY:Boards of Evangelism\, Stewardship Meeting
DESCRIPTION:
URL:https://www.goodshepherdblm.org/event/boards-of-evangelism-stewardship-meeting-5/
LOCATION:Good Shepherd Lutheran Church\, 3516 White Eagle Drive\, Bloomington\, IL\, 61704\, United States
CATEGORIES:Board of Evangelism,Board of Stewardship
END:VEVENT
BEGIN:VEVENT
DTSTART;TZID=America/New_York:20190319T180000
DTEND;TZID=America/New_York:20190319T190000
DTSTAMP:20260424T111812
CREATED:20190225T190459Z
LAST-MODIFIED:20190225T190459Z
UID:5541-1553018400-1553022000@www.goodshepherdblm.org
SUMMARY:Church Council Meeting
DESCRIPTION:
URL:https://www.goodshepherdblm.org/event/church-council-meeting-19/
LOCATION:Good Shepherd Lutheran Church\, 3516 White Eagle Drive\, Bloomington\, IL\, 61704\, United States
CATEGORIES:Church Council
END:VEVENT
BEGIN:VEVENT
DTSTART;TZID=America/New_York:20190314T183000
DTEND;TZID=America/New_York:20190314T193000
DTSTAMP:20260424T111812
CREATED:20190225T185650Z
LAST-MODIFIED:20190225T185650Z
UID:5537-1552588200-1552591800@www.goodshepherdblm.org
SUMMARY:Board of Trustees Meeting
DESCRIPTION:
URL:https://www.goodshepherdblm.org/event/board-of-trustees-meeting-17/
LOCATION:Good Shepherd Lutheran Church\, 3516 White Eagle Drive\, Bloomington\, IL\, 61704\, United States
CATEGORIES:Board of Trustees
END:VEVENT
BEGIN:VEVENT
DTSTART;TZID=America/New_York:20190312T180000
DTEND;TZID=America/New_York:20190312T190000
DTSTAMP:20260424T111812
CREATED:20190225T185101Z
LAST-MODIFIED:20190225T185101Z
UID:5531-1552413600-1552417200@www.goodshepherdblm.org
SUMMARY:Board of Elders Meeting
DESCRIPTION:
URL:https://www.goodshepherdblm.org/event/board-of-elders-meeting-17/
LOCATION:Good Shepherd Lutheran Church\, 3516 White Eagle Drive\, Bloomington\, IL\, 61704\, United States
CATEGORIES:Board of Elders
END:VEVENT
BEGIN:VEVENT
DTSTART;TZID=America/New_York:20190312T180000
DTEND;TZID=America/New_York:20190312T190000
DTSTAMP:20260424T111812
CREATED:20190225T184953Z
LAST-MODIFIED:20190225T193325Z
UID:5529-1552413600-1552417200@www.goodshepherdblm.org
SUMMARY:Boards of Evangelism & Stewardship Meeting
DESCRIPTION:
URL:https://www.goodshepherdblm.org/event/board-of-evangelism-stewardship-meeting/
LOCATION:Good Shepherd Lutheran Church\, 3516 White Eagle Drive\, Bloomington\, IL\, 61704\, United States
CATEGORIES:Board of Evangelism,Board of Stewardship
END:VEVENT
BEGIN:VEVENT
DTSTART;TZID=America/New_York:20190219T180000
DTEND;TZID=America/New_York:20190219T190000
DTSTAMP:20260424T111812
CREATED:20190131T030117Z
LAST-MODIFIED:20190131T030117Z
UID:5437-1550599200-1550602800@www.goodshepherdblm.org
SUMMARY:Church Council Meeting
DESCRIPTION:
URL:https://www.goodshepherdblm.org/event/church-council-meeting-18/
LOCATION:Good Shepherd Lutheran Church\, 3516 White Eagle Drive\, Bloomington\, IL\, 61704\, United States
CATEGORIES:Church Council
END:VEVENT
BEGIN:VEVENT
DTSTART;TZID=America/New_York:20190212T190000
DTEND;TZID=America/New_York:20190212T200000
DTSTAMP:20260424T111812
CREATED:20190131T025553Z
LAST-MODIFIED:20190131T025553Z
UID:5423-1549998000-1550001600@www.goodshepherdblm.org
SUMMARY:Board of Elders Meeting
DESCRIPTION:
URL:https://www.goodshepherdblm.org/event/board-of-elders-meeting-16/
LOCATION:Good Shepherd Lutheran Church\, 3516 White Eagle Drive\, Bloomington\, IL\, 61704\, United States
CATEGORIES:Board of Elders
END:VEVENT
BEGIN:VEVENT
DTSTART;TZID=America/New_York:20190212T180000
DTEND;TZID=America/New_York:20190212T190000
DTSTAMP:20260424T111812
CREATED:20190131T025508Z
LAST-MODIFIED:20190131T025508Z
UID:5421-1549994400-1549998000@www.goodshepherdblm.org
SUMMARY:Boards of Evangelism/Stewardship Meeting
DESCRIPTION:
URL:https://www.goodshepherdblm.org/event/boards-of-evangelism-stewardship-meeting-4/
LOCATION:Good Shepherd Lutheran Church\, 3516 White Eagle Drive\, Bloomington\, IL\, 61704\, United States
CATEGORIES:Board of Evangelism,Board of Stewardship
END:VEVENT
BEGIN:VEVENT
DTSTART;TZID=America/New_York:20190207T183000
DTEND;TZID=America/New_York:20190207T193000
DTSTAMP:20260424T111812
CREATED:20190131T015006Z
LAST-MODIFIED:20190131T015006Z
UID:5414-1549564200-1549567800@www.goodshepherdblm.org
SUMMARY:Board of Trustees Meeting
DESCRIPTION:
URL:https://www.goodshepherdblm.org/event/board-of-trustees-meeting-16/
LOCATION:Good Shepherd Lutheran Church\, 3516 White Eagle Drive\, Bloomington\, IL\, 61704\, United States
CATEGORIES:Board of Trustees
END:VEVENT
END:VCALENDAR