BEGIN:VCALENDAR
VERSION:2.0
PRODID:-//Good Shepherd Lutheran Church - ECPv6.15.13//NONSGML v1.0//EN
CALSCALE:GREGORIAN
METHOD:PUBLISH
X-WR-CALNAME:Good Shepherd Lutheran Church
X-ORIGINAL-URL:https://www.goodshepherdblm.org
X-WR-CALDESC:Events for Good Shepherd Lutheran Church
REFRESH-INTERVAL;VALUE=DURATION:PT1H
X-Robots-Tag:noindex
X-PUBLISHED-TTL:PT1H
BEGIN:VTIMEZONE
TZID:America/Chicago
BEGIN:DAYLIGHT
TZOFFSETFROM:-0600
TZOFFSETTO:-0500
TZNAME:CDT
DTSTART:20130310T080000
END:DAYLIGHT
BEGIN:STANDARD
TZOFFSETFROM:-0500
TZOFFSETTO:-0600
TZNAME:CST
DTSTART:20131103T070000
END:STANDARD
BEGIN:DAYLIGHT
TZOFFSETFROM:-0600
TZOFFSETTO:-0500
TZNAME:CDT
DTSTART:20140309T080000
END:DAYLIGHT
BEGIN:STANDARD
TZOFFSETFROM:-0500
TZOFFSETTO:-0600
TZNAME:CST
DTSTART:20141102T070000
END:STANDARD
BEGIN:DAYLIGHT
TZOFFSETFROM:-0600
TZOFFSETTO:-0500
TZNAME:CDT
DTSTART:20150308T080000
END:DAYLIGHT
BEGIN:STANDARD
TZOFFSETFROM:-0500
TZOFFSETTO:-0600
TZNAME:CST
DTSTART:20151101T070000
END:STANDARD
BEGIN:DAYLIGHT
TZOFFSETFROM:-0600
TZOFFSETTO:-0500
TZNAME:CDT
DTSTART:20160313T080000
END:DAYLIGHT
BEGIN:STANDARD
TZOFFSETFROM:-0500
TZOFFSETTO:-0600
TZNAME:CST
DTSTART:20161106T070000
END:STANDARD
END:VTIMEZONE
BEGIN:VEVENT
DTSTART;TZID=America/Chicago:20150310T190000
DTEND;TZID=America/Chicago:20150310T200000
DTSTAMP:20260424T210310
CREATED:20150211T204612Z
LAST-MODIFIED:20150211T204612Z
UID:845-1426014000-1426017600@www.goodshepherdblm.org
SUMMARY:Board of Elders
DESCRIPTION:
URL:https://www.goodshepherdblm.org/event/board-of-elders-3/
LOCATION:Good Shepherd Lutheran Church\, 3516 White Eagle Drive\, Bloomington\, IL\, 61704\, United States
CATEGORIES:Board of Elders
END:VEVENT
BEGIN:VEVENT
DTSTART;TZID=America/Chicago:20150210T190000
DTEND;TZID=America/Chicago:20150210T200000
DTSTAMP:20260424T210310
CREATED:20150127T000430Z
LAST-MODIFIED:20150127T000430Z
UID:731-1423594800-1423598400@www.goodshepherdblm.org
SUMMARY:Board of Elders
DESCRIPTION:
URL:https://www.goodshepherdblm.org/event/board-of-elders-2/
LOCATION:Good Shepherd Lutheran Church\, 3516 White Eagle Drive\, Bloomington\, IL\, 61704\, United States
CATEGORIES:Board of Elders
END:VEVENT
BEGIN:VEVENT
DTSTART;TZID=America/Chicago:20150113T190000
DTEND;TZID=America/Chicago:20150113T200000
DTSTAMP:20260424T210310
CREATED:20150108T055718Z
LAST-MODIFIED:20150108T055718Z
UID:676-1421175600-1421179200@www.goodshepherdblm.org
SUMMARY:Board of Elders Meeting
DESCRIPTION:
URL:https://www.goodshepherdblm.org/event/board-of-elders-meeting-3/
LOCATION:Good Shepherd Lutheran Church\, 3516 White Eagle Drive\, Bloomington\, IL\, 61704\, United States
CATEGORIES:Board of Elders
END:VEVENT
BEGIN:VEVENT
DTSTART;TZID=America/Chicago:20141111T190000
DTEND;TZID=America/Chicago:20141111T210000
DTSTAMP:20260424T210310
CREATED:20141026T151601Z
LAST-MODIFIED:20141026T151601Z
UID:472-1415732400-1415739600@www.goodshepherdblm.org
SUMMARY:Board of Elders
DESCRIPTION:
URL:https://www.goodshepherdblm.org/event/board-of-elders/
LOCATION:Good Shepherd Lutheran Church\, 3516 White Eagle Drive\, Bloomington\, IL\, 61704\, United States
CATEGORIES:Board Meetings,Board of Elders
END:VEVENT
BEGIN:VEVENT
DTSTART;TZID=America/Chicago:20141014T190000
DTEND;TZID=America/Chicago:20141014T200000
DTSTAMP:20260424T210310
CREATED:20140929T023542Z
LAST-MODIFIED:20140929T023542Z
UID:295-1413313200-1413316800@www.goodshepherdblm.org
SUMMARY:Board of Elder's Meeting
DESCRIPTION:
URL:https://www.goodshepherdblm.org/event/board-of-elders-meeting-2/
LOCATION:Good Shepherd Lutheran Church\, 3516 White Eagle Drive\, Bloomington\, IL\, 61704\, United States
CATEGORIES:Board Meetings,Board of Elders
END:VEVENT
BEGIN:VEVENT
DTSTART;TZID=America/Chicago:20140909T190000
DTEND;TZID=America/Chicago:20140909T190000
DTSTAMP:20260424T210310
CREATED:20140908T010256Z
LAST-MODIFIED:20140908T010256Z
UID:222-1410289200-1410289200@www.goodshepherdblm.org
SUMMARY:Board of Elders Meeting
DESCRIPTION:
URL:https://www.goodshepherdblm.org/event/board-of-elders-meeting/
LOCATION:Good Shepherd Lutheran Church\, 3516 White Eagle Drive\, Bloomington\, IL\, 61704\, United States
CATEGORIES:Board of Elders
END:VEVENT
END:VCALENDAR