BEGIN:VCALENDAR
VERSION:2.0
PRODID:-//Good Shepherd Lutheran Church - ECPv6.15.13//NONSGML v1.0//EN
CALSCALE:GREGORIAN
METHOD:PUBLISH
X-ORIGINAL-URL:https://www.goodshepherdblm.org
X-WR-CALDESC:Events for Good Shepherd Lutheran Church
REFRESH-INTERVAL;VALUE=DURATION:PT1H
X-Robots-Tag:noindex
X-PUBLISHED-TTL:PT1H
BEGIN:VTIMEZONE
TZID:America/Chicago
BEGIN:DAYLIGHT
TZOFFSETFROM:-0600
TZOFFSETTO:-0500
TZNAME:CDT
DTSTART:20180311T080000
END:DAYLIGHT
BEGIN:STANDARD
TZOFFSETFROM:-0500
TZOFFSETTO:-0600
TZNAME:CST
DTSTART:20181104T070000
END:STANDARD
BEGIN:DAYLIGHT
TZOFFSETFROM:-0600
TZOFFSETTO:-0500
TZNAME:CDT
DTSTART:20190310T080000
END:DAYLIGHT
BEGIN:STANDARD
TZOFFSETFROM:-0500
TZOFFSETTO:-0600
TZNAME:CST
DTSTART:20191103T070000
END:STANDARD
BEGIN:DAYLIGHT
TZOFFSETFROM:-0600
TZOFFSETTO:-0500
TZNAME:CDT
DTSTART:20200308T080000
END:DAYLIGHT
BEGIN:STANDARD
TZOFFSETFROM:-0500
TZOFFSETTO:-0600
TZNAME:CST
DTSTART:20201101T070000
END:STANDARD
BEGIN:DAYLIGHT
TZOFFSETFROM:-0600
TZOFFSETTO:-0500
TZNAME:CDT
DTSTART:20210314T080000
END:DAYLIGHT
BEGIN:STANDARD
TZOFFSETFROM:-0500
TZOFFSETTO:-0600
TZNAME:CST
DTSTART:20211107T070000
END:STANDARD
BEGIN:DAYLIGHT
TZOFFSETFROM:-0600
TZOFFSETTO:-0500
TZNAME:CDT
DTSTART:20220313T080000
END:DAYLIGHT
BEGIN:STANDARD
TZOFFSETFROM:-0500
TZOFFSETTO:-0600
TZNAME:CST
DTSTART:20221106T070000
END:STANDARD
BEGIN:DAYLIGHT
TZOFFSETFROM:-0600
TZOFFSETTO:-0500
TZNAME:CDT
DTSTART:20230312T080000
END:DAYLIGHT
BEGIN:STANDARD
TZOFFSETFROM:-0500
TZOFFSETTO:-0600
TZNAME:CST
DTSTART:20231105T070000
END:STANDARD
END:VTIMEZONE
BEGIN:VTIMEZONE
TZID:America/New_York
BEGIN:DAYLIGHT
TZOFFSETFROM:-0500
TZOFFSETTO:-0400
TZNAME:EDT
DTSTART:20170312T070000
END:DAYLIGHT
BEGIN:STANDARD
TZOFFSETFROM:-0400
TZOFFSETTO:-0500
TZNAME:EST
DTSTART:20171105T060000
END:STANDARD
BEGIN:DAYLIGHT
TZOFFSETFROM:-0500
TZOFFSETTO:-0400
TZNAME:EDT
DTSTART:20180311T070000
END:DAYLIGHT
BEGIN:STANDARD
TZOFFSETFROM:-0400
TZOFFSETTO:-0500
TZNAME:EST
DTSTART:20181104T060000
END:STANDARD
BEGIN:DAYLIGHT
TZOFFSETFROM:-0500
TZOFFSETTO:-0400
TZNAME:EDT
DTSTART:20190310T070000
END:DAYLIGHT
BEGIN:STANDARD
TZOFFSETFROM:-0400
TZOFFSETTO:-0500
TZNAME:EST
DTSTART:20191103T060000
END:STANDARD
BEGIN:DAYLIGHT
TZOFFSETFROM:-0500
TZOFFSETTO:-0400
TZNAME:EDT
DTSTART:20200308T070000
END:DAYLIGHT
BEGIN:STANDARD
TZOFFSETFROM:-0400
TZOFFSETTO:-0500
TZNAME:EST
DTSTART:20201101T060000
END:STANDARD
END:VTIMEZONE
BEGIN:VEVENT
DTSTART;TZID=America/Chicago:20221011T183000
DTEND;TZID=America/Chicago:20221011T183000
DTSTAMP:20260424T002751
CREATED:20221001T175229Z
LAST-MODIFIED:20221001T175229Z
UID:9327-1665513000-1665513000@www.goodshepherdblm.org
SUMMARY:Elders Meeting
DESCRIPTION:
URL:https://www.goodshepherdblm.org/event/elders-meeting-15/
LOCATION:Good Shepherd Lutheran Church\, 3516 White Eagle Drive\, Bloomington\, IL\, 61704\, United States
CATEGORIES:Board of Elders
END:VEVENT
BEGIN:VEVENT
DTSTART;TZID=America/Chicago:20220912T183000
DTEND;TZID=America/Chicago:20220912T183000
DTSTAMP:20260424T002751
CREATED:20220901T020119Z
LAST-MODIFIED:20220901T020119Z
UID:9221-1663007400-1663007400@www.goodshepherdblm.org
SUMMARY:Elders Meeting
DESCRIPTION:
URL:https://www.goodshepherdblm.org/event/elders-meeting-14/
LOCATION:Good Shepherd Lutheran Church\, 3516 White Eagle Drive\, Bloomington\, IL\, 61704\, United States
CATEGORIES:Board of Elders
END:VEVENT
BEGIN:VEVENT
DTSTART;TZID=America/Chicago:20220808T183000
DTEND;TZID=America/Chicago:20220808T183000
DTSTAMP:20260424T002751
CREATED:20220807T231504Z
LAST-MODIFIED:20220807T231504Z
UID:9145-1659983400-1659983400@www.goodshepherdblm.org
SUMMARY:Elders Meeting
DESCRIPTION:
URL:https://www.goodshepherdblm.org/event/elders-meeting-13/
LOCATION:Good Shepherd Lutheran Church\, 3516 White Eagle Drive\, Bloomington\, IL\, 61704\, United States
CATEGORIES:Board of Elders
END:VEVENT
BEGIN:VEVENT
DTSTART;TZID=America/Chicago:20220613T183000
DTEND;TZID=America/Chicago:20220613T183000
DTSTAMP:20260424T002751
CREATED:20220603T040804Z
LAST-MODIFIED:20220603T040804Z
UID:9013-1655145000-1655145000@www.goodshepherdblm.org
SUMMARY:Elders Meeting
DESCRIPTION:
URL:https://www.goodshepherdblm.org/event/elders-meeting-11/
LOCATION:Good Shepherd Lutheran Church\, 3516 White Eagle Drive\, Bloomington\, IL\, 61704\, United States
CATEGORIES:Board of Elders
END:VEVENT
BEGIN:VEVENT
DTSTART;TZID=America/Chicago:20220411T183000
DTEND;TZID=America/Chicago:20220411T183000
DTSTAMP:20260424T002751
CREATED:20220408T004707Z
LAST-MODIFIED:20220408T004707Z
UID:8864-1649701800-1649701800@www.goodshepherdblm.org
SUMMARY:Elders Meeting
DESCRIPTION:
URL:https://www.goodshepherdblm.org/event/elders-meeting-10/
LOCATION:Good Shepherd Lutheran Church\, 3516 White Eagle Drive\, Bloomington\, IL\, 61704\, United States
CATEGORIES:Board of Elders
END:VEVENT
BEGIN:VEVENT
DTSTART;TZID=America/Chicago:20220314T183000
DTEND;TZID=America/Chicago:20220314T183000
DTSTAMP:20260424T002751
CREATED:20220303T003923Z
LAST-MODIFIED:20220303T003923Z
UID:8774-1647282600-1647282600@www.goodshepherdblm.org
SUMMARY:Elders Meeting
DESCRIPTION:
URL:https://www.goodshepherdblm.org/event/elders-meeting-9/
LOCATION:Good Shepherd Lutheran Church\, 3516 White Eagle Drive\, Bloomington\, IL\, 61704\, United States
CATEGORIES:Board of Elders
END:VEVENT
BEGIN:VEVENT
DTSTART;TZID=America/Chicago:20220214T183000
DTEND;TZID=America/Chicago:20220214T183000
DTSTAMP:20260424T002751
CREATED:20220303T000202Z
LAST-MODIFIED:20220303T000202Z
UID:8729-1644863400-1644863400@www.goodshepherdblm.org
SUMMARY:Elders Meeting
DESCRIPTION:
URL:https://www.goodshepherdblm.org/event/elders-meeting-8/
LOCATION:Good Shepherd Lutheran Church\, 3516 White Eagle Drive\, Bloomington\, IL\, 61704\, United States
CATEGORIES:Board of Elders
END:VEVENT
BEGIN:VEVENT
DTSTART;TZID=America/Chicago:20220110T183000
DTEND;TZID=America/Chicago:20220110T183000
DTSTAMP:20260424T002751
CREATED:20220112T172423Z
LAST-MODIFIED:20220112T172423Z
UID:8653-1641839400-1641839400@www.goodshepherdblm.org
SUMMARY:Elders' Meeting
DESCRIPTION:
URL:https://www.goodshepherdblm.org/event/elders-meeting-7/
LOCATION:Good Shepherd Lutheran Church\, 3516 White Eagle Drive\, Bloomington\, IL\, 61704\, United States
CATEGORIES:Board of Elders
END:VEVENT
BEGIN:VEVENT
DTSTART;TZID=America/Chicago:20211108T190000
DTEND;TZID=America/Chicago:20211108T190000
DTSTAMP:20260424T002751
CREATED:20211110T192805Z
LAST-MODIFIED:20211110T192805Z
UID:8461-1636398000-1636398000@www.goodshepherdblm.org
SUMMARY:Elders Meeting
DESCRIPTION:
URL:https://www.goodshepherdblm.org/event/elders-meeting-6/
LOCATION:Good Shepherd Lutheran Church\, 3516 White Eagle Drive\, Bloomington\, IL\, 61704\, United States
CATEGORIES:Board of Elders
END:VEVENT
BEGIN:VEVENT
DTSTART;TZID=America/Chicago:20211011T183000
DTEND;TZID=America/Chicago:20211011T183000
DTSTAMP:20260424T002751
CREATED:20210930T161813Z
LAST-MODIFIED:20210930T161813Z
UID:8416-1633977000-1633977000@www.goodshepherdblm.org
SUMMARY:Elders' Meeting
DESCRIPTION:
URL:https://www.goodshepherdblm.org/event/elders-meeting-5/
LOCATION:Good Shepherd Lutheran Church\, 3516 White Eagle Drive\, Bloomington\, IL\, 61704\, United States
CATEGORIES:Board of Elders
END:VEVENT
BEGIN:VEVENT
DTSTART;TZID=America/Chicago:20210809T183000
DTEND;TZID=America/Chicago:20210809T183000
DTSTAMP:20260424T002751
CREATED:20210728T174335Z
LAST-MODIFIED:20210728T174335Z
UID:8322-1628533800-1628533800@www.goodshepherdblm.org
SUMMARY:Elders Meeting
DESCRIPTION:
URL:https://www.goodshepherdblm.org/event/elders-meeting-4/
LOCATION:Good Shepherd Lutheran Church\, 3516 White Eagle Drive\, Bloomington\, IL\, 61704\, United States
CATEGORIES:Board of Elders
END:VEVENT
BEGIN:VEVENT
DTSTART;TZID=America/Chicago:20201013T190000
DTEND;TZID=America/Chicago:20201013T190000
DTSTAMP:20260424T002751
CREATED:20200929T161306Z
LAST-MODIFIED:20200929T161306Z
UID:7935-1602615600-1602615600@www.goodshepherdblm.org
SUMMARY:Board of Elders Meeting
DESCRIPTION:
URL:https://www.goodshepherdblm.org/event/board-of-elders-meeting-25/
LOCATION:Good Shepherd Lutheran Church\, 3516 White Eagle Drive\, Bloomington\, IL\, 61704\, United States
CATEGORIES:Board of Elders
END:VEVENT
BEGIN:VEVENT
DTSTART;TZID=America/Chicago:20200310T190000
DTEND;TZID=America/Chicago:20200310T200000
DTSTAMP:20260424T002751
CREATED:20200303T173615Z
LAST-MODIFIED:20200303T173615Z
UID:7038-1583866800-1583870400@www.goodshepherdblm.org
SUMMARY:Board of Elders Meeting
DESCRIPTION:
URL:https://www.goodshepherdblm.org/event/board-of-elders-meeting-24/
LOCATION:Good Shepherd Lutheran Church\, 3516 White Eagle Drive\, Bloomington\, IL\, 61704\, United States
CATEGORIES:Board of Elders
END:VEVENT
BEGIN:VEVENT
DTSTART;TZID=America/Chicago:20200211T190000
DTEND;TZID=America/Chicago:20200211T200000
DTSTAMP:20260424T002751
CREATED:20200127T170858Z
LAST-MODIFIED:20200127T170858Z
UID:6583-1581447600-1581451200@www.goodshepherdblm.org
SUMMARY:Board of Elders Meeting
DESCRIPTION:
URL:https://www.goodshepherdblm.org/event/board-of-elders-meeting-23/
LOCATION:Good Shepherd Lutheran Church\, 3516 White Eagle Drive\, Bloomington\, IL\, 61704\, United States
CATEGORIES:Board of Elders
END:VEVENT
BEGIN:VEVENT
DTSTART;TZID=America/Chicago:20200114T190000
DTEND;TZID=America/Chicago:20200114T200000
DTSTAMP:20260424T002751
CREATED:20191226T160406Z
LAST-MODIFIED:20191226T160406Z
UID:6484-1579028400-1579032000@www.goodshepherdblm.org
SUMMARY:Board of Elders Meeting
DESCRIPTION:
URL:https://www.goodshepherdblm.org/event/board-of-elders-meeting-22/
LOCATION:Good Shepherd Lutheran Church\, 3516 White Eagle Drive\, Bloomington\, IL\, 61704\, United States
CATEGORIES:Board of Elders
END:VEVENT
BEGIN:VEVENT
DTSTART;TZID=America/Chicago:20191112T190000
DTEND;TZID=America/Chicago:20191112T200000
DTSTAMP:20260424T002751
CREATED:20191024T143816Z
LAST-MODIFIED:20191024T143816Z
UID:6265-1573585200-1573588800@www.goodshepherdblm.org
SUMMARY:Board of Elders Meeting
DESCRIPTION:
URL:https://www.goodshepherdblm.org/event/board-of-elders-meeting-21/
LOCATION:Good Shepherd Lutheran Church\, 3516 White Eagle Drive\, Bloomington\, IL\, 61704\, United States
CATEGORIES:Board of Elders
END:VEVENT
BEGIN:VEVENT
DTSTART;TZID=America/Chicago:20191008T190000
DTEND;TZID=America/Chicago:20191008T200000
DTSTAMP:20260424T002751
CREATED:20190924T173952Z
LAST-MODIFIED:20190924T174211Z
UID:6176-1570561200-1570564800@www.goodshepherdblm.org
SUMMARY:Board of Elders Meeting
DESCRIPTION:
URL:https://www.goodshepherdblm.org/event/board-of-elders-31/
LOCATION:IL
CATEGORIES:Board of Elders
END:VEVENT
BEGIN:VEVENT
DTSTART;TZID=America/Chicago:20190910T190000
DTEND;TZID=America/Chicago:20190910T200000
DTSTAMP:20260424T002751
CREATED:20190819T155639Z
LAST-MODIFIED:20190819T155639Z
UID:6053-1568142000-1568145600@www.goodshepherdblm.org
SUMMARY:Board of Elders Meeting
DESCRIPTION:
URL:https://www.goodshepherdblm.org/event/board-of-elders-meeting-20/
LOCATION:Good Shepherd Lutheran Church\, 3516 White Eagle Drive\, Bloomington\, IL\, 61704\, United States
CATEGORIES:Board of Elders
END:VEVENT
BEGIN:VEVENT
DTSTART;TZID=America/Chicago:20190813T190000
DTEND;TZID=America/Chicago:20190813T200000
DTSTAMP:20260424T002751
CREATED:20190812T173340Z
LAST-MODIFIED:20190812T173340Z
UID:6015-1565722800-1565726400@www.goodshepherdblm.org
SUMMARY:Elders Meeting
DESCRIPTION:
URL:https://www.goodshepherdblm.org/event/elders-meeting-2/
LOCATION:Good Shepherd Lutheran Church\, 3516 White Eagle Drive\, Bloomington\, IL\, 61704\, United States
CATEGORIES:Board of Elders
END:VEVENT
BEGIN:VEVENT
DTSTART;TZID=America/New_York:20190611T190000
DTEND;TZID=America/New_York:20190611T200000
DTSTAMP:20260424T002751
CREATED:20190528T154354Z
LAST-MODIFIED:20190528T154354Z
UID:5861-1560279600-1560283200@www.goodshepherdblm.org
SUMMARY:Board of Elders
DESCRIPTION:
URL:https://www.goodshepherdblm.org/event/board-of-elders-30/
LOCATION:Good Shepherd Lutheran Church\, 3516 White Eagle Drive\, Bloomington\, IL\, 61704\, United States
CATEGORIES:Board of Elders
END:VEVENT
BEGIN:VEVENT
DTSTART;TZID=America/New_York:20190514T190000
DTEND;TZID=America/New_York:20190514T200000
DTSTAMP:20260424T002751
CREATED:20190507T145321Z
LAST-MODIFIED:20190507T145321Z
UID:5801-1557860400-1557864000@www.goodshepherdblm.org
SUMMARY:Board of Elders Meeting
DESCRIPTION:
URL:https://www.goodshepherdblm.org/event/board-of-elders-meeting-19/
LOCATION:Good Shepherd Lutheran Church\, 3516 White Eagle Drive\, Bloomington\, IL\, 61704\, United States
CATEGORIES:Board of Elders
END:VEVENT
BEGIN:VEVENT
DTSTART;TZID=America/New_York:20190409T190000
DTEND;TZID=America/New_York:20190409T200000
DTSTAMP:20260424T002751
CREATED:20190329T162333Z
LAST-MODIFIED:20190329T162333Z
UID:5662-1554836400-1554840000@www.goodshepherdblm.org
SUMMARY:Board of Elders Meeting
DESCRIPTION:
URL:https://www.goodshepherdblm.org/event/board-of-elders-meeting-18/
LOCATION:Good Shepherd Lutheran Church\, 3516 White Eagle Drive\, Bloomington\, IL\, 61704\, United States
CATEGORIES:Board of Elders
END:VEVENT
BEGIN:VEVENT
DTSTART;TZID=America/New_York:20190312T180000
DTEND;TZID=America/New_York:20190312T190000
DTSTAMP:20260424T002751
CREATED:20190225T185101Z
LAST-MODIFIED:20190225T185101Z
UID:5531-1552413600-1552417200@www.goodshepherdblm.org
SUMMARY:Board of Elders Meeting
DESCRIPTION:
URL:https://www.goodshepherdblm.org/event/board-of-elders-meeting-17/
LOCATION:Good Shepherd Lutheran Church\, 3516 White Eagle Drive\, Bloomington\, IL\, 61704\, United States
CATEGORIES:Board of Elders
END:VEVENT
BEGIN:VEVENT
DTSTART;TZID=America/New_York:20190212T190000
DTEND;TZID=America/New_York:20190212T200000
DTSTAMP:20260424T002751
CREATED:20190131T025553Z
LAST-MODIFIED:20190131T025553Z
UID:5423-1549998000-1550001600@www.goodshepherdblm.org
SUMMARY:Board of Elders Meeting
DESCRIPTION:
URL:https://www.goodshepherdblm.org/event/board-of-elders-meeting-16/
LOCATION:Good Shepherd Lutheran Church\, 3516 White Eagle Drive\, Bloomington\, IL\, 61704\, United States
CATEGORIES:Board of Elders
END:VEVENT
BEGIN:VEVENT
DTSTART;TZID=America/New_York:20190108T190000
DTEND;TZID=America/New_York:20190108T200000
DTSTAMP:20260424T002751
CREATED:20190101T224416Z
LAST-MODIFIED:20190101T224416Z
UID:5182-1546974000-1546977600@www.goodshepherdblm.org
SUMMARY:Board of Elders Meeting
DESCRIPTION:
URL:https://www.goodshepherdblm.org/event/board-of-elders-meeting-15/
LOCATION:Good Shepherd Lutheran Church\, 3516 White Eagle Drive\, Bloomington\, IL\, 61704\, United States
CATEGORIES:Board of Elders
END:VEVENT
BEGIN:VEVENT
DTSTART;TZID=America/New_York:20181113T190000
DTEND;TZID=America/New_York:20181113T200000
DTSTAMP:20260424T002751
CREATED:20181031T160649Z
LAST-MODIFIED:20181031T160649Z
UID:5033-1542135600-1542139200@www.goodshepherdblm.org
SUMMARY:Board of Elders Meeting
DESCRIPTION:
URL:https://www.goodshepherdblm.org/event/board-of-elders-meeting-14/
LOCATION:Good Shepherd Lutheran Church\, 3516 White Eagle Drive\, Bloomington\, IL\, 61704\, United States
CATEGORIES:Board of Elders
END:VEVENT
BEGIN:VEVENT
DTSTART;TZID=America/New_York:20181009T190000
DTEND;TZID=America/New_York:20181009T200000
DTSTAMP:20260424T002751
CREATED:20181003T043528Z
LAST-MODIFIED:20181003T043528Z
UID:4955-1539111600-1539115200@www.goodshepherdblm.org
SUMMARY:Elders Meeting
DESCRIPTION:
URL:https://www.goodshepherdblm.org/event/elders-meeting/
LOCATION:Good Shepherd Lutheran Church\, 3516 White Eagle Drive\, Bloomington\, IL\, 61704\, United States
CATEGORIES:Board of Elders
END:VEVENT
BEGIN:VEVENT
DTSTART;TZID=America/New_York:20180911T190000
DTEND;TZID=America/New_York:20180911T200000
DTSTAMP:20260424T002751
CREATED:20180909T065132Z
LAST-MODIFIED:20180909T065132Z
UID:4871-1536692400-1536696000@www.goodshepherdblm.org
SUMMARY:Board of Elders Meeting
DESCRIPTION:
URL:https://www.goodshepherdblm.org/event/board-of-elders-meeting-13/
LOCATION:Good Shepherd Lutheran Church\, 3516 White Eagle Drive\, Bloomington\, IL\, 61704\, United States
CATEGORIES:Board of Elders
END:VEVENT
BEGIN:VEVENT
DTSTART;TZID=America/New_York:20180814T190000
DTEND;TZID=America/New_York:20180814T200000
DTSTAMP:20260424T002751
CREATED:20180814T160354Z
LAST-MODIFIED:20180814T160354Z
UID:4795-1534273200-1534276800@www.goodshepherdblm.org
SUMMARY:Board of Elders
DESCRIPTION:
URL:https://www.goodshepherdblm.org/event/board-of-elders-29/
LOCATION:Good Shepherd Lutheran Church\, 3516 White Eagle Drive\, Bloomington\, IL\, 61704\, United States
CATEGORIES:Board of Elders
END:VEVENT
BEGIN:VEVENT
DTSTART;TZID=America/New_York:20180710T190000
DTEND;TZID=America/New_York:20180710T200000
DTSTAMP:20260424T002751
CREATED:20180703T162717Z
LAST-MODIFIED:20180703T162717Z
UID:4717-1531249200-1531252800@www.goodshepherdblm.org
SUMMARY:Board of Elders
DESCRIPTION:
URL:https://www.goodshepherdblm.org/event/board-of-elders-28/
LOCATION:Good Shepherd Lutheran Church\, 3516 White Eagle Drive\, Bloomington\, IL\, 61704\, United States
CATEGORIES:Board of Elders
END:VEVENT
END:VCALENDAR