BEGIN:VCALENDAR
VERSION:2.0
PRODID:-//Good Shepherd Lutheran Church - ECPv6.15.13//NONSGML v1.0//EN
CALSCALE:GREGORIAN
METHOD:PUBLISH
X-ORIGINAL-URL:https://www.goodshepherdblm.org
X-WR-CALDESC:Events for Good Shepherd Lutheran Church
REFRESH-INTERVAL;VALUE=DURATION:PT1H
X-Robots-Tag:noindex
X-PUBLISHED-TTL:PT1H
BEGIN:VTIMEZONE
TZID:America/New_York
BEGIN:DAYLIGHT
TZOFFSETFROM:-0500
TZOFFSETTO:-0400
TZNAME:EDT
DTSTART:20140309T070000
END:DAYLIGHT
BEGIN:STANDARD
TZOFFSETFROM:-0400
TZOFFSETTO:-0500
TZNAME:EST
DTSTART:20141102T060000
END:STANDARD
BEGIN:DAYLIGHT
TZOFFSETFROM:-0500
TZOFFSETTO:-0400
TZNAME:EDT
DTSTART:20150308T070000
END:DAYLIGHT
BEGIN:STANDARD
TZOFFSETFROM:-0400
TZOFFSETTO:-0500
TZNAME:EST
DTSTART:20151101T060000
END:STANDARD
BEGIN:DAYLIGHT
TZOFFSETFROM:-0500
TZOFFSETTO:-0400
TZNAME:EDT
DTSTART:20160313T070000
END:DAYLIGHT
BEGIN:STANDARD
TZOFFSETFROM:-0400
TZOFFSETTO:-0500
TZNAME:EST
DTSTART:20161106T060000
END:STANDARD
BEGIN:DAYLIGHT
TZOFFSETFROM:-0500
TZOFFSETTO:-0400
TZNAME:EDT
DTSTART:20170312T070000
END:DAYLIGHT
BEGIN:STANDARD
TZOFFSETFROM:-0400
TZOFFSETTO:-0500
TZNAME:EST
DTSTART:20171105T060000
END:STANDARD
BEGIN:DAYLIGHT
TZOFFSETFROM:-0500
TZOFFSETTO:-0400
TZNAME:EDT
DTSTART:20180311T070000
END:DAYLIGHT
BEGIN:STANDARD
TZOFFSETFROM:-0400
TZOFFSETTO:-0500
TZNAME:EST
DTSTART:20181104T060000
END:STANDARD
BEGIN:DAYLIGHT
TZOFFSETFROM:-0500
TZOFFSETTO:-0400
TZNAME:EDT
DTSTART:20190310T070000
END:DAYLIGHT
BEGIN:STANDARD
TZOFFSETFROM:-0400
TZOFFSETTO:-0500
TZNAME:EST
DTSTART:20191103T060000
END:STANDARD
END:VTIMEZONE
BEGIN:VEVENT
DTSTART;TZID=America/New_York:20180717T190000
DTEND;TZID=America/New_York:20180717T200000
DTSTAMP:20260424T060917
CREATED:20180703T165424Z
LAST-MODIFIED:20180703T165424Z
UID:4733-1531854000-1531857600@www.goodshepherdblm.org
SUMMARY:Church Council
DESCRIPTION:
URL:https://www.goodshepherdblm.org/event/church-council-29/
LOCATION:Good Shepherd Lutheran Church\, 3516 White Eagle Drive\, Bloomington\, IL\, 61704\, United States
CATEGORIES:Church Council
END:VEVENT
BEGIN:VEVENT
DTSTART;TZID=America/New_York:20180619T190000
DTEND;TZID=America/New_York:20180619T200000
DTSTAMP:20260424T060917
CREATED:20180530T215120Z
LAST-MODIFIED:20180530T215120Z
UID:4616-1529434800-1529438400@www.goodshepherdblm.org
SUMMARY:Church Council Meeting
DESCRIPTION:
URL:https://www.goodshepherdblm.org/event/church-council-meeting-13/
LOCATION:Good Shepherd Lutheran Church\, 3516 White Eagle Drive\, Bloomington\, IL\, 61704\, United States
CATEGORIES:Church Council
END:VEVENT
BEGIN:VEVENT
DTSTART;TZID=America/New_York:20180515T190000
DTEND;TZID=America/New_York:20180515T200000
DTSTAMP:20260424T060917
CREATED:20180430T150349Z
LAST-MODIFIED:20180430T150349Z
UID:4542-1526410800-1526414400@www.goodshepherdblm.org
SUMMARY:Church Council Meeting
DESCRIPTION:
URL:https://www.goodshepherdblm.org/event/church-council-meeting-12/
LOCATION:Good Shepherd Lutheran Church\, 3516 White Eagle Drive\, Bloomington\, IL\, 61704\, United States
CATEGORIES:Church Council
END:VEVENT
BEGIN:VEVENT
DTSTART;TZID=America/New_York:20180417T190000
DTEND;TZID=America/New_York:20180417T200000
DTSTAMP:20260424T060917
CREATED:20180326T215149Z
LAST-MODIFIED:20180326T215149Z
UID:4443-1523991600-1523995200@www.goodshepherdblm.org
SUMMARY:Church Council Meeting
DESCRIPTION:
URL:https://www.goodshepherdblm.org/event/church-council-meeting-11/
LOCATION:Good Shepherd Lutheran Church\, 3516 White Eagle Drive\, Bloomington\, IL\, 61704\, United States
CATEGORIES:Church Council
END:VEVENT
BEGIN:VEVENT
DTSTART;TZID=America/New_York:20180320T190000
DTEND;TZID=America/New_York:20180320T200000
DTSTAMP:20260424T060917
CREATED:20180303T033524Z
LAST-MODIFIED:20180303T033524Z
UID:4361-1521572400-1521576000@www.goodshepherdblm.org
SUMMARY:Church Council
DESCRIPTION:
URL:https://www.goodshepherdblm.org/event/church-council-28/
LOCATION:Good Shepherd Lutheran Church\, 3516 White Eagle Drive\, Bloomington\, IL\, 61704\, United States
CATEGORIES:Church Council
END:VEVENT
BEGIN:VEVENT
DTSTART;TZID=America/New_York:20180220T190000
DTEND;TZID=America/New_York:20180220T200000
DTSTAMP:20260424T060917
CREATED:20180215T180312Z
LAST-MODIFIED:20180215T180312Z
UID:4248-1519153200-1519156800@www.goodshepherdblm.org
SUMMARY:Church Council
DESCRIPTION:
URL:https://www.goodshepherdblm.org/event/church-council-27/
LOCATION:Good Shepherd Lutheran Church\, 3516 White Eagle Drive\, Bloomington\, IL\, 61704\, United States
CATEGORIES:Church Council
END:VEVENT
BEGIN:VEVENT
DTSTART;TZID=America/New_York:20180116T190000
DTEND;TZID=America/New_York:20180116T200000
DTSTAMP:20260424T060917
CREATED:20171228T062715Z
LAST-MODIFIED:20171228T062715Z
UID:4110-1516129200-1516132800@www.goodshepherdblm.org
SUMMARY:Church Council Meeting
DESCRIPTION:
URL:https://www.goodshepherdblm.org/event/church-council-meeting-10/
LOCATION:Good Shepherd Lutheran Church\, 3516 White Eagle Drive\, Bloomington\, IL\, 61704\, United States
CATEGORIES:Church Council
END:VEVENT
BEGIN:VEVENT
DTSTART;TZID=America/New_York:20171017T190000
DTEND;TZID=America/New_York:20171017T200000
DTSTAMP:20260424T060917
CREATED:20171009T172113Z
LAST-MODIFIED:20171009T172113Z
UID:3670-1508266800-1508270400@www.goodshepherdblm.org
SUMMARY:Church Council
DESCRIPTION:
URL:https://www.goodshepherdblm.org/event/church-council-26/
LOCATION:Good Shepherd Lutheran Church\, 3516 White Eagle Drive\, Bloomington\, IL\, 61704\, United States
CATEGORIES:Church Council
END:VEVENT
BEGIN:VEVENT
DTSTART;TZID=America/New_York:20170919T190000
DTEND;TZID=America/New_York:20170919T200000
DTSTAMP:20260424T060917
CREATED:20170911T022351Z
LAST-MODIFIED:20170911T022351Z
UID:3598-1505847600-1505851200@www.goodshepherdblm.org
SUMMARY:Church Council Meeting
DESCRIPTION:
URL:https://www.goodshepherdblm.org/event/church-council-meeting-9/
LOCATION:Good Shepherd Lutheran Church\, 3516 White Eagle Drive\, Bloomington\, IL\, 61704\, United States
CATEGORIES:Church Council
END:VEVENT
BEGIN:VEVENT
DTSTART;TZID=America/New_York:20170815T190000
DTEND;TZID=America/New_York:20170815T200000
DTSTAMP:20260424T060917
CREATED:20170802T205656Z
LAST-MODIFIED:20170802T205656Z
UID:3482-1502823600-1502827200@www.goodshepherdblm.org
SUMMARY:Church Council Meeting
DESCRIPTION:
URL:https://www.goodshepherdblm.org/event/church-council-meeting-8/
LOCATION:Good Shepherd Lutheran Church\, 3516 White Eagle Drive\, Bloomington\, IL\, 61704\, United States
CATEGORIES:Church Council
END:VEVENT
BEGIN:VEVENT
DTSTART;TZID=America/New_York:20170718T190000
DTEND;TZID=America/New_York:20170718T200000
DTSTAMP:20260424T060917
CREATED:20170611T124908Z
LAST-MODIFIED:20170611T124908Z
UID:3375-1500404400-1500408000@www.goodshepherdblm.org
SUMMARY:Church Council
DESCRIPTION:
URL:https://www.goodshepherdblm.org/event/church-council-25/
LOCATION:Good Shepherd Lutheran Church\, 3516 White Eagle Drive\, Bloomington\, IL\, 61704\, United States
CATEGORIES:Church Council
END:VEVENT
BEGIN:VEVENT
DTSTART;TZID=America/New_York:20170620T190000
DTEND;TZID=America/New_York:20170620T200000
DTSTAMP:20260424T060917
CREATED:20170526T153455Z
LAST-MODIFIED:20170526T153455Z
UID:3330-1497985200-1497988800@www.goodshepherdblm.org
SUMMARY:Church Council
DESCRIPTION:
URL:https://www.goodshepherdblm.org/event/church-council-24/
LOCATION:Good Shepherd Lutheran Church\, 3516 White Eagle Drive\, Bloomington\, IL\, 61704\, United States
CATEGORIES:Church Council
END:VEVENT
BEGIN:VEVENT
DTSTART;TZID=America/New_York:20170516T190000
DTEND;TZID=America/New_York:20170516T200000
DTSTAMP:20260424T060917
CREATED:20170429T162759Z
LAST-MODIFIED:20170429T162759Z
UID:3256-1494961200-1494964800@www.goodshepherdblm.org
SUMMARY:Church Council Meeting
DESCRIPTION:
URL:https://www.goodshepherdblm.org/event/church-council-meeting-7/
LOCATION:Good Shepherd Lutheran Church\, 3516 White Eagle Drive\, Bloomington\, IL\, 61704\, United States
CATEGORIES:Church Council
END:VEVENT
BEGIN:VEVENT
DTSTART;TZID=America/New_York:20170418T190000
DTEND;TZID=America/New_York:20170418T200000
DTSTAMP:20260424T060917
CREATED:20170328T010525Z
LAST-MODIFIED:20170328T010525Z
UID:3176-1492542000-1492545600@www.goodshepherdblm.org
SUMMARY:Church Council
DESCRIPTION:
URL:https://www.goodshepherdblm.org/event/church-council-23/
LOCATION:Good Shepherd Lutheran Church\, 3516 White Eagle Drive\, Bloomington\, IL\, 61704\, United States
CATEGORIES:Church Council
END:VEVENT
BEGIN:VEVENT
DTSTART;TZID=America/New_York:20170321T190000
DTEND;TZID=America/New_York:20170321T200000
DTSTAMP:20260424T060917
CREATED:20170303T204432Z
LAST-MODIFIED:20170303T204432Z
UID:3057-1490122800-1490126400@www.goodshepherdblm.org
SUMMARY:Church Council Meeting
DESCRIPTION:
URL:https://www.goodshepherdblm.org/event/church-council-meeting-6/
LOCATION:Good Shepherd Lutheran Church\, 3516 White Eagle Drive\, Bloomington\, IL\, 61704\, United States
CATEGORIES:Church Council
END:VEVENT
BEGIN:VEVENT
DTSTART;TZID=America/New_York:20170221T190000
DTEND;TZID=America/New_York:20170221T200000
DTSTAMP:20260424T060917
CREATED:20170208T161216Z
LAST-MODIFIED:20170208T161216Z
UID:2974-1487703600-1487707200@www.goodshepherdblm.org
SUMMARY:Church Council
DESCRIPTION:
URL:https://www.goodshepherdblm.org/event/church-council-22/
LOCATION:Good Shepherd Lutheran Church\, 3516 White Eagle Drive\, Bloomington\, IL\, 61704\, United States
CATEGORIES:Church Council
END:VEVENT
BEGIN:VEVENT
DTSTART;TZID=America/New_York:20170117T190000
DTEND;TZID=America/New_York:20170117T200000
DTSTAMP:20260424T060917
CREATED:20170108T053457Z
LAST-MODIFIED:20170108T053457Z
UID:2658-1484679600-1484683200@www.goodshepherdblm.org
SUMMARY:Church Council
DESCRIPTION:
URL:https://www.goodshepherdblm.org/event/church-council-21/
LOCATION:Good Shepherd Lutheran Church\, 3516 White Eagle Drive\, Bloomington\, IL\, 61704\, United States
CATEGORIES:Church Council
END:VEVENT
BEGIN:VEVENT
DTSTART;TZID=America/New_York:20161115T190000
DTEND;TZID=America/New_York:20161115T200000
DTSTAMP:20260424T060917
CREATED:20161030T195215Z
LAST-MODIFIED:20161030T195215Z
UID:2541-1479236400-1479240000@www.goodshepherdblm.org
SUMMARY:Church Council
DESCRIPTION:
URL:https://www.goodshepherdblm.org/event/church-council-20/
LOCATION:Good Shepherd Lutheran Church\, 3516 White Eagle Drive\, Bloomington\, IL\, 61704\, United States
CATEGORIES:Church Council
END:VEVENT
BEGIN:VEVENT
DTSTART;TZID=America/New_York:20161018T190000
DTEND;TZID=America/New_York:20161018T200000
DTSTAMP:20260424T060917
CREATED:20161006T151954Z
LAST-MODIFIED:20161006T151954Z
UID:2478-1476817200-1476820800@www.goodshepherdblm.org
SUMMARY:Church Council
DESCRIPTION:
URL:https://www.goodshepherdblm.org/event/church-council-19/
LOCATION:Good Shepherd Lutheran Church\, 3516 White Eagle Drive\, Bloomington\, IL\, 61704\, United States
CATEGORIES:Church Council
END:VEVENT
BEGIN:VEVENT
DTSTART;TZID=America/New_York:20160920T190000
DTEND;TZID=America/New_York:20160920T200000
DTSTAMP:20260424T060917
CREATED:20160825T040055Z
LAST-MODIFIED:20160825T040055Z
UID:2378-1474398000-1474401600@www.goodshepherdblm.org
SUMMARY:Church Council
DESCRIPTION:
URL:https://www.goodshepherdblm.org/event/church-council-18/
LOCATION:Good Shepherd Lutheran Church\, 3516 White Eagle Drive\, Bloomington\, IL\, 61704\, United States
CATEGORIES:Church Council
END:VEVENT
BEGIN:VEVENT
DTSTART;TZID=America/New_York:20160816T190000
DTEND;TZID=America/New_York:20160816T200000
DTSTAMP:20260424T060917
CREATED:20160816T145247Z
LAST-MODIFIED:20160816T145247Z
UID:2361-1471374000-1471377600@www.goodshepherdblm.org
SUMMARY:Church Council
DESCRIPTION:
URL:https://www.goodshepherdblm.org/event/church-council-17/
LOCATION:Good Shepherd Lutheran Church\, 3516 White Eagle Drive\, Bloomington\, IL\, 61704\, United States
CATEGORIES:Church Council
END:VEVENT
BEGIN:VEVENT
DTSTART;TZID=America/New_York:20160719T190000
DTEND;TZID=America/New_York:20160719T200000
DTSTAMP:20260424T060917
CREATED:20160625T003851Z
LAST-MODIFIED:20160625T003851Z
UID:2284-1468954800-1468958400@www.goodshepherdblm.org
SUMMARY:Church Council
DESCRIPTION:
URL:https://www.goodshepherdblm.org/event/church-council-16/
LOCATION:Good Shepherd Lutheran Church\, 3516 White Eagle Drive\, Bloomington\, IL\, 61704\, United States
CATEGORIES:Church Council
END:VEVENT
BEGIN:VEVENT
DTSTART;TZID=America/New_York:20160621T190000
DTEND;TZID=America/New_York:20160621T200000
DTSTAMP:20260424T060917
CREATED:20160605T001716Z
LAST-MODIFIED:20160605T001716Z
UID:2229-1466535600-1466539200@www.goodshepherdblm.org
SUMMARY:Church Council
DESCRIPTION:
URL:https://www.goodshepherdblm.org/event/church-council-15/
LOCATION:Good Shepherd Lutheran Church\, 3516 White Eagle Drive\, Bloomington\, IL\, 61704\, United States
CATEGORIES:Church Council
END:VEVENT
BEGIN:VEVENT
DTSTART;TZID=America/New_York:20160517T190000
DTEND;TZID=America/New_York:20160517T200000
DTSTAMP:20260424T060917
CREATED:20160422T031422Z
LAST-MODIFIED:20160422T031422Z
UID:2166-1463511600-1463515200@www.goodshepherdblm.org
SUMMARY:Church Council
DESCRIPTION:
URL:https://www.goodshepherdblm.org/event/church-council-14/
LOCATION:Good Shepherd Lutheran Church\, 3516 White Eagle Drive\, Bloomington\, IL\, 61704\, United States
CATEGORIES:Church Council
END:VEVENT
BEGIN:VEVENT
DTSTART;TZID=America/New_York:20160419T190000
DTEND;TZID=America/New_York:20160419T200000
DTSTAMP:20260424T060917
CREATED:20160309T175852Z
LAST-MODIFIED:20160309T175852Z
UID:2069-1461092400-1461096000@www.goodshepherdblm.org
SUMMARY:Church Council
DESCRIPTION:
URL:https://www.goodshepherdblm.org/event/church-council-13/
LOCATION:Good Shepherd Lutheran Church\, 3516 White Eagle Drive\, Bloomington\, IL\, 61704\, United States
CATEGORIES:Church Council
END:VEVENT
BEGIN:VEVENT
DTSTART;TZID=America/New_York:20160315T190000
DTEND;TZID=America/New_York:20160315T200000
DTSTAMP:20260424T060917
CREATED:20160301T002147Z
LAST-MODIFIED:20160301T002147Z
UID:2029-1458068400-1458072000@www.goodshepherdblm.org
SUMMARY:Church Council
DESCRIPTION:
URL:https://www.goodshepherdblm.org/event/church-council-12/
LOCATION:Good Shepherd Lutheran Church\, 3516 White Eagle Drive\, Bloomington\, IL\, 61704\, United States
CATEGORIES:Church Council
END:VEVENT
BEGIN:VEVENT
DTSTART;TZID=America/New_York:20160216T190000
DTEND;TZID=America/New_York:20160216T200000
DTSTAMP:20260424T060917
CREATED:20160129T071116Z
LAST-MODIFIED:20160129T071116Z
UID:1799-1455649200-1455652800@www.goodshepherdblm.org
SUMMARY:Church Council Meeting
DESCRIPTION:
URL:https://www.goodshepherdblm.org/event/church-council-meeting-5/
LOCATION:Good Shepherd Lutheran Church\, 3516 White Eagle Drive\, Bloomington\, IL\, 61704\, United States
CATEGORIES:Church Council
END:VEVENT
BEGIN:VEVENT
DTSTART;TZID=America/New_York:20160119T190000
DTEND;TZID=America/New_York:20160119T200000
DTSTAMP:20260424T060917
CREATED:20160112T194840Z
LAST-MODIFIED:20160112T194840Z
UID:1726-1453230000-1453233600@www.goodshepherdblm.org
SUMMARY:Church Council
DESCRIPTION:
URL:https://www.goodshepherdblm.org/event/church-council-11/
LOCATION:Good Shepherd Lutheran Church\, 3516 White Eagle Drive\, Bloomington\, IL\, 61704\, United States
CATEGORIES:Church Council
END:VEVENT
BEGIN:VEVENT
DTSTART;TZID=America/New_York:20151117T190000
DTEND;TZID=America/New_York:20151117T200000
DTSTAMP:20260424T060917
CREATED:20151029T030737Z
LAST-MODIFIED:20151029T030737Z
UID:1532-1447786800-1447790400@www.goodshepherdblm.org
SUMMARY:Church Council
DESCRIPTION:
URL:https://www.goodshepherdblm.org/event/church-council-10/
LOCATION:Good Shepherd Lutheran Church\, 3516 White Eagle Drive\, Bloomington\, IL\, 61704\, United States
CATEGORIES:Church Council
END:VEVENT
BEGIN:VEVENT
DTSTART;TZID=America/New_York:20151020T190000
DTEND;TZID=America/New_York:20151020T200000
DTSTAMP:20260424T060917
CREATED:20151006T113718Z
LAST-MODIFIED:20151006T113718Z
UID:1461-1445367600-1445371200@www.goodshepherdblm.org
SUMMARY:Church Council
DESCRIPTION:
URL:https://www.goodshepherdblm.org/event/church-council-9/
LOCATION:Good Shepherd Lutheran Church\, 3516 White Eagle Drive\, Bloomington\, IL\, 61704\, United States
CATEGORIES:Church Council
END:VEVENT
END:VCALENDAR