BEGIN:VCALENDAR
VERSION:2.0
PRODID:-//Good Shepherd Lutheran Church - ECPv6.15.13//NONSGML v1.0//EN
CALSCALE:GREGORIAN
METHOD:PUBLISH
X-ORIGINAL-URL:https://www.goodshepherdblm.org
X-WR-CALDESC:Events for Good Shepherd Lutheran Church
REFRESH-INTERVAL;VALUE=DURATION:PT1H
X-Robots-Tag:noindex
X-PUBLISHED-TTL:PT1H
BEGIN:VTIMEZONE
TZID:America/Chicago
BEGIN:DAYLIGHT
TZOFFSETFROM:-0600
TZOFFSETTO:-0500
TZNAME:CDT
DTSTART:20200308T080000
END:DAYLIGHT
BEGIN:STANDARD
TZOFFSETFROM:-0500
TZOFFSETTO:-0600
TZNAME:CST
DTSTART:20201101T070000
END:STANDARD
BEGIN:DAYLIGHT
TZOFFSETFROM:-0600
TZOFFSETTO:-0500
TZNAME:CDT
DTSTART:20210314T080000
END:DAYLIGHT
BEGIN:STANDARD
TZOFFSETFROM:-0500
TZOFFSETTO:-0600
TZNAME:CST
DTSTART:20211107T070000
END:STANDARD
BEGIN:DAYLIGHT
TZOFFSETFROM:-0600
TZOFFSETTO:-0500
TZNAME:CDT
DTSTART:20220313T080000
END:DAYLIGHT
BEGIN:STANDARD
TZOFFSETFROM:-0500
TZOFFSETTO:-0600
TZNAME:CST
DTSTART:20221106T070000
END:STANDARD
BEGIN:DAYLIGHT
TZOFFSETFROM:-0600
TZOFFSETTO:-0500
TZNAME:CDT
DTSTART:20230312T080000
END:DAYLIGHT
BEGIN:STANDARD
TZOFFSETFROM:-0500
TZOFFSETTO:-0600
TZNAME:CST
DTSTART:20231105T070000
END:STANDARD
END:VTIMEZONE
BEGIN:VEVENT
DTSTART;TZID=America/Chicago:20220403T101500
DTEND;TZID=America/Chicago:20220403T110000
DTSTAMP:20260424T075127
CREATED:20220403T050023Z
LAST-MODIFIED:20220404T024141Z
UID:8840-1648980900-1648983600@www.goodshepherdblm.org
SUMMARY:Sunday School/Adult Bible Class
DESCRIPTION:
URL:https://www.goodshepherdblm.org/event/sunday-school-adult-bible-class-6/
LOCATION:Good Shepherd Lutheran Church\, 3516 White Eagle Drive\, Bloomington\, IL\, 61704\, United States
CATEGORIES:Bible Studies
END:VEVENT
BEGIN:VEVENT
DTSTART;TZID=America/Chicago:20220327T170000
DTEND;TZID=America/Chicago:20220327T170000
DTSTAMP:20260424T075127
CREATED:20220303T013743Z
LAST-MODIFIED:20220303T013743Z
UID:8798-1648400400-1648400400@www.goodshepherdblm.org
SUMMARY:Small Group Bible Study
DESCRIPTION:
URL:https://www.goodshepherdblm.org/event/small-group-bible-study-50/
LOCATION:Good Shepherd Lutheran Church\, 3516 White Eagle Drive\, Bloomington\, IL\, 61704\, United States
CATEGORIES:Bible Studies
END:VEVENT
BEGIN:VEVENT
DTSTART;TZID=America/Chicago:20220327T101500
DTEND;TZID=America/Chicago:20220327T101500
DTSTAMP:20260424T075127
CREATED:20220303T013634Z
LAST-MODIFIED:20220303T013634Z
UID:8795-1648376100-1648376100@www.goodshepherdblm.org
SUMMARY:Sunday School/Adult Bible Study
DESCRIPTION:
URL:https://www.goodshepherdblm.org/event/sunday-school-adult-bible-study-2/
LOCATION:Good Shepherd Lutheran Church\, 3516 White Eagle Drive\, Bloomington\, IL\, 61704\, United States
CATEGORIES:Bible Studies
END:VEVENT
BEGIN:VEVENT
DTSTART;TZID=America/Chicago:20220320T101500
DTEND;TZID=America/Chicago:20220320T101500
DTSTAMP:20260424T075127
CREATED:20220303T005036Z
LAST-MODIFIED:20220303T005036Z
UID:8786-1647771300-1647771300@www.goodshepherdblm.org
SUMMARY:Sunday School/Adult Bible Class
DESCRIPTION:
URL:https://www.goodshepherdblm.org/event/sunday-school-adult-bible-class-5/
LOCATION:Good Shepherd Lutheran Church\, 3516 White Eagle Drive\, Bloomington\, IL\, 61704\, United States
CATEGORIES:Bible Studies
END:VEVENT
BEGIN:VEVENT
DTSTART;TZID=America/Chicago:20220315T093000
DTEND;TZID=America/Chicago:20220315T093000
DTSTAMP:20260424T075127
CREATED:20220303T004130Z
LAST-MODIFIED:20220303T004130Z
UID:8776-1647336600-1647336600@www.goodshepherdblm.org
SUMMARY:Ladies Bible Study
DESCRIPTION:
URL:https://www.goodshepherdblm.org/event/ladies-bible-study-16/
LOCATION:Good Shepherd Lutheran Church\, 3516 White Eagle Drive\, Bloomington\, IL\, 61704\, United States
CATEGORIES:Bible Studies
END:VEVENT
BEGIN:VEVENT
DTSTART;TZID=America/Chicago:20220313T170000
DTEND;TZID=America/Chicago:20220313T170000
DTSTAMP:20260424T075127
CREATED:20220303T003710Z
LAST-MODIFIED:20220303T003710Z
UID:8772-1647190800-1647190800@www.goodshepherdblm.org
SUMMARY:Small Group Bible Study
DESCRIPTION:
URL:https://www.goodshepherdblm.org/event/small-group-bible-study-49/
LOCATION:Good Shepherd Lutheran Church\, 3516 White Eagle Drive\, Bloomington\, IL\, 61704\, United States
CATEGORIES:Bible Studies
END:VEVENT
BEGIN:VEVENT
DTSTART;TZID=America/Chicago:20220313T101500
DTEND;TZID=America/Chicago:20220313T101500
DTSTAMP:20260424T075127
CREATED:20220303T003554Z
LAST-MODIFIED:20220303T003554Z
UID:8770-1647166500-1647166500@www.goodshepherdblm.org
SUMMARY:Sunday School/Adult Bible Class
DESCRIPTION:
URL:https://www.goodshepherdblm.org/event/sunday-school-adult-bible-class-4/
LOCATION:Good Shepherd Lutheran Church\, 3516 White Eagle Drive\, Bloomington\, IL\, 61704\, United States
CATEGORIES:Bible Studies
END:VEVENT
BEGIN:VEVENT
DTSTART;TZID=America/Chicago:20220306T101500
DTEND;TZID=America/Chicago:20220306T101500
DTSTAMP:20260424T075127
CREATED:20220303T002558Z
LAST-MODIFIED:20220303T002558Z
UID:8758-1646561700-1646561700@www.goodshepherdblm.org
SUMMARY:Sunday School/Adult Bible Class
DESCRIPTION:
URL:https://www.goodshepherdblm.org/event/sunday-school-adult-bible-class-3/
LOCATION:Good Shepherd Lutheran Church\, 3516 White Eagle Drive\, Bloomington\, IL\, 61704\, United States
CATEGORIES:Bible Studies
END:VEVENT
BEGIN:VEVENT
DTSTART;TZID=America/Chicago:20220301T093000
DTEND;TZID=America/Chicago:20220301T093000
DTSTAMP:20260424T075127
CREATED:20220303T001346Z
LAST-MODIFIED:20220303T001346Z
UID:8746-1646127000-1646127000@www.goodshepherdblm.org
SUMMARY:Ladies Bible Study
DESCRIPTION:
URL:https://www.goodshepherdblm.org/event/ladies-bible-study-15/
LOCATION:Good Shepherd Lutheran Church\, 3516 White Eagle Drive\, Bloomington\, IL\, 61704\, United States
CATEGORIES:Bible Studies
END:VEVENT
BEGIN:VEVENT
DTSTART;TZID=America/Chicago:20220227T170000
DTEND;TZID=America/Chicago:20220227T170000
DTSTAMP:20260424T075127
CREATED:20220303T001152Z
LAST-MODIFIED:20220303T001152Z
UID:8744-1645981200-1645981200@www.goodshepherdblm.org
SUMMARY:Small Group Bible Study
DESCRIPTION:
URL:https://www.goodshepherdblm.org/event/small-group-bible-study-48/
LOCATION:Good Shepherd Lutheran Church\, 3516 White Eagle Drive\, Bloomington\, IL\, 61704\, United States
CATEGORIES:Bible Studies
END:VEVENT
BEGIN:VEVENT
DTSTART;TZID=America/Chicago:20220227T101500
DTEND;TZID=America/Chicago:20220227T101500
DTSTAMP:20260424T075127
CREATED:20220303T001045Z
LAST-MODIFIED:20220303T001045Z
UID:8742-1645956900-1645956900@www.goodshepherdblm.org
SUMMARY:Sunday School/Adult Bible Study
DESCRIPTION:
URL:https://www.goodshepherdblm.org/event/sunday-school-adult-bible-study/
LOCATION:Good Shepherd Lutheran Church\, 3516 White Eagle Drive\, Bloomington\, IL\, 61704\, United States
CATEGORIES:Bible Studies
END:VEVENT
BEGIN:VEVENT
DTSTART;TZID=America/Chicago:20220220T080000
DTEND;TZID=America/Chicago:20220220T080000
DTSTAMP:20260424T075127
CREATED:20220303T000748Z
LAST-MODIFIED:20220303T000748Z
UID:8737-1645344000-1645344000@www.goodshepherdblm.org
SUMMARY:Sunday School/Bible Class
DESCRIPTION:
URL:https://www.goodshepherdblm.org/event/sunday-school-bible-class-15/
LOCATION:Good Shepherd Lutheran Church\, 3516 White Eagle Drive\, Bloomington\, IL\, 61704\, United States
CATEGORIES:Bible Studies
END:VEVENT
BEGIN:VEVENT
DTSTART;TZID=America/Chicago:20220215T093000
DTEND;TZID=America/Chicago:20220215T093000
DTSTAMP:20260424T075127
CREATED:20220303T000314Z
LAST-MODIFIED:20220303T000314Z
UID:8731-1644917400-1644917400@www.goodshepherdblm.org
SUMMARY:Ladies Bible Study
DESCRIPTION:
URL:https://www.goodshepherdblm.org/event/ladies-bible-study-14/
LOCATION:Good Shepherd Lutheran Church\, 3516 White Eagle Drive\, Bloomington\, IL\, 61704\, United States
CATEGORIES:Bible Studies
END:VEVENT
BEGIN:VEVENT
DTSTART;TZID=America/Chicago:20220213T170000
DTEND;TZID=America/Chicago:20220213T170000
DTSTAMP:20260424T075127
CREATED:20220302T235744Z
LAST-MODIFIED:20220302T235744Z
UID:8727-1644771600-1644771600@www.goodshepherdblm.org
SUMMARY:Small Group Bible Study
DESCRIPTION:
URL:https://www.goodshepherdblm.org/event/small-group-bible-study-47/
LOCATION:Good Shepherd Lutheran Church\, 3516 White Eagle Drive\, Bloomington\, IL\, 61704\, United States
CATEGORIES:Bible Studies
END:VEVENT
BEGIN:VEVENT
DTSTART;TZID=America/Chicago:20220213T101500
DTEND;TZID=America/Chicago:20220213T101500
DTSTAMP:20260424T075127
CREATED:20220302T235624Z
LAST-MODIFIED:20220302T235624Z
UID:8725-1644747300-1644747300@www.goodshepherdblm.org
SUMMARY:Sunday School/Adult Bible Class
DESCRIPTION:
URL:https://www.goodshepherdblm.org/event/sunday-school-adult-bible-class-2/
LOCATION:Good Shepherd Lutheran Church\, 3516 White Eagle Drive\, Bloomington\, IL\, 61704\, United States
CATEGORIES:Bible Studies
END:VEVENT
BEGIN:VEVENT
DTSTART;TZID=America/Chicago:20220206T101500
DTEND;TZID=America/Chicago:20220206T101500
DTSTAMP:20260424T075127
CREATED:20220302T234305Z
LAST-MODIFIED:20220302T234305Z
UID:8714-1644142500-1644142500@www.goodshepherdblm.org
SUMMARY:Sunday School/Adult Bible Class
DESCRIPTION:
URL:https://www.goodshepherdblm.org/event/sunday-school-adult-bible-class/
LOCATION:Good Shepherd Lutheran Church\, 3516 White Eagle Drive\, Bloomington\, IL\, 61704\, United States
CATEGORIES:Bible Studies
END:VEVENT
BEGIN:VEVENT
DTSTART;TZID=America/Chicago:20220201T093000
DTEND;TZID=America/Chicago:20220201T093000
DTSTAMP:20260424T075127
CREATED:20220302T233445Z
LAST-MODIFIED:20220302T233445Z
UID:8706-1643707800-1643707800@www.goodshepherdblm.org
SUMMARY:Ladies Bible Study
DESCRIPTION:
URL:https://www.goodshepherdblm.org/event/ladies-bible-study-13/
LOCATION:Good Shepherd Lutheran Church\, 3516 White Eagle Drive\, Bloomington\, IL\, 61704\, United States
CATEGORIES:Bible Studies
END:VEVENT
BEGIN:VEVENT
DTSTART;TZID=America/Chicago:20220130T170000
DTEND;TZID=America/Chicago:20220130T170000
DTSTAMP:20260424T075127
CREATED:20220112T173824Z
LAST-MODIFIED:20220112T173824Z
UID:8675-1643562000-1643562000@www.goodshepherdblm.org
SUMMARY:Small Group Bible Study
DESCRIPTION:
URL:https://www.goodshepherdblm.org/event/small-group-bible-study-46/
LOCATION:Good Shepherd Lutheran Church\, 3516 White Eagle Drive\, Bloomington\, IL\, 61704\, United States
CATEGORIES:Bible Studies
END:VEVENT
BEGIN:VEVENT
DTSTART;TZID=America/Chicago:20220130T101500
DTEND;TZID=America/Chicago:20220130T101500
DTSTAMP:20260424T075127
CREATED:20220112T173736Z
LAST-MODIFIED:20220112T173736Z
UID:8673-1643537700-1643537700@www.goodshepherdblm.org
SUMMARY:Sunday School\, Bible Study
DESCRIPTION:
URL:https://www.goodshepherdblm.org/event/sunday-school-bible-study-3/
LOCATION:Good Shepherd Lutheran Church\, 3516 White Eagle Drive\, Bloomington\, IL\, 61704\, United States
CATEGORIES:Bible Studies
END:VEVENT
BEGIN:VEVENT
DTSTART;TZID=America/Chicago:20220123T101500
DTEND;TZID=America/Chicago:20220123T101500
DTSTAMP:20260424T075127
CREATED:20220112T173531Z
LAST-MODIFIED:20220112T173531Z
UID:8669-1642932900-1642932900@www.goodshepherdblm.org
SUMMARY:Sunday School\, Bible Class
DESCRIPTION:
URL:https://www.goodshepherdblm.org/event/sunday-school-bible-class-14/
LOCATION:Good Shepherd Lutheran Church\, 3516 White Eagle Drive\, Bloomington\, IL\, 61704\, United States
CATEGORIES:Bible Studies
END:VEVENT
BEGIN:VEVENT
DTSTART;TZID=America/Chicago:20220118T093000
DTEND;TZID=America/Chicago:20220118T093000
DTSTAMP:20260424T075127
CREATED:20220112T173158Z
LAST-MODIFIED:20220112T173158Z
UID:8663-1642498200-1642498200@www.goodshepherdblm.org
SUMMARY:Ladies Bible Study
DESCRIPTION:
URL:https://www.goodshepherdblm.org/event/ladies-bible-study-12/
LOCATION:Good Shepherd Lutheran Church\, 3516 White Eagle Drive\, Bloomington\, IL\, 61704\, United States
CATEGORIES:Bible Studies
END:VEVENT
BEGIN:VEVENT
DTSTART;TZID=America/Chicago:20220116T101500
DTEND;TZID=America/Chicago:20220116T101500
DTSTAMP:20260424T075127
CREATED:20220112T173111Z
LAST-MODIFIED:20220112T173111Z
UID:8661-1642328100-1642328100@www.goodshepherdblm.org
SUMMARY:Sunday School\, Bible Study
DESCRIPTION:
URL:https://www.goodshepherdblm.org/event/sunday-school-bible-study-2/
LOCATION:Good Shepherd Lutheran Church\, 3516 White Eagle Drive\, Bloomington\, IL\, 61704\, United States
CATEGORIES:Bible Studies
END:VEVENT
BEGIN:VEVENT
DTSTART;TZID=America/Chicago:20220102T101500
DTEND;TZID=America/Chicago:20220102T101500
DTSTAMP:20260424T075127
CREATED:20220112T172120Z
LAST-MODIFIED:20220112T172120Z
UID:8649-1641118500-1641118500@www.goodshepherdblm.org
SUMMARY:Sunday School\, Bible Study
DESCRIPTION:
URL:https://www.goodshepherdblm.org/event/sunday-school-bible-study/
LOCATION:Good Shepherd Lutheran Church\, 3516 White Eagle Drive\, Bloomington\, IL\, 61704\, United States
CATEGORIES:Bible Studies
END:VEVENT
BEGIN:VEVENT
DTSTART;TZID=America/Chicago:20211226T101500
DTEND;TZID=America/Chicago:20211226T101500
DTSTAMP:20260424T075127
CREATED:20220112T170232Z
LAST-MODIFIED:20220112T170232Z
UID:8620-1640513700-1640513700@www.goodshepherdblm.org
SUMMARY:Sunday School\, Bible Class
DESCRIPTION:
URL:https://www.goodshepherdblm.org/event/sunday-school-bible-class-13/
LOCATION:Good Shepherd Lutheran Church\, 3516 White Eagle Drive\, Bloomington\, IL\, 61704\, United States
CATEGORIES:Bible Studies
END:VEVENT
BEGIN:VEVENT
DTSTART;TZID=America/Chicago:20211219T101500
DTEND;TZID=America/Chicago:20211219T101500
DTSTAMP:20260424T075127
CREATED:20220112T170027Z
LAST-MODIFIED:20220112T170027Z
UID:8616-1639908900-1639908900@www.goodshepherdblm.org
SUMMARY:Sunday School\, Bible Class
DESCRIPTION:
URL:https://www.goodshepherdblm.org/event/sunday-school-bible-class-12/
LOCATION:Good Shepherd Lutheran Church\, 3516 White Eagle Drive\, Bloomington\, IL\, 61704\, United States
CATEGORIES:Bible Studies
END:VEVENT
BEGIN:VEVENT
DTSTART;TZID=America/Chicago:20211212T101500
DTEND;TZID=America/Chicago:20211212T101500
DTSTAMP:20260424T075127
CREATED:20220112T165834Z
LAST-MODIFIED:20220112T165834Z
UID:8612-1639304100-1639304100@www.goodshepherdblm.org
SUMMARY:Sunday School\, Bible Class
DESCRIPTION:
URL:https://www.goodshepherdblm.org/event/sunday-school-bible-class-11/
LOCATION:Good Shepherd Lutheran Church\, 3516 White Eagle Drive\, Bloomington\, IL\, 61704\, United States
CATEGORIES:Bible Studies
END:VEVENT
BEGIN:VEVENT
DTSTART;TZID=America/Chicago:20211207T093000
DTEND;TZID=America/Chicago:20211207T093000
DTSTAMP:20260424T075127
CREATED:20220112T170707Z
LAST-MODIFIED:20220112T170707Z
UID:8624-1638869400-1638869400@www.goodshepherdblm.org
SUMMARY:Ladies Bible Study Christmas Party
DESCRIPTION:
URL:https://www.goodshepherdblm.org/event/ladies-bible-study-christmas-party/
LOCATION:Good Shepherd Lutheran Church\, 3516 White Eagle Drive\, Bloomington\, IL\, 61704\, United States
CATEGORIES:Bible Studies
END:VEVENT
BEGIN:VEVENT
DTSTART;TZID=America/Chicago:20211205T101500
DTEND;TZID=America/Chicago:20211205T101500
DTSTAMP:20260424T075127
CREATED:20220112T165434Z
LAST-MODIFIED:20220112T165434Z
UID:8608-1638699300-1638699300@www.goodshepherdblm.org
SUMMARY:Sunday School\, Bible Class
DESCRIPTION:
URL:https://www.goodshepherdblm.org/event/sunday-school-bible-class-10/
LOCATION:Good Shepherd Lutheran Church\, 3516 White Eagle Drive\, Bloomington\, IL\, 61704\, United States
CATEGORIES:Bible Studies
END:VEVENT
BEGIN:VEVENT
DTSTART;TZID=America/Chicago:20211128T170000
DTEND;TZID=America/Chicago:20211128T170000
DTSTAMP:20260424T075127
CREATED:20211110T194731Z
LAST-MODIFIED:20211110T194731Z
UID:8490-1638118800-1638118800@www.goodshepherdblm.org
SUMMARY:Small Group Bible Study
DESCRIPTION:
URL:https://www.goodshepherdblm.org/event/small-group-bible-study-45/
LOCATION:Good Shepherd Lutheran Church\, 3516 White Eagle Drive\, Bloomington\, IL\, 61704\, United States
CATEGORIES:Bible Studies
END:VEVENT
BEGIN:VEVENT
DTSTART;TZID=America/Chicago:20211128T101500
DTEND;TZID=America/Chicago:20211128T170000
DTSTAMP:20260424T075127
CREATED:20211110T194644Z
LAST-MODIFIED:20211110T194644Z
UID:8488-1638094500-1638118800@www.goodshepherdblm.org
SUMMARY:Adult Bible Study; Sunday School
DESCRIPTION:
URL:https://www.goodshepherdblm.org/event/adult-bible-study-sunday-school-3/
LOCATION:Good Shepherd Lutheran Church\, 3516 White Eagle Drive\, Bloomington\, IL\, 61704\, United States
CATEGORIES:Bible Studies
END:VEVENT
END:VCALENDAR