BEGIN:VCALENDAR
VERSION:2.0
PRODID:-//Good Shepherd Lutheran Church - ECPv6.15.13//NONSGML v1.0//EN
CALSCALE:GREGORIAN
METHOD:PUBLISH
X-ORIGINAL-URL:https://www.goodshepherdblm.org
X-WR-CALDESC:Events for Good Shepherd Lutheran Church
REFRESH-INTERVAL;VALUE=DURATION:PT1H
X-Robots-Tag:noindex
X-PUBLISHED-TTL:PT1H
BEGIN:VTIMEZONE
TZID:America/Chicago
BEGIN:DAYLIGHT
TZOFFSETFROM:-0600
TZOFFSETTO:-0500
TZNAME:CDT
DTSTART:20210314T080000
END:DAYLIGHT
BEGIN:STANDARD
TZOFFSETFROM:-0500
TZOFFSETTO:-0600
TZNAME:CST
DTSTART:20211107T070000
END:STANDARD
BEGIN:DAYLIGHT
TZOFFSETFROM:-0600
TZOFFSETTO:-0500
TZNAME:CDT
DTSTART:20220313T080000
END:DAYLIGHT
BEGIN:STANDARD
TZOFFSETFROM:-0500
TZOFFSETTO:-0600
TZNAME:CST
DTSTART:20221106T070000
END:STANDARD
BEGIN:DAYLIGHT
TZOFFSETFROM:-0600
TZOFFSETTO:-0500
TZNAME:CDT
DTSTART:20230312T080000
END:DAYLIGHT
BEGIN:STANDARD
TZOFFSETFROM:-0500
TZOFFSETTO:-0600
TZNAME:CST
DTSTART:20231105T070000
END:STANDARD
END:VTIMEZONE
BEGIN:VEVENT
DTSTART;TZID=America/Chicago:20220807T101500
DTEND;TZID=America/Chicago:20220807T101500
DTSTAMP:20260424T010237
CREATED:20220807T235312Z
LAST-MODIFIED:20220807T235312Z
UID:9169-1659867300-1659867300@www.goodshepherdblm.org
SUMMARY:Sunday School & Adult Bible Study
DESCRIPTION:
URL:https://www.goodshepherdblm.org/event/sunday-school-adult-bible-study-4/
LOCATION:Good Shepherd Lutheran Church\, 3516 White Eagle Drive\, Bloomington\, IL\, 61704\, United States
CATEGORIES:Bible Studies
END:VEVENT
BEGIN:VEVENT
DTSTART;TZID=America/Chicago:20220731T101500
DTEND;TZID=America/Chicago:20220731T101500
DTSTAMP:20260424T010237
CREATED:20220712T035338Z
LAST-MODIFIED:20220712T035338Z
UID:9086-1659262500-1659262500@www.goodshepherdblm.org
SUMMARY:Sunday School\, Adult Bible Class
DESCRIPTION:
URL:https://www.goodshepherdblm.org/event/sunday-school-adult-bible-class-22/
LOCATION:Good Shepherd Lutheran Church\, 3516 White Eagle Drive\, Bloomington\, IL\, 61704\, United States
CATEGORIES:Bible Studies
END:VEVENT
BEGIN:VEVENT
DTSTART;TZID=America/Chicago:20220724T101500
DTEND;TZID=America/Chicago:20220724T101500
DTSTAMP:20260424T010237
CREATED:20220712T034818Z
LAST-MODIFIED:20220712T034936Z
UID:9083-1658657700-1658657700@www.goodshepherdblm.org
SUMMARY:Sunday School\, Adult Bible Class
DESCRIPTION:
URL:https://www.goodshepherdblm.org/event/sunday-school-adult-bible-class-21/
LOCATION:Good Shepherd Lutheran Church\, 3516 White Eagle Drive\, Bloomington\, IL\, 61704\, United States
CATEGORIES:Bible Studies
END:VEVENT
BEGIN:VEVENT
DTSTART;TZID=America/Chicago:20220717T101500
DTEND;TZID=America/Chicago:20220717T101500
DTSTAMP:20260424T010237
CREATED:20220712T034655Z
LAST-MODIFIED:20220712T035216Z
UID:9081-1658052900-1658052900@www.goodshepherdblm.org
SUMMARY:Sunday School\, Adult Bible Class
DESCRIPTION:Go back  Your message has been sent\n\n\n				\n					\n					\n				\n			\n\n\n\nName(required)\n\n \n			\n				\n					\n						\n						\n						\n					\n					Warning\n				\n				\n			 \n	\n\n\nEmail(required)\n\n \n			\n				\n					\n						\n						\n						\n					\n					Warning\n				\n				\n			 \n	\n\n\nWebsite\n\n \n			\n				\n					\n						\n						\n						\n					\n					Warning\n				\n				\n			 \n	\n\n\nMessage\n\n \n			\n				\n					\n						\n						\n						\n					\n					Warning\n				\n				\n			\n	\n	\nWarning.\n				\n				\n				\n					\n				\n						Submit
URL:https://www.goodshepherdblm.org/event/sunday-school-adult-bible-class-20/
LOCATION:Good Shepherd Lutheran Church\, 3516 White Eagle Drive\, Bloomington\, IL\, 61704\, United States
CATEGORIES:Bible Studies
END:VEVENT
BEGIN:VEVENT
DTSTART;TZID=America/Chicago:20220710T101500
DTEND;TZID=America/Chicago:20220710T170000
DTSTAMP:20260424T010237
CREATED:20220712T034507Z
LAST-MODIFIED:20220712T034507Z
UID:9079-1657448100-1657472400@www.goodshepherdblm.org
SUMMARY:Sunday School\, Adult Bible Class
DESCRIPTION:
URL:https://www.goodshepherdblm.org/event/sunday-school-adult-bible-class-19/
LOCATION:Good Shepherd Lutheran Church\, 3516 White Eagle Drive\, Bloomington\, IL\, 61704\, United States
CATEGORIES:Bible Studies
END:VEVENT
BEGIN:VEVENT
DTSTART;TZID=America/Chicago:20220703T101500
DTEND;TZID=America/Chicago:20220703T101500
DTSTAMP:20260424T010237
CREATED:20220712T034342Z
LAST-MODIFIED:20220712T034342Z
UID:9077-1656843300-1656843300@www.goodshepherdblm.org
SUMMARY:Sunday School\, Adult Bible Class
DESCRIPTION:
URL:https://www.goodshepherdblm.org/event/sunday-school-adult-bible-class-18/
LOCATION:Good Shepherd Lutheran Church\, 3516 White Eagle Drive\, Bloomington\, IL\, 61704\, United States
CATEGORIES:Bible Studies
END:VEVENT
BEGIN:VEVENT
DTSTART;TZID=America/Chicago:20220626T101500
DTEND;TZID=America/Chicago:20220626T101500
DTSTAMP:20260424T010237
CREATED:20220603T042727Z
LAST-MODIFIED:20220603T042727Z
UID:9031-1656238500-1656238500@www.goodshepherdblm.org
SUMMARY:Sunday School & Adult Bible Class
DESCRIPTION:
URL:https://www.goodshepherdblm.org/event/sunday-school-adult-bible-class-17/
LOCATION:Good Shepherd Lutheran Church\, 3516 White Eagle Drive\, Bloomington\, IL\, 61704\, United States
CATEGORIES:Bible Studies
END:VEVENT
BEGIN:VEVENT
DTSTART;TZID=America/Chicago:20220619T101500
DTEND;TZID=America/Chicago:20220619T101500
DTSTAMP:20260424T010237
CREATED:20220603T041950Z
LAST-MODIFIED:20220603T041950Z
UID:9023-1655633700-1655633700@www.goodshepherdblm.org
SUMMARY:Sunday School & Adult Bible Class
DESCRIPTION:
URL:https://www.goodshepherdblm.org/event/sunday-school-adult-bible-class-16/
LOCATION:Good Shepherd Lutheran Church\, 3516 White Eagle Drive\, Bloomington\, IL\, 61704\, United States
CATEGORIES:Bible Studies
END:VEVENT
BEGIN:VEVENT
DTSTART;TZID=America/Chicago:20220612T101500
DTEND;TZID=America/Chicago:20220612T101500
DTSTAMP:20260424T010237
CREATED:20220603T040557Z
LAST-MODIFIED:20220603T040557Z
UID:9011-1655028900-1655028900@www.goodshepherdblm.org
SUMMARY:Sunday School & Adult Bible Class
DESCRIPTION:
URL:https://www.goodshepherdblm.org/event/sunday-school-adult-bible-class-15/
LOCATION:Good Shepherd Lutheran Church\, 3516 White Eagle Drive\, Bloomington\, IL\, 61704\, United States
CATEGORIES:Bible Studies
END:VEVENT
BEGIN:VEVENT
DTSTART;TZID=America/Chicago:20220605T101500
DTEND;TZID=America/Chicago:20220605T101500
DTSTAMP:20260424T010237
CREATED:20220603T035626Z
LAST-MODIFIED:20220603T035626Z
UID:9003-1654424100-1654424100@www.goodshepherdblm.org
SUMMARY:Sunday School & Adult Bible Class
DESCRIPTION:
URL:https://www.goodshepherdblm.org/event/sunday-school-adult-bible-class-14/
LOCATION:Good Shepherd Lutheran Church\, 3516 White Eagle Drive\, Bloomington\, IL\, 61704\, United States
CATEGORIES:Bible Studies
END:VEVENT
BEGIN:VEVENT
DTSTART;TZID=America/Chicago:20220529T101500
DTEND;TZID=America/Chicago:20220529T101500
DTSTAMP:20260424T010237
CREATED:20220430T034216Z
LAST-MODIFIED:20220430T034216Z
UID:8944-1653819300-1653819300@www.goodshepherdblm.org
SUMMARY:Sunday School\, Adult Bible Class
DESCRIPTION:
URL:https://www.goodshepherdblm.org/event/sunday-school-adult-bible-class-13/
LOCATION:Good Shepherd Lutheran Church\, 3516 White Eagle Drive\, Bloomington\, IL\, 61704\, United States
CATEGORIES:Bible Studies
END:VEVENT
BEGIN:VEVENT
DTSTART;TZID=America/Chicago:20220522T101500
DTEND;TZID=America/Chicago:20220522T101500
DTSTAMP:20260424T010237
CREATED:20220430T033936Z
LAST-MODIFIED:20220430T033936Z
UID:8940-1653214500-1653214500@www.goodshepherdblm.org
SUMMARY:Sunday School\, Adult Bible Class
DESCRIPTION:
URL:https://www.goodshepherdblm.org/event/sunday-school-adult-bible-class-12/
LOCATION:Good Shepherd Lutheran Church\, 3516 White Eagle Drive\, Bloomington\, IL\, 61704\, United States
CATEGORIES:Bible Studies
END:VEVENT
BEGIN:VEVENT
DTSTART;TZID=America/Chicago:20220517T093000
DTEND;TZID=America/Chicago:20220517T093000
DTSTAMP:20260424T010237
CREATED:20220430T035321Z
LAST-MODIFIED:20220430T035321Z
UID:8956-1652779800-1652779800@www.goodshepherdblm.org
SUMMARY:Ladies Bible Study
DESCRIPTION:
URL:https://www.goodshepherdblm.org/event/ladies-bible-study-20/
LOCATION:Good Shepherd Lutheran Church\, 3516 White Eagle Drive\, Bloomington\, IL\, 61704\, United States
CATEGORIES:Bible Studies
END:VEVENT
BEGIN:VEVENT
DTSTART;TZID=America/Chicago:20220515T101500
DTEND;TZID=America/Chicago:20220515T101500
DTSTAMP:20260424T010237
CREATED:20220430T033350Z
LAST-MODIFIED:20220430T033613Z
UID:8935-1652609700-1652609700@www.goodshepherdblm.org
SUMMARY:Sunday School\, Adult Bible Class
DESCRIPTION:
URL:https://www.goodshepherdblm.org/event/sunday-school-adult-bible-class-11/
LOCATION:Good Shepherd Lutheran Church\, 3516 White Eagle Drive\, Bloomington\, IL\, 61704\, United States
CATEGORIES:Bible Studies
END:VEVENT
BEGIN:VEVENT
DTSTART;TZID=America/Chicago:20220508T101500
DTEND;TZID=America/Chicago:20220508T101500
DTSTAMP:20260424T010237
CREATED:20220427T040508Z
LAST-MODIFIED:20220427T040508Z
UID:8927-1652004900-1652004900@www.goodshepherdblm.org
SUMMARY:Sunday School\, Adult Bible Class
DESCRIPTION:
URL:https://www.goodshepherdblm.org/event/sunday-school-adult-bible-class-10/
LOCATION:Good Shepherd Lutheran Church\, 3516 White Eagle Drive\, Bloomington\, IL\, 61704\, United States
CATEGORIES:Bible Studies
END:VEVENT
BEGIN:VEVENT
DTSTART;TZID=America/Chicago:20220503T093000
DTEND;TZID=America/Chicago:20220503T093000
DTSTAMP:20260424T010237
CREATED:20220430T034456Z
LAST-MODIFIED:20220430T034456Z
UID:8946-1651570200-1651570200@www.goodshepherdblm.org
SUMMARY:Ladies Bible Study
DESCRIPTION:
URL:https://www.goodshepherdblm.org/event/ladies-bible-study-19/
LOCATION:Good Shepherd Lutheran Church\, 3516 White Eagle Drive\, Bloomington\, IL\, 61704\, United States
CATEGORIES:Bible Studies
END:VEVENT
BEGIN:VEVENT
DTSTART;TZID=America/Chicago:20220501T101500
DTEND;TZID=America/Chicago:20220501T101500
DTSTAMP:20260424T010237
CREATED:20220427T035727Z
LAST-MODIFIED:20220427T035727Z
UID:8921-1651400100-1651400100@www.goodshepherdblm.org
SUMMARY:Sunday School\, Adult Bible Class
DESCRIPTION:
URL:https://www.goodshepherdblm.org/event/sunday-school-adult-bible-class-9/
LOCATION:Good Shepherd Lutheran Church\, 3516 White Eagle Drive\, Bloomington\, IL\, 61704\, United States
CATEGORIES:Bible Studies
END:VEVENT
BEGIN:VEVENT
DTSTART;TZID=America/Chicago:20220424T170000
DTEND;TZID=America/Chicago:20220424T170000
DTSTAMP:20260424T010237
CREATED:20220408T011534Z
LAST-MODIFIED:20220408T011534Z
UID:8892-1650819600-1650819600@www.goodshepherdblm.org
SUMMARY:Small Group Bible Study
DESCRIPTION:
URL:https://www.goodshepherdblm.org/event/small-group-bible-study-52/
LOCATION:Good Shepherd Lutheran Church\, 3516 White Eagle Drive\, Bloomington\, IL\, 61704\, United States
CATEGORIES:Bible Studies
END:VEVENT
BEGIN:VEVENT
DTSTART;TZID=America/Chicago:20220424T101500
DTEND;TZID=America/Chicago:20220424T101500
DTSTAMP:20260424T010237
CREATED:20220408T011407Z
LAST-MODIFIED:20220408T011407Z
UID:8890-1650795300-1650795300@www.goodshepherdblm.org
SUMMARY:Sunday School/Adult Bible Study
DESCRIPTION:
URL:https://www.goodshepherdblm.org/event/sunday-school-adult-bible-study-3/
LOCATION:Good Shepherd Lutheran Church\, 3516 White Eagle Drive\, Bloomington\, IL\, 61704\, United States
CATEGORIES:Bible Studies
END:VEVENT
BEGIN:VEVENT
DTSTART;TZID=America/Chicago:20220419T093000
DTEND;TZID=America/Chicago:20220419T093000
DTSTAMP:20260424T010237
CREATED:20220408T010712Z
LAST-MODIFIED:20220408T010712Z
UID:8882-1650360600-1650360600@www.goodshepherdblm.org
SUMMARY:Ladies Bible Study
DESCRIPTION:
URL:https://www.goodshepherdblm.org/event/ladies-bible-study-18/
LOCATION:Good Shepherd Lutheran Church\, 3516 White Eagle Drive\, Bloomington\, IL\, 61704\, United States
CATEGORIES:Bible Studies
END:VEVENT
BEGIN:VEVENT
DTSTART;TZID=America/Chicago:20220417T091500
DTEND;TZID=America/Chicago:20220417T091500
DTSTAMP:20260424T010237
CREATED:20220408T010226Z
LAST-MODIFIED:20220408T010226Z
UID:8877-1650186900-1650186900@www.goodshepherdblm.org
SUMMARY:Sunday School/Adult Bible Class
DESCRIPTION:
URL:https://www.goodshepherdblm.org/event/sunday-school-adult-bible-class-8/
LOCATION:Good Shepherd Lutheran Church\, 3516 White Eagle Drive\, Bloomington\, IL\, 61704\, United States
CATEGORIES:Bible Studies
END:VEVENT
BEGIN:VEVENT
DTSTART;TZID=America/Chicago:20220410T170000
DTEND;TZID=America/Chicago:20220410T170000
DTSTAMP:20260424T010237
CREATED:20220404T024433Z
LAST-MODIFIED:20220404T024433Z
UID:8859-1649610000-1649610000@www.goodshepherdblm.org
SUMMARY:Small Group Bible Study
DESCRIPTION:
URL:https://www.goodshepherdblm.org/event/small-group-bible-study-51/
LOCATION:Good Shepherd Lutheran Church\, 3516 White Eagle Drive\, Bloomington\, IL\, 61704\, United States
CATEGORIES:Bible Studies
END:VEVENT
BEGIN:VEVENT
DTSTART;TZID=America/Chicago:20220410T101500
DTEND;TZID=America/Chicago:20220410T101500
DTSTAMP:20260424T010237
CREATED:20220404T022154Z
LAST-MODIFIED:20220404T022154Z
UID:8856-1649585700-1649585700@www.goodshepherdblm.org
SUMMARY:Sunday School/Adult Bible Class
DESCRIPTION:
URL:https://www.goodshepherdblm.org/event/sunday-school-adult-bible-class-7/
LOCATION:Good Shepherd Lutheran Church\, 3516 White Eagle Drive\, Bloomington\, IL\, 61704\, United States
CATEGORIES:Bible Studies
END:VEVENT
BEGIN:VEVENT
DTSTART;TZID=America/Chicago:20220405T093000
DTEND;TZID=America/Chicago:20220405T093000
DTSTAMP:20260424T010237
CREATED:20220404T020912Z
LAST-MODIFIED:20220404T020913Z
UID:8846-1649151000-1649151000@www.goodshepherdblm.org
SUMMARY:Ladies Bible Study
DESCRIPTION:
URL:https://www.goodshepherdblm.org/event/ladies-bible-study-17/
LOCATION:Good Shepherd Lutheran Church\, 3516 White Eagle Drive\, Bloomington\, IL\, 61704\, United States
CATEGORIES:Bible Studies
END:VEVENT
BEGIN:VEVENT
DTSTART;TZID=America/Chicago:20220403T101500
DTEND;TZID=America/Chicago:20220403T110000
DTSTAMP:20260424T010237
CREATED:20220403T050023Z
LAST-MODIFIED:20220404T024141Z
UID:8840-1648980900-1648983600@www.goodshepherdblm.org
SUMMARY:Sunday School/Adult Bible Class
DESCRIPTION:
URL:https://www.goodshepherdblm.org/event/sunday-school-adult-bible-class-6/
LOCATION:Good Shepherd Lutheran Church\, 3516 White Eagle Drive\, Bloomington\, IL\, 61704\, United States
CATEGORIES:Bible Studies
END:VEVENT
BEGIN:VEVENT
DTSTART;TZID=America/Chicago:20220327T170000
DTEND;TZID=America/Chicago:20220327T170000
DTSTAMP:20260424T010237
CREATED:20220303T013743Z
LAST-MODIFIED:20220303T013743Z
UID:8798-1648400400-1648400400@www.goodshepherdblm.org
SUMMARY:Small Group Bible Study
DESCRIPTION:
URL:https://www.goodshepherdblm.org/event/small-group-bible-study-50/
LOCATION:Good Shepherd Lutheran Church\, 3516 White Eagle Drive\, Bloomington\, IL\, 61704\, United States
CATEGORIES:Bible Studies
END:VEVENT
BEGIN:VEVENT
DTSTART;TZID=America/Chicago:20220327T101500
DTEND;TZID=America/Chicago:20220327T101500
DTSTAMP:20260424T010237
CREATED:20220303T013634Z
LAST-MODIFIED:20220303T013634Z
UID:8795-1648376100-1648376100@www.goodshepherdblm.org
SUMMARY:Sunday School/Adult Bible Study
DESCRIPTION:
URL:https://www.goodshepherdblm.org/event/sunday-school-adult-bible-study-2/
LOCATION:Good Shepherd Lutheran Church\, 3516 White Eagle Drive\, Bloomington\, IL\, 61704\, United States
CATEGORIES:Bible Studies
END:VEVENT
BEGIN:VEVENT
DTSTART;TZID=America/Chicago:20220320T101500
DTEND;TZID=America/Chicago:20220320T101500
DTSTAMP:20260424T010237
CREATED:20220303T005036Z
LAST-MODIFIED:20220303T005036Z
UID:8786-1647771300-1647771300@www.goodshepherdblm.org
SUMMARY:Sunday School/Adult Bible Class
DESCRIPTION:
URL:https://www.goodshepherdblm.org/event/sunday-school-adult-bible-class-5/
LOCATION:Good Shepherd Lutheran Church\, 3516 White Eagle Drive\, Bloomington\, IL\, 61704\, United States
CATEGORIES:Bible Studies
END:VEVENT
BEGIN:VEVENT
DTSTART;TZID=America/Chicago:20220315T093000
DTEND;TZID=America/Chicago:20220315T093000
DTSTAMP:20260424T010237
CREATED:20220303T004130Z
LAST-MODIFIED:20220303T004130Z
UID:8776-1647336600-1647336600@www.goodshepherdblm.org
SUMMARY:Ladies Bible Study
DESCRIPTION:
URL:https://www.goodshepherdblm.org/event/ladies-bible-study-16/
LOCATION:Good Shepherd Lutheran Church\, 3516 White Eagle Drive\, Bloomington\, IL\, 61704\, United States
CATEGORIES:Bible Studies
END:VEVENT
BEGIN:VEVENT
DTSTART;TZID=America/Chicago:20220313T170000
DTEND;TZID=America/Chicago:20220313T170000
DTSTAMP:20260424T010237
CREATED:20220303T003710Z
LAST-MODIFIED:20220303T003710Z
UID:8772-1647190800-1647190800@www.goodshepherdblm.org
SUMMARY:Small Group Bible Study
DESCRIPTION:
URL:https://www.goodshepherdblm.org/event/small-group-bible-study-49/
LOCATION:Good Shepherd Lutheran Church\, 3516 White Eagle Drive\, Bloomington\, IL\, 61704\, United States
CATEGORIES:Bible Studies
END:VEVENT
END:VCALENDAR