BEGIN:VCALENDAR
VERSION:2.0
PRODID:-//Good Shepherd Lutheran Church - ECPv6.15.13//NONSGML v1.0//EN
CALSCALE:GREGORIAN
METHOD:PUBLISH
X-ORIGINAL-URL:https://www.goodshepherdblm.org
X-WR-CALDESC:Events for Good Shepherd Lutheran Church
REFRESH-INTERVAL;VALUE=DURATION:PT1H
X-Robots-Tag:noindex
X-PUBLISHED-TTL:PT1H
BEGIN:VTIMEZONE
TZID:America/New_York
BEGIN:DAYLIGHT
TZOFFSETFROM:-0500
TZOFFSETTO:-0400
TZNAME:EDT
DTSTART:20180311T070000
END:DAYLIGHT
BEGIN:STANDARD
TZOFFSETFROM:-0400
TZOFFSETTO:-0500
TZNAME:EST
DTSTART:20181104T060000
END:STANDARD
BEGIN:DAYLIGHT
TZOFFSETFROM:-0500
TZOFFSETTO:-0400
TZNAME:EDT
DTSTART:20190310T070000
END:DAYLIGHT
BEGIN:STANDARD
TZOFFSETFROM:-0400
TZOFFSETTO:-0500
TZNAME:EST
DTSTART:20191103T060000
END:STANDARD
BEGIN:DAYLIGHT
TZOFFSETFROM:-0500
TZOFFSETTO:-0400
TZNAME:EDT
DTSTART:20200308T070000
END:DAYLIGHT
BEGIN:STANDARD
TZOFFSETFROM:-0400
TZOFFSETTO:-0500
TZNAME:EST
DTSTART:20201101T060000
END:STANDARD
END:VTIMEZONE
BEGIN:VEVENT
DTSTART;TZID=America/New_York:20190616T091500
DTEND;TZID=America/New_York:20190616T101500
DTSTAMP:20260425T160211
CREATED:20190101T234947Z
LAST-MODIFIED:20190101T234947Z
UID:5279-1560676500-1560680100@www.goodshepherdblm.org
SUMMARY:Adult Bible Study and Sunday School
DESCRIPTION:
URL:https://www.goodshepherdblm.org/event/adult-bible-study-and-sunday-school-245/
LOCATION:Good Shepherd Lutheran Church\, 3516 White Eagle Drive\, Bloomington\, IL\, 61704\, United States
CATEGORIES:Bible Studies
END:VEVENT
BEGIN:VEVENT
DTSTART;TZID=America/New_York:20190609T091500
DTEND;TZID=America/New_York:20190609T101500
DTSTAMP:20260425T160211
CREATED:20190101T234940Z
LAST-MODIFIED:20190101T234940Z
UID:5276-1560071700-1560075300@www.goodshepherdblm.org
SUMMARY:Adult Bible Study and Sunday School
DESCRIPTION:
URL:https://www.goodshepherdblm.org/event/adult-bible-study-and-sunday-school-244/
LOCATION:Good Shepherd Lutheran Church\, 3516 White Eagle Drive\, Bloomington\, IL\, 61704\, United States
CATEGORIES:Bible Studies
END:VEVENT
BEGIN:VEVENT
DTSTART;TZID=America/New_York:20190602T091500
DTEND;TZID=America/New_York:20190602T101500
DTSTAMP:20260425T160211
CREATED:20190101T234938Z
LAST-MODIFIED:20190101T234938Z
UID:5273-1559466900-1559470500@www.goodshepherdblm.org
SUMMARY:Adult Bible Study and Sunday School
DESCRIPTION:
URL:https://www.goodshepherdblm.org/event/adult-bible-study-and-sunday-school-243/
LOCATION:Good Shepherd Lutheran Church\, 3516 White Eagle Drive\, Bloomington\, IL\, 61704\, United States
CATEGORIES:Bible Studies
END:VEVENT
BEGIN:VEVENT
DTSTART;TZID=America/New_York:20190526T091500
DTEND;TZID=America/New_York:20190526T101500
DTSTAMP:20260425T160211
CREATED:20190101T234911Z
LAST-MODIFIED:20190101T234911Z
UID:5269-1558862100-1558865700@www.goodshepherdblm.org
SUMMARY:Adult Bible Study and Sunday School
DESCRIPTION:
URL:https://www.goodshepherdblm.org/event/adult-bible-study-and-sunday-school-242/
LOCATION:Good Shepherd Lutheran Church\, 3516 White Eagle Drive\, Bloomington\, IL\, 61704\, United States
CATEGORIES:Bible Studies
END:VEVENT
BEGIN:VEVENT
DTSTART;TZID=America/New_York:20190521T093000
DTEND;TZID=America/New_York:20190521T103000
DTSTAMP:20260425T160211
CREATED:20190507T145952Z
LAST-MODIFIED:20190507T145952Z
UID:5806-1558431000-1558434600@www.goodshepherdblm.org
SUMMARY:Ladies' Morning Bible Study
DESCRIPTION:
URL:https://www.goodshepherdblm.org/event/ladies-morning-bible-study-36/
LOCATION:Good Shepherd Lutheran Church\, 3516 White Eagle Drive\, Bloomington\, IL\, 61704\, United States
CATEGORIES:Bible Studies
END:VEVENT
BEGIN:VEVENT
DTSTART;TZID=America/New_York:20190519T091500
DTEND;TZID=America/New_York:20190519T101500
DTSTAMP:20260425T160211
CREATED:20190101T234905Z
LAST-MODIFIED:20190101T234905Z
UID:5266-1558257300-1558260900@www.goodshepherdblm.org
SUMMARY:Adult Bible Study and Sunday School
DESCRIPTION:
URL:https://www.goodshepherdblm.org/event/adult-bible-study-and-sunday-school-241/
LOCATION:Good Shepherd Lutheran Church\, 3516 White Eagle Drive\, Bloomington\, IL\, 61704\, United States
CATEGORIES:Bible Studies
END:VEVENT
BEGIN:VEVENT
DTSTART;TZID=America/New_York:20190512T091500
DTEND;TZID=America/New_York:20190512T101500
DTSTAMP:20260425T160211
CREATED:20190101T234855Z
LAST-MODIFIED:20190101T234855Z
UID:5263-1557652500-1557656100@www.goodshepherdblm.org
SUMMARY:Adult Bible Study and Sunday School
DESCRIPTION:
URL:https://www.goodshepherdblm.org/event/adult-bible-study-and-sunday-school-240/
LOCATION:Good Shepherd Lutheran Church\, 3516 White Eagle Drive\, Bloomington\, IL\, 61704\, United States
CATEGORIES:Bible Studies
END:VEVENT
BEGIN:VEVENT
DTSTART;TZID=America/New_York:20190505T091500
DTEND;TZID=America/New_York:20190505T101500
DTSTAMP:20260425T160211
CREATED:20190101T234854Z
LAST-MODIFIED:20190101T234854Z
UID:5260-1557047700-1557051300@www.goodshepherdblm.org
SUMMARY:Adult Bible Study and Sunday School
DESCRIPTION:
URL:https://www.goodshepherdblm.org/event/adult-bible-study-and-sunday-school-239/
LOCATION:Good Shepherd Lutheran Church\, 3516 White Eagle Drive\, Bloomington\, IL\, 61704\, United States
CATEGORIES:Bible Studies
END:VEVENT
BEGIN:VEVENT
DTSTART;TZID=America/New_York:20190428T091500
DTEND;TZID=America/New_York:20190428T101500
DTSTAMP:20260425T160211
CREATED:20190101T234838Z
LAST-MODIFIED:20190101T234838Z
UID:5256-1556442900-1556446500@www.goodshepherdblm.org
SUMMARY:Adult Bible Study and Sunday School
DESCRIPTION:
URL:https://www.goodshepherdblm.org/event/adult-bible-study-and-sunday-school-238/
LOCATION:Good Shepherd Lutheran Church\, 3516 White Eagle Drive\, Bloomington\, IL\, 61704\, United States
CATEGORIES:Bible Studies
END:VEVENT
BEGIN:VEVENT
DTSTART;TZID=America/New_York:20190421T091500
DTEND;TZID=America/New_York:20190421T101500
DTSTAMP:20260425T160211
CREATED:20190101T234834Z
LAST-MODIFIED:20190101T234834Z
UID:5253-1555838100-1555841700@www.goodshepherdblm.org
SUMMARY:Adult Bible Study and Sunday School
DESCRIPTION:
URL:https://www.goodshepherdblm.org/event/adult-bible-study-and-sunday-school-237/
LOCATION:Good Shepherd Lutheran Church\, 3516 White Eagle Drive\, Bloomington\, IL\, 61704\, United States
CATEGORIES:Bible Studies
END:VEVENT
BEGIN:VEVENT
DTSTART;TZID=America/New_York:20190416T093000
DTEND;TZID=America/New_York:20190416T103000
DTSTAMP:20260425T160211
CREATED:20190329T163111Z
LAST-MODIFIED:20190329T163111Z
UID:5673-1555407000-1555410600@www.goodshepherdblm.org
SUMMARY:Ladies Morning Bible Study
DESCRIPTION:
URL:https://www.goodshepherdblm.org/event/ladies-morning-bible-study-35/
LOCATION:Good Shepherd Lutheran Church\, 3516 White Eagle Drive\, Bloomington\, IL\, 61704\, United States
CATEGORIES:Bible Studies
END:VEVENT
BEGIN:VEVENT
DTSTART;TZID=America/New_York:20190414T170000
DTEND;TZID=America/New_York:20190414T170000
DTSTAMP:20260425T160211
CREATED:20190329T164448Z
LAST-MODIFIED:20190329T164448Z
UID:5686-1555261200-1555261200@www.goodshepherdblm.org
SUMMARY:Small Group Bible Study
DESCRIPTION:
URL:https://www.goodshepherdblm.org/event/small-group-bible-study-32/
LOCATION:Good Shepherd Lutheran Church\, 3516 White Eagle Drive\, Bloomington\, IL\, 61704\, United States
CATEGORIES:Bible Studies
END:VEVENT
BEGIN:VEVENT
DTSTART;TZID=America/New_York:20190414T091500
DTEND;TZID=America/New_York:20190414T101500
DTSTAMP:20260425T160211
CREATED:20190101T234826Z
LAST-MODIFIED:20190101T234826Z
UID:5250-1555233300-1555236900@www.goodshepherdblm.org
SUMMARY:Adult Bible Study and Sunday School
DESCRIPTION:
URL:https://www.goodshepherdblm.org/event/adult-bible-study-and-sunday-school-236/
LOCATION:Good Shepherd Lutheran Church\, 3516 White Eagle Drive\, Bloomington\, IL\, 61704\, United States
CATEGORIES:Bible Studies
END:VEVENT
BEGIN:VEVENT
DTSTART;TZID=America/New_York:20190407T091500
DTEND;TZID=America/New_York:20190407T101500
DTSTAMP:20260425T160211
CREATED:20190101T234825Z
LAST-MODIFIED:20190101T234825Z
UID:5247-1554628500-1554632100@www.goodshepherdblm.org
SUMMARY:Adult Bible Study and Sunday School
DESCRIPTION:
URL:https://www.goodshepherdblm.org/event/adult-bible-study-and-sunday-school-235/
LOCATION:Good Shepherd Lutheran Church\, 3516 White Eagle Drive\, Bloomington\, IL\, 61704\, United States
CATEGORIES:Bible Studies
END:VEVENT
BEGIN:VEVENT
DTSTART;TZID=America/New_York:20190331T091500
DTEND;TZID=America/New_York:20190331T101500
DTSTAMP:20260425T160211
CREATED:20190101T234753Z
LAST-MODIFIED:20190101T234753Z
UID:5243-1554023700-1554027300@www.goodshepherdblm.org
SUMMARY:Adult Bible Study and Sunday School
DESCRIPTION:
URL:https://www.goodshepherdblm.org/event/adult-bible-study-and-sunday-school-234/
LOCATION:Good Shepherd Lutheran Church\, 3516 White Eagle Drive\, Bloomington\, IL\, 61704\, United States
CATEGORIES:Bible Studies
END:VEVENT
BEGIN:VEVENT
DTSTART;TZID=America/New_York:20190324T170000
DTEND;TZID=America/New_York:20190324T170000
DTSTAMP:20260425T160211
CREATED:20190225T192853Z
LAST-MODIFIED:20190225T192853Z
UID:5559-1553446800-1553446800@www.goodshepherdblm.org
SUMMARY:Small Group Bible Study
DESCRIPTION:
URL:https://www.goodshepherdblm.org/event/small-group-bible-study-31/
LOCATION:Good Shepherd Lutheran Church\, 3516 White Eagle Drive\, Bloomington\, IL\, 61704\, United States
CATEGORIES:Bible Studies
END:VEVENT
BEGIN:VEVENT
DTSTART;TZID=America/New_York:20190324T091500
DTEND;TZID=America/New_York:20190324T101500
DTSTAMP:20260425T160211
CREATED:20190101T234751Z
LAST-MODIFIED:20190101T234751Z
UID:5240-1553418900-1553422500@www.goodshepherdblm.org
SUMMARY:Adult Bible Study and Sunday School
DESCRIPTION:
URL:https://www.goodshepherdblm.org/event/adult-bible-study-and-sunday-school-233/
LOCATION:Good Shepherd Lutheran Church\, 3516 White Eagle Drive\, Bloomington\, IL\, 61704\, United States
CATEGORIES:Bible Studies
END:VEVENT
BEGIN:VEVENT
DTSTART;TZID=America/New_York:20190319T093000
DTEND;TZID=America/New_York:20190319T103000
DTSTAMP:20260425T160211
CREATED:20190225T190340Z
LAST-MODIFIED:20190225T190340Z
UID:5539-1552987800-1552991400@www.goodshepherdblm.org
SUMMARY:Ladies Morning Bible Study
DESCRIPTION:
URL:https://www.goodshepherdblm.org/event/ladies-morning-bible-study-34/
LOCATION:Good Shepherd Lutheran Church\, 3516 White Eagle Drive\, Bloomington\, IL\, 61704\, United States
CATEGORIES:Bible Studies
END:VEVENT
BEGIN:VEVENT
DTSTART;TZID=America/New_York:20190317T091500
DTEND;TZID=America/New_York:20190317T101500
DTSTAMP:20260425T160211
CREATED:20190101T234745Z
LAST-MODIFIED:20190101T234745Z
UID:5237-1552814100-1552817700@www.goodshepherdblm.org
SUMMARY:Adult Bible Study and Sunday School
DESCRIPTION:
URL:https://www.goodshepherdblm.org/event/adult-bible-study-and-sunday-school-232/
LOCATION:Good Shepherd Lutheran Church\, 3516 White Eagle Drive\, Bloomington\, IL\, 61704\, United States
CATEGORIES:Bible Studies
END:VEVENT
BEGIN:VEVENT
DTSTART;TZID=America/New_York:20190310T170000
DTEND;TZID=America/New_York:20190310T170000
DTSTAMP:20260425T160211
CREATED:20190225T192642Z
LAST-MODIFIED:20190225T192642Z
UID:5557-1552237200-1552237200@www.goodshepherdblm.org
SUMMARY:Small Group Bible Study
DESCRIPTION:
URL:https://www.goodshepherdblm.org/event/small-group-bible-study-30/
LOCATION:Good Shepherd Lutheran Church\, 3516 White Eagle Drive\, Bloomington\, IL\, 61704\, United States
CATEGORIES:Bible Studies
END:VEVENT
BEGIN:VEVENT
DTSTART;TZID=America/New_York:20190310T091500
DTEND;TZID=America/New_York:20190310T101500
DTSTAMP:20260425T160211
CREATED:20190101T234736Z
LAST-MODIFIED:20190101T234736Z
UID:5234-1552209300-1552212900@www.goodshepherdblm.org
SUMMARY:Adult Bible Study and Sunday School
DESCRIPTION:
URL:https://www.goodshepherdblm.org/event/adult-bible-study-and-sunday-school-231/
LOCATION:Good Shepherd Lutheran Church\, 3516 White Eagle Drive\, Bloomington\, IL\, 61704\, United States
CATEGORIES:Bible Studies
END:VEVENT
BEGIN:VEVENT
DTSTART;TZID=America/New_York:20190303T091500
DTEND;TZID=America/New_York:20190303T101500
DTSTAMP:20260425T160211
CREATED:20190101T234735Z
LAST-MODIFIED:20190101T234735Z
UID:5231-1551604500-1551608100@www.goodshepherdblm.org
SUMMARY:Adult Bible Study and Sunday School
DESCRIPTION:
URL:https://www.goodshepherdblm.org/event/adult-bible-study-and-sunday-school-230/
LOCATION:Good Shepherd Lutheran Church\, 3516 White Eagle Drive\, Bloomington\, IL\, 61704\, United States
CATEGORIES:Bible Studies
END:VEVENT
BEGIN:VEVENT
DTSTART;TZID=America/New_York:20190224T170000
DTEND;TZID=America/New_York:20190224T170000
DTSTAMP:20260425T160211
CREATED:20190131T030213Z
LAST-MODIFIED:20190131T030213Z
UID:5439-1551027600-1551027600@www.goodshepherdblm.org
SUMMARY:Small Group Bible Study
DESCRIPTION:
URL:https://www.goodshepherdblm.org/event/small-group-bible-study-29/
LOCATION:Good Shepherd Lutheran Church\, 3516 White Eagle Drive\, Bloomington\, IL\, 61704\, United States
CATEGORIES:Bible Studies
END:VEVENT
BEGIN:VEVENT
DTSTART;TZID=America/New_York:20190224T091500
DTEND;TZID=America/New_York:20190224T101500
DTSTAMP:20260425T160211
CREATED:20190101T234656Z
LAST-MODIFIED:20190101T234656Z
UID:5227-1550999700-1551003300@www.goodshepherdblm.org
SUMMARY:Adult Bible Study and Sunday School
DESCRIPTION:
URL:https://www.goodshepherdblm.org/event/adult-bible-study-and-sunday-school-229/
LOCATION:Good Shepherd Lutheran Church\, 3516 White Eagle Drive\, Bloomington\, IL\, 61704\, United States
CATEGORIES:Bible Studies
END:VEVENT
BEGIN:VEVENT
DTSTART;TZID=America/New_York:20190219T093000
DTEND;TZID=America/New_York:20190219T103000
DTSTAMP:20260425T160211
CREATED:20190131T025959Z
LAST-MODIFIED:20190131T025959Z
UID:5435-1550568600-1550572200@www.goodshepherdblm.org
SUMMARY:Ladies Morning Bible Study
DESCRIPTION:
URL:https://www.goodshepherdblm.org/event/ladies-morning-bible-study-33/
LOCATION:Good Shepherd Lutheran Church\, 3516 White Eagle Drive\, Bloomington\, IL\, 61704\, United States
CATEGORIES:Bible Studies
END:VEVENT
BEGIN:VEVENT
DTSTART;TZID=America/New_York:20190217T091500
DTEND;TZID=America/New_York:20190217T101500
DTSTAMP:20260425T160211
CREATED:20190101T234653Z
LAST-MODIFIED:20190101T234653Z
UID:5224-1550394900-1550398500@www.goodshepherdblm.org
SUMMARY:Adult Bible Study and Sunday School
DESCRIPTION:
URL:https://www.goodshepherdblm.org/event/adult-bible-study-and-sunday-school-228/
LOCATION:Good Shepherd Lutheran Church\, 3516 White Eagle Drive\, Bloomington\, IL\, 61704\, United States
CATEGORIES:Bible Studies
END:VEVENT
BEGIN:VEVENT
DTSTART;TZID=America/New_York:20190210T170000
DTEND;TZID=America/New_York:20190210T170000
DTSTAMP:20260425T160211
CREATED:20190131T015058Z
LAST-MODIFIED:20190131T015058Z
UID:5416-1549818000-1549818000@www.goodshepherdblm.org
SUMMARY:Small Group Bible Study
DESCRIPTION:
URL:https://www.goodshepherdblm.org/event/small-group-bible-study-28/
LOCATION:Good Shepherd Lutheran Church\, 3516 White Eagle Drive\, Bloomington\, IL\, 61704\, United States
CATEGORIES:Bible Studies
END:VEVENT
BEGIN:VEVENT
DTSTART;TZID=America/New_York:20190210T091500
DTEND;TZID=America/New_York:20190210T101500
DTSTAMP:20260425T160211
CREATED:20190101T234648Z
LAST-MODIFIED:20190101T234648Z
UID:5221-1549790100-1549793700@www.goodshepherdblm.org
SUMMARY:Adult Bible Study and Sunday School
DESCRIPTION:
URL:https://www.goodshepherdblm.org/event/adult-bible-study-and-sunday-school-227/
LOCATION:Good Shepherd Lutheran Church\, 3516 White Eagle Drive\, Bloomington\, IL\, 61704\, United States
CATEGORIES:Bible Studies
END:VEVENT
BEGIN:VEVENT
DTSTART;TZID=America/New_York:20190203T091500
DTEND;TZID=America/New_York:20190203T101500
DTSTAMP:20260425T160211
CREATED:20190101T234646Z
LAST-MODIFIED:20190101T234646Z
UID:5218-1549185300-1549188900@www.goodshepherdblm.org
SUMMARY:Adult Bible Study and Sunday School
DESCRIPTION:
URL:https://www.goodshepherdblm.org/event/adult-bible-study-and-sunday-school-226/
LOCATION:Good Shepherd Lutheran Church\, 3516 White Eagle Drive\, Bloomington\, IL\, 61704\, United States
CATEGORIES:Bible Studies
END:VEVENT
BEGIN:VEVENT
DTSTART;TZID=America/New_York:20190127T170000
DTEND;TZID=America/New_York:20190127T170000
DTSTAMP:20260425T160211
CREATED:20190101T225800Z
LAST-MODIFIED:20190101T225800Z
UID:5199-1548608400-1548608400@www.goodshepherdblm.org
SUMMARY:Small Group Bible Study
DESCRIPTION:
URL:https://www.goodshepherdblm.org/event/small-group-bible-study-27/
LOCATION:Good Shepherd Lutheran Church\, 3516 White Eagle Drive\, Bloomington\, IL\, 61704\, United States
CATEGORIES:Bible Studies
END:VEVENT
END:VCALENDAR