BEGIN:VCALENDAR
VERSION:2.0
PRODID:-//Good Shepherd Lutheran Church - ECPv6.15.13//NONSGML v1.0//EN
CALSCALE:GREGORIAN
METHOD:PUBLISH
X-ORIGINAL-URL:https://www.goodshepherdblm.org
X-WR-CALDESC:Events for Good Shepherd Lutheran Church
REFRESH-INTERVAL;VALUE=DURATION:PT1H
X-Robots-Tag:noindex
X-PUBLISHED-TTL:PT1H
BEGIN:VTIMEZONE
TZID:America/New_York
BEGIN:DAYLIGHT
TZOFFSETFROM:-0500
TZOFFSETTO:-0400
TZNAME:EDT
DTSTART:20180311T070000
END:DAYLIGHT
BEGIN:STANDARD
TZOFFSETFROM:-0400
TZOFFSETTO:-0500
TZNAME:EST
DTSTART:20181104T060000
END:STANDARD
BEGIN:DAYLIGHT
TZOFFSETFROM:-0500
TZOFFSETTO:-0400
TZNAME:EDT
DTSTART:20190310T070000
END:DAYLIGHT
BEGIN:STANDARD
TZOFFSETFROM:-0400
TZOFFSETTO:-0500
TZNAME:EST
DTSTART:20191103T060000
END:STANDARD
BEGIN:DAYLIGHT
TZOFFSETFROM:-0500
TZOFFSETTO:-0400
TZNAME:EDT
DTSTART:20200308T070000
END:DAYLIGHT
BEGIN:STANDARD
TZOFFSETFROM:-0400
TZOFFSETTO:-0500
TZNAME:EST
DTSTART:20201101T060000
END:STANDARD
BEGIN:DAYLIGHT
TZOFFSETFROM:-0500
TZOFFSETTO:-0400
TZNAME:EDT
DTSTART:20210314T070000
END:DAYLIGHT
BEGIN:STANDARD
TZOFFSETFROM:-0400
TZOFFSETTO:-0500
TZNAME:EST
DTSTART:20211107T060000
END:STANDARD
END:VTIMEZONE
BEGIN:VTIMEZONE
TZID:America/Chicago
BEGIN:DAYLIGHT
TZOFFSETFROM:-0600
TZOFFSETTO:-0500
TZNAME:CDT
DTSTART:20180311T080000
END:DAYLIGHT
BEGIN:STANDARD
TZOFFSETFROM:-0500
TZOFFSETTO:-0600
TZNAME:CST
DTSTART:20181104T070000
END:STANDARD
BEGIN:DAYLIGHT
TZOFFSETFROM:-0600
TZOFFSETTO:-0500
TZNAME:CDT
DTSTART:20190310T080000
END:DAYLIGHT
BEGIN:STANDARD
TZOFFSETFROM:-0500
TZOFFSETTO:-0600
TZNAME:CST
DTSTART:20191103T070000
END:STANDARD
BEGIN:DAYLIGHT
TZOFFSETFROM:-0600
TZOFFSETTO:-0500
TZNAME:CDT
DTSTART:20200308T080000
END:DAYLIGHT
BEGIN:STANDARD
TZOFFSETFROM:-0500
TZOFFSETTO:-0600
TZNAME:CST
DTSTART:20201101T070000
END:STANDARD
END:VTIMEZONE
BEGIN:VEVENT
DTSTART;TZID=America/New_York:20200105T091500
DTEND;TZID=America/New_York:20200105T101500
DTSTAMP:20260425T053717
CREATED:20190101T235452Z
LAST-MODIFIED:20190101T235452Z
UID:5373-1578215700-1578219300@www.goodshepherdblm.org
SUMMARY:Adult Bible Study and Sunday School
DESCRIPTION:
URL:https://www.goodshepherdblm.org/event/adult-bible-study-and-sunday-school-274/
LOCATION:Good Shepherd Lutheran Church\, 3516 White Eagle Drive\, Bloomington\, IL\, 61704\, United States
CATEGORIES:Bible Studies
END:VEVENT
BEGIN:VEVENT
DTSTART;TZID=America/New_York:20191229T091500
DTEND;TZID=America/New_York:20191229T101500
DTSTAMP:20260425T053717
CREATED:20190101T235436Z
LAST-MODIFIED:20190101T235436Z
UID:5369-1577610900-1577614500@www.goodshepherdblm.org
SUMMARY:Adult Bible Study and Sunday School
DESCRIPTION:
URL:https://www.goodshepherdblm.org/event/adult-bible-study-and-sunday-school-273/
LOCATION:Good Shepherd Lutheran Church\, 3516 White Eagle Drive\, Bloomington\, IL\, 61704\, United States
CATEGORIES:Bible Studies
END:VEVENT
BEGIN:VEVENT
DTSTART;TZID=America/New_York:20191222T091500
DTEND;TZID=America/New_York:20191222T101500
DTSTAMP:20260425T053717
CREATED:20190101T235434Z
LAST-MODIFIED:20190101T235434Z
UID:5366-1577006100-1577009700@www.goodshepherdblm.org
SUMMARY:Adult Bible Study and Sunday School
DESCRIPTION:
URL:https://www.goodshepherdblm.org/event/adult-bible-study-and-sunday-school-272/
LOCATION:Good Shepherd Lutheran Church\, 3516 White Eagle Drive\, Bloomington\, IL\, 61704\, United States
CATEGORIES:Bible Studies
END:VEVENT
BEGIN:VEVENT
DTSTART;TZID=America/New_York:20191215T091500
DTEND;TZID=America/New_York:20191215T101500
DTSTAMP:20260425T053717
CREATED:20190101T235427Z
LAST-MODIFIED:20190101T235427Z
UID:5363-1576401300-1576404900@www.goodshepherdblm.org
SUMMARY:Adult Bible Study and Sunday School
DESCRIPTION:
URL:https://www.goodshepherdblm.org/event/adult-bible-study-and-sunday-school-271/
LOCATION:Good Shepherd Lutheran Church\, 3516 White Eagle Drive\, Bloomington\, IL\, 61704\, United States
CATEGORIES:Bible Studies
END:VEVENT
BEGIN:VEVENT
DTSTART;TZID=America/Chicago:20191210T093000
DTEND;TZID=America/Chicago:20191210T103000
DTSTAMP:20260425T053717
CREATED:20191125T160202Z
LAST-MODIFIED:20191125T160202Z
UID:6370-1575970200-1575973800@www.goodshepherdblm.org
SUMMARY:Ladies Morning Bible Study
DESCRIPTION:
URL:https://www.goodshepherdblm.org/event/ladies-morning-bible-study-40/
LOCATION:Good Shepherd Lutheran Church\, 3516 White Eagle Drive\, Bloomington\, IL\, 61704\, United States
CATEGORIES:Bible Studies
END:VEVENT
BEGIN:VEVENT
DTSTART;TZID=America/New_York:20191208T091500
DTEND;TZID=America/New_York:20191208T101500
DTSTAMP:20260425T053717
CREATED:20190101T235417Z
LAST-MODIFIED:20190101T235417Z
UID:5360-1575796500-1575800100@www.goodshepherdblm.org
SUMMARY:Adult Bible Study and Sunday School
DESCRIPTION:
URL:https://www.goodshepherdblm.org/event/adult-bible-study-and-sunday-school-270/
LOCATION:Good Shepherd Lutheran Church\, 3516 White Eagle Drive\, Bloomington\, IL\, 61704\, United States
CATEGORIES:Bible Studies
END:VEVENT
BEGIN:VEVENT
DTSTART;TZID=America/New_York:20191201T091500
DTEND;TZID=America/New_York:20191201T101500
DTSTAMP:20260425T053717
CREATED:20190101T235415Z
LAST-MODIFIED:20190101T235415Z
UID:5357-1575191700-1575195300@www.goodshepherdblm.org
SUMMARY:Adult Bible Study and Sunday School
DESCRIPTION:
URL:https://www.goodshepherdblm.org/event/adult-bible-study-and-sunday-school-269/
LOCATION:Good Shepherd Lutheran Church\, 3516 White Eagle Drive\, Bloomington\, IL\, 61704\, United States
CATEGORIES:Bible Studies
END:VEVENT
BEGIN:VEVENT
DTSTART;TZID=America/Chicago:20191124T170000
DTEND;TZID=America/Chicago:20191124T170000
DTSTAMP:20260425T053717
CREATED:20191024T144624Z
LAST-MODIFIED:20191024T144624Z
UID:6277-1574614800-1574614800@www.goodshepherdblm.org
SUMMARY:Small Group Bible Study
DESCRIPTION:
URL:https://www.goodshepherdblm.org/event/small-group-bible-study-37/
LOCATION:Good Shepherd Lutheran Church\, 3516 White Eagle Drive\, Bloomington\, IL\, 61704\, United States
CATEGORIES:Bible Studies
END:VEVENT
BEGIN:VEVENT
DTSTART;TZID=America/New_York:20191124T091500
DTEND;TZID=America/New_York:20191124T101500
DTSTAMP:20260425T053717
CREATED:20190101T235348Z
LAST-MODIFIED:20190101T235348Z
UID:5353-1574586900-1574590500@www.goodshepherdblm.org
SUMMARY:Adult Bible Study and Sunday School
DESCRIPTION:
URL:https://www.goodshepherdblm.org/event/adult-bible-study-and-sunday-school-268/
LOCATION:Good Shepherd Lutheran Church\, 3516 White Eagle Drive\, Bloomington\, IL\, 61704\, United States
CATEGORIES:Bible Studies
END:VEVENT
BEGIN:VEVENT
DTSTART;TZID=America/Chicago:20191119T093000
DTEND;TZID=America/Chicago:20191119T103000
DTSTAMP:20260425T053717
CREATED:20191024T144349Z
LAST-MODIFIED:20191024T144349Z
UID:6273-1574155800-1574159400@www.goodshepherdblm.org
SUMMARY:Ladies' Morning Bible Study
DESCRIPTION:
URL:https://www.goodshepherdblm.org/event/ladies-morning-bible-study-39/
LOCATION:Good Shepherd Lutheran Church\, 3516 White Eagle Drive\, Bloomington\, IL\, 61704\, United States
CATEGORIES:Bible Studies
END:VEVENT
BEGIN:VEVENT
DTSTART;TZID=America/New_York:20191117T091500
DTEND;TZID=America/New_York:20191117T101500
DTSTAMP:20260425T053717
CREATED:20190101T235342Z
LAST-MODIFIED:20190101T235342Z
UID:5350-1573982100-1573985700@www.goodshepherdblm.org
SUMMARY:Adult Bible Study and Sunday School
DESCRIPTION:
URL:https://www.goodshepherdblm.org/event/adult-bible-study-and-sunday-school-267/
LOCATION:Good Shepherd Lutheran Church\, 3516 White Eagle Drive\, Bloomington\, IL\, 61704\, United States
CATEGORIES:Bible Studies
END:VEVENT
BEGIN:VEVENT
DTSTART;TZID=America/Chicago:20191110T170000
DTEND;TZID=America/Chicago:20191110T170000
DTSTAMP:20260425T053717
CREATED:20191024T144055Z
LAST-MODIFIED:20191024T144055Z
UID:6269-1573405200-1573405200@www.goodshepherdblm.org
SUMMARY:Small Group Bible Study
DESCRIPTION:
URL:https://www.goodshepherdblm.org/event/small-group-bible-study-36/
LOCATION:Good Shepherd Lutheran Church\, 3516 White Eagle Drive\, Bloomington\, IL\, 61704\, United States
CATEGORIES:Bible Studies
END:VEVENT
BEGIN:VEVENT
DTSTART;TZID=America/New_York:20191110T091500
DTEND;TZID=America/New_York:20191110T101500
DTSTAMP:20260425T053717
CREATED:20190101T235332Z
LAST-MODIFIED:20190101T235332Z
UID:5347-1573377300-1573380900@www.goodshepherdblm.org
SUMMARY:Adult Bible Study and Sunday School
DESCRIPTION:
URL:https://www.goodshepherdblm.org/event/adult-bible-study-and-sunday-school-266/
LOCATION:Good Shepherd Lutheran Church\, 3516 White Eagle Drive\, Bloomington\, IL\, 61704\, United States
CATEGORIES:Bible Studies
END:VEVENT
BEGIN:VEVENT
DTSTART;TZID=America/New_York:20191103T091500
DTEND;TZID=America/New_York:20191103T101500
DTSTAMP:20260425T053717
CREATED:20190101T235331Z
LAST-MODIFIED:20190101T235331Z
UID:5344-1572772500-1572776100@www.goodshepherdblm.org
SUMMARY:Adult Bible Study and Sunday School
DESCRIPTION:
URL:https://www.goodshepherdblm.org/event/adult-bible-study-and-sunday-school-265/
LOCATION:Good Shepherd Lutheran Church\, 3516 White Eagle Drive\, Bloomington\, IL\, 61704\, United States
CATEGORIES:Bible Studies
END:VEVENT
BEGIN:VEVENT
DTSTART;TZID=America/New_York:20191027T091500
DTEND;TZID=America/New_York:20191027T101500
DTSTAMP:20260425T053717
CREATED:20190101T235259Z
LAST-MODIFIED:20190101T235259Z
UID:5340-1572167700-1572171300@www.goodshepherdblm.org
SUMMARY:Adult Bible Study and Sunday School
DESCRIPTION:
URL:https://www.goodshepherdblm.org/event/adult-bible-study-and-sunday-school-264/
LOCATION:Good Shepherd Lutheran Church\, 3516 White Eagle Drive\, Bloomington\, IL\, 61704\, United States
CATEGORIES:Bible Studies
END:VEVENT
BEGIN:VEVENT
DTSTART;TZID=America/New_York:20191020T091500
DTEND;TZID=America/New_York:20191020T101500
DTSTAMP:20260425T053717
CREATED:20190101T235257Z
LAST-MODIFIED:20190101T235257Z
UID:5337-1571562900-1571566500@www.goodshepherdblm.org
SUMMARY:Adult Bible Study and Sunday School
DESCRIPTION:
URL:https://www.goodshepherdblm.org/event/adult-bible-study-and-sunday-school-263/
LOCATION:Good Shepherd Lutheran Church\, 3516 White Eagle Drive\, Bloomington\, IL\, 61704\, United States
CATEGORIES:Bible Studies
END:VEVENT
BEGIN:VEVENT
DTSTART;TZID=America/Chicago:20191015T093000
DTEND;TZID=America/Chicago:20191015T103000
DTSTAMP:20260425T053717
CREATED:20190924T174609Z
LAST-MODIFIED:20190924T174609Z
UID:6182-1571131800-1571135400@www.goodshepherdblm.org
SUMMARY:Ladies Morning Bible Study
DESCRIPTION:
URL:https://www.goodshepherdblm.org/event/ladies-morning-bible-study-38/
LOCATION:Good Shepherd Lutheran Church\, 3516 White Eagle Drive\, Bloomington\, IL\, 61704\, United States
CATEGORIES:Bible Studies
END:VEVENT
BEGIN:VEVENT
DTSTART;TZID=America/Chicago:20191013T170000
DTEND;TZID=America/Chicago:20191013T170000
DTSTAMP:20260425T053717
CREATED:20190925T153717Z
LAST-MODIFIED:20190925T153717Z
UID:6190-1570986000-1570986000@www.goodshepherdblm.org
SUMMARY:Small Group Bible Study
DESCRIPTION:
URL:https://www.goodshepherdblm.org/event/small-group-bible-study-35/
LOCATION:Good Shepherd Lutheran Church\, 3516 White Eagle Drive\, Bloomington\, IL\, 61704\, United States
CATEGORIES:Bible Studies
END:VEVENT
BEGIN:VEVENT
DTSTART;TZID=America/New_York:20191013T091500
DTEND;TZID=America/New_York:20191013T101500
DTSTAMP:20260425T053717
CREATED:20190101T235246Z
LAST-MODIFIED:20190101T235246Z
UID:5334-1570958100-1570961700@www.goodshepherdblm.org
SUMMARY:Adult Bible Study and Sunday School
DESCRIPTION:
URL:https://www.goodshepherdblm.org/event/adult-bible-study-and-sunday-school-262/
LOCATION:Good Shepherd Lutheran Church\, 3516 White Eagle Drive\, Bloomington\, IL\, 61704\, United States
CATEGORIES:Bible Studies
END:VEVENT
BEGIN:VEVENT
DTSTART;TZID=America/New_York:20191006T091500
DTEND;TZID=America/New_York:20191006T101500
DTSTAMP:20260425T053717
CREATED:20190101T235245Z
LAST-MODIFIED:20190101T235245Z
UID:5331-1570353300-1570356900@www.goodshepherdblm.org
SUMMARY:Adult Bible Study and Sunday School
DESCRIPTION:
URL:https://www.goodshepherdblm.org/event/adult-bible-study-and-sunday-school-261/
LOCATION:Good Shepherd Lutheran Church\, 3516 White Eagle Drive\, Bloomington\, IL\, 61704\, United States
CATEGORIES:Bible Studies
END:VEVENT
BEGIN:VEVENT
DTSTART;TZID=America/Chicago:20190922T170000
DTEND;TZID=America/Chicago:20190922T170000
DTSTAMP:20260425T053717
CREATED:20190819T160458Z
LAST-MODIFIED:20190819T160458Z
UID:6064-1569171600-1569171600@www.goodshepherdblm.org
SUMMARY:Small Group Bible Study
DESCRIPTION:
URL:https://www.goodshepherdblm.org/event/small-group-bible-study-34/
LOCATION:Good Shepherd Lutheran Church\, 3516 White Eagle Drive\, Bloomington\, IL\, 61704\, United States
CATEGORIES:Bible Studies
END:VEVENT
BEGIN:VEVENT
DTSTART;TZID=America/Chicago:20190917T093000
DTEND;TZID=America/Chicago:20190917T103000
DTSTAMP:20260425T053717
CREATED:20190819T160135Z
LAST-MODIFIED:20190819T160135Z
UID:6058-1568712600-1568716200@www.goodshepherdblm.org
SUMMARY:Ladies Morning Bible Study
DESCRIPTION:
URL:https://www.goodshepherdblm.org/event/ladies-morning-bible-study-37/
LOCATION:Good Shepherd Lutheran Church\, 3516 White Eagle Drive\, Bloomington\, IL\, 61704\, United States
CATEGORIES:Bible Studies
END:VEVENT
BEGIN:VEVENT
DTSTART;TZID=America/New_York:20190915T091500
DTEND;TZID=America/New_York:20190915T101500
DTSTAMP:20260425T053717
CREATED:20190101T235219Z
LAST-MODIFIED:20190101T235219Z
UID:5321-1568538900-1568542500@www.goodshepherdblm.org
SUMMARY:Adult Bible Study and Sunday School
DESCRIPTION:
URL:https://www.goodshepherdblm.org/event/adult-bible-study-and-sunday-school-258/
LOCATION:Good Shepherd Lutheran Church\, 3516 White Eagle Drive\, Bloomington\, IL\, 61704\, United States
CATEGORIES:Bible Studies
END:VEVENT
BEGIN:VEVENT
DTSTART;TZID=America/Chicago:20190908T170000
DTEND;TZID=America/Chicago:20190908T170000
DTSTAMP:20260425T053717
CREATED:20190819T155201Z
LAST-MODIFIED:20190819T155201Z
UID:6047-1567962000-1567962000@www.goodshepherdblm.org
SUMMARY:Small Group Bible Study
DESCRIPTION:
URL:https://www.goodshepherdblm.org/event/small-group-bible-study-33/
LOCATION:Good Shepherd Lutheran Church\, 3516 White Eagle Drive\, Bloomington\, IL\, 61704\, United States
CATEGORIES:Bible Studies
END:VEVENT
BEGIN:VEVENT
DTSTART;TZID=America/New_York:20190908T091500
DTEND;TZID=America/New_York:20190908T101500
DTSTAMP:20260425T053717
CREATED:20190101T235209Z
LAST-MODIFIED:20190101T235209Z
UID:5318-1567934100-1567937700@www.goodshepherdblm.org
SUMMARY:Adult Bible Study and Sunday School
DESCRIPTION:
URL:https://www.goodshepherdblm.org/event/adult-bible-study-and-sunday-school-257/
LOCATION:Good Shepherd Lutheran Church\, 3516 White Eagle Drive\, Bloomington\, IL\, 61704\, United States
CATEGORIES:Bible Studies
END:VEVENT
BEGIN:VEVENT
DTSTART;TZID=America/New_York:20190901T091500
DTEND;TZID=America/New_York:20190901T101500
DTSTAMP:20260425T053717
CREATED:20190101T235208Z
LAST-MODIFIED:20190101T235208Z
UID:5315-1567329300-1567332900@www.goodshepherdblm.org
SUMMARY:Adult Bible Study and Sunday School
DESCRIPTION:
URL:https://www.goodshepherdblm.org/event/adult-bible-study-and-sunday-school-256/
LOCATION:Good Shepherd Lutheran Church\, 3516 White Eagle Drive\, Bloomington\, IL\, 61704\, United States
CATEGORIES:Bible Studies
END:VEVENT
BEGIN:VEVENT
DTSTART;TZID=America/New_York:20190825T091500
DTEND;TZID=America/New_York:20190825T101500
DTSTAMP:20260425T053717
CREATED:20190101T235149Z
LAST-MODIFIED:20190101T235149Z
UID:5311-1566724500-1566728100@www.goodshepherdblm.org
SUMMARY:Adult Bible Study and Sunday School
DESCRIPTION:
URL:https://www.goodshepherdblm.org/event/adult-bible-study-and-sunday-school-255/
LOCATION:Good Shepherd Lutheran Church\, 3516 White Eagle Drive\, Bloomington\, IL\, 61704\, United States
CATEGORIES:Bible Studies
END:VEVENT
BEGIN:VEVENT
DTSTART;TZID=America/New_York:20190818T091500
DTEND;TZID=America/New_York:20190818T101500
DTSTAMP:20260425T053717
CREATED:20190101T235143Z
LAST-MODIFIED:20190101T235143Z
UID:5308-1566119700-1566123300@www.goodshepherdblm.org
SUMMARY:Adult Bible Study and Sunday School
DESCRIPTION:
URL:https://www.goodshepherdblm.org/event/adult-bible-study-and-sunday-school-254/
LOCATION:Good Shepherd Lutheran Church\, 3516 White Eagle Drive\, Bloomington\, IL\, 61704\, United States
CATEGORIES:Bible Studies
END:VEVENT
BEGIN:VEVENT
DTSTART;TZID=America/New_York:20190811T091500
DTEND;TZID=America/New_York:20190811T101500
DTSTAMP:20260425T053717
CREATED:20190101T235134Z
LAST-MODIFIED:20190101T235134Z
UID:5305-1565514900-1565518500@www.goodshepherdblm.org
SUMMARY:Adult Bible Study and Sunday School
DESCRIPTION:
URL:https://www.goodshepherdblm.org/event/adult-bible-study-and-sunday-school-253/
LOCATION:Good Shepherd Lutheran Church\, 3516 White Eagle Drive\, Bloomington\, IL\, 61704\, United States
CATEGORIES:Bible Studies
END:VEVENT
BEGIN:VEVENT
DTSTART;TZID=America/New_York:20190804T091500
DTEND;TZID=America/New_York:20190804T101500
DTSTAMP:20260425T053717
CREATED:20190101T235132Z
LAST-MODIFIED:20190101T235132Z
UID:5302-1564910100-1564913700@www.goodshepherdblm.org
SUMMARY:Adult Bible Study and Sunday School
DESCRIPTION:
URL:https://www.goodshepherdblm.org/event/adult-bible-study-and-sunday-school-252/
LOCATION:Good Shepherd Lutheran Church\, 3516 White Eagle Drive\, Bloomington\, IL\, 61704\, United States
CATEGORIES:Bible Studies
END:VEVENT
END:VCALENDAR